BEGIN:VCALENDAR
VERSION:2.0
PRODID:-//www.dnesnivylet.cz                                                                                                                        Tip na výlet pro celou rodinu. - ECPv6.15.13.1//NONSGML v1.0//EN
CALSCALE:GREGORIAN
METHOD:PUBLISH
X-ORIGINAL-URL:https://dnesnivylet.cz
X-WR-CALDESC:Akce na www.dnesnivylet.cz                                                                                                                        Tip na výlet pro celou rodinu.
REFRESH-INTERVAL;VALUE=DURATION:PT1H
X-Robots-Tag:noindex
X-PUBLISHED-TTL:PT1H
BEGIN:VTIMEZONE
TZID:Europe/Prague
BEGIN:DAYLIGHT
TZOFFSETFROM:+0100
TZOFFSETTO:+0200
TZNAME:CEST
DTSTART:20240331T010000
END:DAYLIGHT
BEGIN:STANDARD
TZOFFSETFROM:+0200
TZOFFSETTO:+0100
TZNAME:CET
DTSTART:20241027T010000
END:STANDARD
BEGIN:DAYLIGHT
TZOFFSETFROM:+0100
TZOFFSETTO:+0200
TZNAME:CEST
DTSTART:20250330T010000
END:DAYLIGHT
BEGIN:STANDARD
TZOFFSETFROM:+0200
TZOFFSETTO:+0100
TZNAME:CET
DTSTART:20251026T010000
END:STANDARD
BEGIN:DAYLIGHT
TZOFFSETFROM:+0100
TZOFFSETTO:+0200
TZNAME:CEST
DTSTART:20260329T010000
END:DAYLIGHT
BEGIN:STANDARD
TZOFFSETFROM:+0200
TZOFFSETTO:+0100
TZNAME:CET
DTSTART:20261025T010000
END:STANDARD
END:VTIMEZONE
BEGIN:VEVENT
DTSTART;TZID=Europe/Prague:20251226T203000
DTEND;TZID=Europe/Prague:20251226T233000
DTSTAMP:20260420T011306
CREATED:20251102T202155Z
LAST-MODIFIED:20251102T202156Z
UID:11319-1766781000-1766791800@dnesnivylet.cz
SUMMARY:J.A.Kronek - Alband
DESCRIPTION:J.A.Kronek – Alband  se uskuteční dne 2025-12-26 v 20:30 v Uherské Hradiště\, Klub Mír. \n🎟️ Koupit vstupenku \n\nKoncertní sezóna 2025 je pro J. A. Kronek a  ALBAND ve znamení propagace nového\, třetího alba skupiny s názvem ‚Sklad hořlavin‘. \nKolekce nových písniček\, posun soundu kapely ke kytarovému rocku s důrazem na kombinaci elektrických a akustických kytar\, bonus v podobě remixu staré kernovské pecky ‚Zídka bláznů‘. To všechno najdou posluchači na novém albu\, které bude od dubna 2025 v prodeji. \nPokud jde o návštěvníky koncertů\, představí Alband výběr písniček ze své nové kolekce i naživo. K tomu ale samozřejmě přidá osvědčené hity z minulých alb. A jako vždy zavzpomíná s fanoušky i na staré dobré časy Kernu\, jehož nepřehlédnutelným frontmanem byl Jaroslav Albert Kronek\, zakladatel Albandu\, po mnoho dlouhých let. \n  \n\nTento tip na kulturní akci v Uherské Hradiště najdete v přehledu na Dnesnivylet.cz spolu s dalšími koncerty\, festivaly a divadelními představeními.Každý si vybere co se mu líbí. Nezapomeňte koupit vstupenky včas\, stačí kliknout a budete přesměrování na oficiálního prodejce vstupenek.
URL:https://dnesnivylet.cz/event/j-a-kronek-alband/
LOCATION:Klub Mír\, Uherské Hradiště\, Klub Mír\, Uherské Hradiště\, Česká republika
CATEGORIES:Koncert
ATTACH;FMTTYPE=image/jpeg:https://dnesnivylet.cz/wp-content/uploads/2025/11/320-2f693633673b433e9f1872812ccd8505.jpg
END:VEVENT
BEGIN:VEVENT
DTSTART;TZID=Europe/Prague:20251226T203000
DTEND;TZID=Europe/Prague:20251226T233000
DTSTAMP:20260420T011306
CREATED:20251211T071039Z
LAST-MODIFIED:20251211T071040Z
UID:14762-1766781000-1766791800@dnesnivylet.cz
SUMMARY:Queens of Bohemia
DESCRIPTION:Queens of Bohemia se uskuteční dne 2025-12-26 v 20:30 v Plzeň\, Anděl Music Bar. \n🎟️ Koupit vstupenku \n\nNa populární Pilsen Queen Tribute Band navazuje kapela Queens Of Bohemia\, ve které působí tři její původní členové – Filip Nováček (zpěv)\, Martin Petrášek (basa) a Michal Rajtmajer (kytara) a také nově příchozí – Ondřej Muller (bicí) a Jakub Šmaus (klávesy). Přijďte si s námi společně zazpívat\, zatančit a užít božskou hudbu nesmrtelné rockové legendy Queen!  \nZveme Vás na náš vánoční koncert do Anděl Music Bar v Plzni! \n\nTento tip na kulturní akci v Plzeň najdete v přehledu na Dnesnivylet.cz spolu s dalšími koncerty\, festivaly a divadelními představeními.Každý si vybere co se mu líbí. Nezapomeňte koupit vstupenky včas\, stačí kliknout a budete přesměrování na oficiálního prodejce vstupenek.
URL:https://dnesnivylet.cz/event/queens-of-bohemia/
LOCATION:Anděl Music Bar\, Plzeň\, Anděl Music Bar\, Plzeň\, Česká republika
CATEGORIES:Koncert
ATTACH;FMTTYPE=image/jpeg:https://dnesnivylet.cz/wp-content/uploads/2025/12/320-4d4112a3ad08428c8bf2f86cef581973.jpg
END:VEVENT
END:VCALENDAR