BEGIN:VCALENDAR
VERSION:2.0
PRODID:-//www.dnesnivylet.cz                                                                                                                        Tip na výlet pro celou rodinu. - ECPv6.15.13.1//NONSGML v1.0//EN
CALSCALE:GREGORIAN
METHOD:PUBLISH
X-WR-CALNAME:www.dnesnivylet.cz                                                                                                                        Tip na výlet pro celou rodinu.
X-ORIGINAL-URL:https://dnesnivylet.cz
X-WR-CALDESC:Akce na www.dnesnivylet.cz                                                                                                                        Tip na výlet pro celou rodinu.
REFRESH-INTERVAL;VALUE=DURATION:PT1H
X-Robots-Tag:noindex
X-PUBLISHED-TTL:PT1H
BEGIN:VTIMEZONE
TZID:Europe/Prague
BEGIN:DAYLIGHT
TZOFFSETFROM:+0100
TZOFFSETTO:+0200
TZNAME:CEST
DTSTART:20250330T010000
END:DAYLIGHT
BEGIN:STANDARD
TZOFFSETFROM:+0200
TZOFFSETTO:+0100
TZNAME:CET
DTSTART:20251026T010000
END:STANDARD
BEGIN:DAYLIGHT
TZOFFSETFROM:+0100
TZOFFSETTO:+0200
TZNAME:CEST
DTSTART:20260329T010000
END:DAYLIGHT
BEGIN:STANDARD
TZOFFSETFROM:+0200
TZOFFSETTO:+0100
TZNAME:CET
DTSTART:20261025T010000
END:STANDARD
BEGIN:DAYLIGHT
TZOFFSETFROM:+0100
TZOFFSETTO:+0200
TZNAME:CEST
DTSTART:20270328T010000
END:DAYLIGHT
BEGIN:STANDARD
TZOFFSETFROM:+0200
TZOFFSETTO:+0100
TZNAME:CET
DTSTART:20271031T010000
END:STANDARD
END:VTIMEZONE
BEGIN:VEVENT
DTSTART;TZID=Europe/Prague:20260107T180000
DTEND;TZID=Europe/Prague:20260107T210000
DTSTAMP:20260419T204035
CREATED:20260105T210440Z
LAST-MODIFIED:20260105T210443Z
UID:16368-1767808800-1767819600@dnesnivylet.cz
SUMMARY:Kristýna Sibinská & Band | Live Jazz/Funk/Rock
DESCRIPTION:Kristýna Sibinská & Band | Live Jazz/Funk/Rock se uskuteční dne 2026-01-07 v 18:00 v Třinec\, U Matesa. \n🎟️ Koupit vstupenku \n\nZ Bostonu až do Třince! \nMladá bubenice Kristýna Sibinská\, absolventka pražské Konzervatoře Jaroslava Ježka a studentka prestižní Berklee College of Music\, se představí po boku legendárního klavíristy a skladatele Borise Urbánka a jeho kapely. \n+ After jam session s muzikanty z KARAFA kvartet. \nKristýna patří mezi nejvýraznější mladé talenty české hudební scény. Získala ocenění v mezinárodní soutěži Hit Like a Girl\, která podporuje ženské bubenické talenty po celém světě. Ve své tvorbě propojuje jazz\, pop\, rock i elektroniku\, a její energická hra a muzikální cit si získávají pozornost doma i v zahraničí. \nBoris Urbánek\, výrazná osobnost českého jazzu\, leader řady hudebních projektů a dlouholetý organizátor festivalu Jazz Open Ostrava\, patří k nejuznávanějším hudebníkům\, kteří formovali ostravskou hudební scénu. \n Tentokrát si můžete v Třinci vychutnat jedinečnou hudební fúzi\, jaká tu ještě nebyla – spojení mladé energie\, světového talentu a zkušeností ostřílených hudebníků.Těšte se na večer plný energie\, virtuozity a radosti z hudby!  \nKristina Sibinská – biciBoris Urbánek – klavesyKryštof Janáček – saxofonJenny Krompolc – basa \nSTART 18:00ENTRY 150 CZK v předprodeji / 200 CZK na místě (max. 90 vstupenek) \n\nTento tip na kulturní akci v Třinec najdete v přehledu na Dnesnivylet.cz spolu s dalšími koncerty\, festivaly a divadelními představeními.Každý si vybere co se mu líbí. Nezapomeňte koupit vstupenky včas\, stačí kliknout a budete přesměrování na oficiálního prodejce vstupenek.
URL:https://dnesnivylet.cz/event/kristyna-sibinska-band-live-jazz-funk-rock/
LOCATION:U Matesa\, Třinec\, U Matesa\, Třinec\, Česká republika
CATEGORIES:Koncert
ATTACH;FMTTYPE=image/jpeg:https://dnesnivylet.cz/wp-content/uploads/2026/01/320-9498e5cab1714a128d933fef5a20f6f4.jpg
END:VEVENT
END:VCALENDAR