BEGIN:VCALENDAR
VERSION:2.0
PRODID:-//www.dnesnivylet.cz                                                                                                                        Tip na výlet pro celou rodinu. - ECPv6.15.13.1//NONSGML v1.0//EN
CALSCALE:GREGORIAN
METHOD:PUBLISH
X-ORIGINAL-URL:https://dnesnivylet.cz
X-WR-CALDESC:Akce na www.dnesnivylet.cz                                                                                                                        Tip na výlet pro celou rodinu.
REFRESH-INTERVAL;VALUE=DURATION:PT1H
X-Robots-Tag:noindex
X-PUBLISHED-TTL:PT1H
BEGIN:VTIMEZONE
TZID:Europe/Prague
BEGIN:DAYLIGHT
TZOFFSETFROM:+0100
TZOFFSETTO:+0200
TZNAME:CEST
DTSTART:20250330T010000
END:DAYLIGHT
BEGIN:STANDARD
TZOFFSETFROM:+0200
TZOFFSETTO:+0100
TZNAME:CET
DTSTART:20251026T010000
END:STANDARD
BEGIN:DAYLIGHT
TZOFFSETFROM:+0100
TZOFFSETTO:+0200
TZNAME:CEST
DTSTART:20260329T010000
END:DAYLIGHT
BEGIN:STANDARD
TZOFFSETFROM:+0200
TZOFFSETTO:+0100
TZNAME:CET
DTSTART:20261025T010000
END:STANDARD
BEGIN:DAYLIGHT
TZOFFSETFROM:+0100
TZOFFSETTO:+0200
TZNAME:CEST
DTSTART:20270328T010000
END:DAYLIGHT
BEGIN:STANDARD
TZOFFSETFROM:+0200
TZOFFSETTO:+0100
TZNAME:CET
DTSTART:20271031T010000
END:STANDARD
END:VTIMEZONE
BEGIN:VEVENT
DTSTART;TZID=Europe/Prague:20260108T190000
DTEND;TZID=Europe/Prague:20260108T220000
DTSTAMP:20260419T204031
CREATED:20251103T194052Z
LAST-MODIFIED:20251103T194052Z
UID:12167-1767898800-1767909600@dnesnivylet.cz
SUMMARY:MR.BOWIE – The Celebration Concert
DESCRIPTION:MR.BOWIE – The Celebration Concert se uskuteční dne 2026-01-08 v 19:00 v Brno\, Sono Centrum. \n🎟️ Koupit vstupenku \n\nZ důvodu silného nachlazení zpěváka Milana Devinne jsme s lítostí nuceni přesunout vystoupení Mr.BOWIE\, které se mělo uskutečnit 15.10.2025 v 19:00 v Sono Centru\, na nový termín 8.1.2026 v 19:00 v Sono Centru. Vstupenky zůstávají v platnosti nebo je lze vrátit v místě zakoupení. Za komplikace se omlouváme. \n  \nPro všechny\, jejichž srdce stále bije v rytmu hudby Davida Bowieho. Přijměte pozvání na koncertní poctu „MR.BOWIE – The Celebration Concert„\, která 15. října 2025 rozezní brněnské SONO Centrum. \nTato nevšední show\, inspirovaná slavnou Reality Tour\, oživuje na pódiu nejen nesmrtelné hity\, ale i elektrizující atmosféru\, která definovala koncerty tohoto hudebního chameleona. V čele s Milanem Devinne\, který s obdivuhodným citem a respektem ztělesňuje esenci Bowieho projevu\, aniž by sklouzl k pouhé imitaci\, zažijete večer plný hudby\, která formovala celé generace. \nPřijďte se nechat pohltit energií nadčasových skladeb a prožít show\, který vzdává hold geniální tvořivosti a odkazu jednoho z největších umělců všech dob. \nMR.BOWIE se těší na viděnou v brněnském SONO Centru. \n\nTento tip na kulturní akci v Brno najdete v přehledu na Dnesnivylet.cz spolu s dalšími koncerty\, festivaly a divadelními představeními.Každý si vybere co se mu líbí. Nezapomeňte koupit vstupenky včas\, stačí kliknout a budete přesměrování na oficiálního prodejce vstupenek.
URL:https://dnesnivylet.cz/event/mr-bowie-the-celebration-concert/
LOCATION:Sono Centrum\, Brno\, Sono Centrum\, Brno\, Česká republika
CATEGORIES:Koncert
ATTACH;FMTTYPE=image/jpeg:https://dnesnivylet.cz/wp-content/uploads/2025/11/320-0122e2969df548aa852eee77b1bc2f99.jpg
END:VEVENT
END:VCALENDAR