BEGIN:VCALENDAR
VERSION:2.0
PRODID:-//www.dnesnivylet.cz                                                                                                                        Tip na výlet pro celou rodinu. - ECPv6.15.13.1//NONSGML v1.0//EN
CALSCALE:GREGORIAN
METHOD:PUBLISH
X-ORIGINAL-URL:https://dnesnivylet.cz
X-WR-CALDESC:Akce na www.dnesnivylet.cz                                                                                                                        Tip na výlet pro celou rodinu.
REFRESH-INTERVAL;VALUE=DURATION:PT1H
X-Robots-Tag:noindex
X-PUBLISHED-TTL:PT1H
BEGIN:VTIMEZONE
TZID:Europe/Prague
BEGIN:DAYLIGHT
TZOFFSETFROM:+0100
TZOFFSETTO:+0200
TZNAME:CEST
DTSTART:20250330T010000
END:DAYLIGHT
BEGIN:STANDARD
TZOFFSETFROM:+0200
TZOFFSETTO:+0100
TZNAME:CET
DTSTART:20251026T010000
END:STANDARD
BEGIN:DAYLIGHT
TZOFFSETFROM:+0100
TZOFFSETTO:+0200
TZNAME:CEST
DTSTART:20260329T010000
END:DAYLIGHT
BEGIN:STANDARD
TZOFFSETFROM:+0200
TZOFFSETTO:+0100
TZNAME:CET
DTSTART:20261025T010000
END:STANDARD
BEGIN:DAYLIGHT
TZOFFSETFROM:+0100
TZOFFSETTO:+0200
TZNAME:CEST
DTSTART:20270328T010000
END:DAYLIGHT
BEGIN:STANDARD
TZOFFSETFROM:+0200
TZOFFSETTO:+0100
TZNAME:CET
DTSTART:20271031T010000
END:STANDARD
END:VTIMEZONE
BEGIN:VEVENT
DTSTART;TZID=Europe/Prague:20260113T190000
DTEND;TZID=Europe/Prague:20260113T220000
DTSTAMP:20260419T203717
CREATED:20251103T193719Z
LAST-MODIFIED:20251103T193719Z
UID:12097-1768330800-1768341600@dnesnivylet.cz
SUMMARY:Stinga - The Sting Tribute Band
DESCRIPTION:Stinga – The Sting Tribute Band se uskuteční dne 2026-01-13 v 19:00 v Zlín\, Zelenáčova Šopa. \n🎟️ Koupit vstupenku \n\nVšichni jsme si od počátku uvědomovali\, že to nebude nic snadného. Ale touha si alespoň zkusit zahrát skladby\, které nás všechny nějak hudebně formovaly\, už nešla zastavit.  \nKapela byla už z projektu Best of Rock.cz skoro kompletní\, chyběly nám jen klávesy. Na tomto postu jsme od začátku uvažovali o jediném člověku\, a tím byl Honza Laník. \nTen\, k naší velké radosti\, nabídku přijal a kapela byla kompletní.  \nNázev musí být jednoslovný a zapamatovatelný a možná i trochu provokativní. Hrajeme Stinga\, tak proč se nejmenovat prostě jednoduše – STINGA. \nV repertoáru se nijak neomezujeme\, hrajeme Stingovy nejznámější skladby od dob The Police až po poslední sólová alba. Jediné pravidlo je\, že se na skladbě všichni shodneme\, bude nám každému hráčsky sedět a znít v našem podání uvěřitelně. \n\nTento tip na kulturní akci v Zlín najdete v přehledu na Dnesnivylet.cz spolu s dalšími koncerty\, festivaly a divadelními představeními.Každý si vybere co se mu líbí. Nezapomeňte koupit vstupenky včas\, stačí kliknout a budete přesměrování na oficiálního prodejce vstupenek.
URL:https://dnesnivylet.cz/event/stinga-the-sting-tribute-band/
LOCATION:Zelenáčova Šopa\, Zlín\, Zelenáčova Šopa\, Zlín\, Česká republika
CATEGORIES:Koncert
ATTACH;FMTTYPE=image/jpeg:https://dnesnivylet.cz/wp-content/uploads/2025/11/320-b4b786fecf10476ab30b7082be31e429.jpg
END:VEVENT
END:VCALENDAR