BEGIN:VCALENDAR
VERSION:2.0
PRODID:-//www.dnesnivylet.cz                                                                                                                        Tip na výlet pro celou rodinu. - ECPv6.15.13.1//NONSGML v1.0//EN
CALSCALE:GREGORIAN
METHOD:PUBLISH
X-WR-CALNAME:www.dnesnivylet.cz                                                                                                                        Tip na výlet pro celou rodinu.
X-ORIGINAL-URL:https://dnesnivylet.cz
X-WR-CALDESC:Akce na www.dnesnivylet.cz                                                                                                                        Tip na výlet pro celou rodinu.
REFRESH-INTERVAL;VALUE=DURATION:PT1H
X-Robots-Tag:noindex
X-PUBLISHED-TTL:PT1H
BEGIN:VTIMEZONE
TZID:Europe/Prague
BEGIN:DAYLIGHT
TZOFFSETFROM:+0100
TZOFFSETTO:+0200
TZNAME:CEST
DTSTART:20250330T010000
END:DAYLIGHT
BEGIN:STANDARD
TZOFFSETFROM:+0200
TZOFFSETTO:+0100
TZNAME:CET
DTSTART:20251026T010000
END:STANDARD
BEGIN:DAYLIGHT
TZOFFSETFROM:+0100
TZOFFSETTO:+0200
TZNAME:CEST
DTSTART:20260329T010000
END:DAYLIGHT
BEGIN:STANDARD
TZOFFSETFROM:+0200
TZOFFSETTO:+0100
TZNAME:CET
DTSTART:20261025T010000
END:STANDARD
BEGIN:DAYLIGHT
TZOFFSETFROM:+0100
TZOFFSETTO:+0200
TZNAME:CEST
DTSTART:20270328T010000
END:DAYLIGHT
BEGIN:STANDARD
TZOFFSETFROM:+0200
TZOFFSETTO:+0100
TZNAME:CET
DTSTART:20271031T010000
END:STANDARD
END:VTIMEZONE
BEGIN:VEVENT
DTSTART;TZID=Europe/Prague:20260115T200000
DTEND;TZID=Europe/Prague:20260115T230000
DTSTAMP:20260419T161716
CREATED:20251110T102619Z
LAST-MODIFIED:20251110T102628Z
UID:13127-1768507200-1768518000@dnesnivylet.cz
SUMMARY:corpo midori // PONAVA
DESCRIPTION:corpo midori // PONAVA se uskuteční dne 2026-01-15 v 20:00 v Brno\, Ponava Cafe. \n🎟️ Koupit vstupenku \n\nTrojice zlínských muzikantů spojila síly ve společném uskupení – corpo midori. Zde prostřednictvím autorské tvorby prozkoumávají žánrová pomezí oblastí progresivního rocku a jazzu. Mezi hlavní inspirace mimo jazzové legendy i současníky patří i mnohé projekty z českých luhů a hájů – např. Tryptych\, Acoustic Needles a jiné. Ústředním prvkem je místy dravá\, místy atmosférická kytarová hra Martina Lysoňka\, trio pak dotváří rytmická sekce Martin Lapčík a Kryštof Turza. Toto poměrně minimalistické obsazení pak otevírá dveře spontánnosti a odvážnosti improvizovat nad rámec autorských kompozic. \nVstupné 150\,- v předprodeji\, 200\,- na místě\, zážitky k nezaplacení 🔥 🔥 🔥 \n\nTento tip na kulturní akci v Brno najdete v přehledu na Dnesnivylet.cz spolu s dalšími koncerty\, festivaly a divadelními představeními.Každý si vybere co se mu líbí. Nezapomeňte koupit vstupenky včas\, stačí kliknout a budete přesměrování na oficiálního prodejce vstupenek.
URL:https://dnesnivylet.cz/event/corpo-midori-ponava/
LOCATION:Ponava Cafe\, Brno\, Ponava Cafe\, Brno\, Česká republika
CATEGORIES:Koncert
ATTACH;FMTTYPE=image/jpeg:https://dnesnivylet.cz/wp-content/uploads/2025/11/320-5167525379804ccf8260ef966be894a6.jpg
END:VEVENT
END:VCALENDAR