BEGIN:VCALENDAR
VERSION:2.0
PRODID:-//www.dnesnivylet.cz                                                                                                                        Tip na výlet pro celou rodinu. - ECPv6.15.13.1//NONSGML v1.0//EN
CALSCALE:GREGORIAN
METHOD:PUBLISH
X-ORIGINAL-URL:https://dnesnivylet.cz
X-WR-CALDESC:Akce na www.dnesnivylet.cz                                                                                                                        Tip na výlet pro celou rodinu.
REFRESH-INTERVAL;VALUE=DURATION:PT1H
X-Robots-Tag:noindex
X-PUBLISHED-TTL:PT1H
BEGIN:VTIMEZONE
TZID:Europe/Prague
BEGIN:DAYLIGHT
TZOFFSETFROM:+0100
TZOFFSETTO:+0200
TZNAME:CEST
DTSTART:20250330T010000
END:DAYLIGHT
BEGIN:STANDARD
TZOFFSETFROM:+0200
TZOFFSETTO:+0100
TZNAME:CET
DTSTART:20251026T010000
END:STANDARD
BEGIN:DAYLIGHT
TZOFFSETFROM:+0100
TZOFFSETTO:+0200
TZNAME:CEST
DTSTART:20260329T010000
END:DAYLIGHT
BEGIN:STANDARD
TZOFFSETFROM:+0200
TZOFFSETTO:+0100
TZNAME:CET
DTSTART:20261025T010000
END:STANDARD
BEGIN:DAYLIGHT
TZOFFSETFROM:+0100
TZOFFSETTO:+0200
TZNAME:CEST
DTSTART:20270328T010000
END:DAYLIGHT
BEGIN:STANDARD
TZOFFSETFROM:+0200
TZOFFSETTO:+0100
TZNAME:CET
DTSTART:20271031T010000
END:STANDARD
END:VTIMEZONE
BEGIN:VEVENT
DTSTART;TZID=Europe/Prague:20260117T190000
DTEND;TZID=Europe/Prague:20260117T220000
DTSTAMP:20260419T203659
CREATED:20251212T064419Z
LAST-MODIFIED:20251212T064419Z
UID:14787-1768676400-1768687200@dnesnivylet.cz
SUMMARY:Rock Classics
DESCRIPTION:Rock Classics se uskuteční dne 2026-01-17 v 19:00 v Praha\, Kostel U Salvátora. \n🎟️ Koupit vstupenku \n\nRock Classics za svitu tisíců svíček \nZažijte legendy rockové hudby v úplně novém světle – doslova. Smyčcový kvartet Krása Quartet vás vezme na emotivní hudební cestu od Metallicy přes U2 až po Nirvanu – to vše v magické atmosféře kostela osvětleného pouze tisíci svíček. \nSkladby jako Nothing Else Matters\, Sweet Child O’ Mine\, Highway to Hell nebo Smells Like Teen Spirit zazní v elegantních aranžích pro smyčce\, které jim propůjčí nový rozměr – silný\, citlivý a nezapomenutelný. \nV programu zazní hity kapel jako: \n\n\nMetallica – Nothing Else Matters \n\n\nGuns N’ Roses – Sweet Child O‘ Mine \n\n\nFoo Fighters – Everlong \n\n\nImagine Dragons – Demons \n\n\nAC/DC – Highway To Hell \n\n\nPink Floyd – Wish you Were Here \n\n\nU2 – With Or Without You \n\n\nDeep Purple – Smoke On The Water \n\n\nThe Beatles – In My Life \n\n\nNirvana – Smells Like Teen Spirit \n\n\na mnoho dalších… \n\n\n  \nDélka koncertu: 65 minutHraje: Krása Quartet  \n  \nPřijďte si užít večer\, kde se klasika potkává s rockem\, v neopakovatelné atmosféře světla svíček. \nRock nikdy nezněl tak krásně!! \n\nTento tip na kulturní akci v Praha najdete v přehledu na Dnesnivylet.cz spolu s dalšími koncerty\, festivaly a divadelními představeními.Každý si vybere co se mu líbí. Nezapomeňte koupit vstupenky včas\, stačí kliknout a budete přesměrování na oficiálního prodejce vstupenek.
URL:https://dnesnivylet.cz/event/rock-classics-2/
LOCATION:Kostel U Salvátora\, Praha\, Kostel U Salvátora\, Praha\, Česká republika
CATEGORIES:Koncert
ATTACH;FMTTYPE=image/jpeg:https://dnesnivylet.cz/wp-content/uploads/2025/12/320-0e8685c6ec93465faea4adf57b40400b.jpg
END:VEVENT
BEGIN:VEVENT
DTSTART;TZID=Europe/Prague:20260117T190000
DTEND;TZID=Europe/Prague:20260117T220000
DTSTAMP:20260419T203700
CREATED:20251212T064419Z
LAST-MODIFIED:20251212T064420Z
UID:14790-1768676400-1768687200@dnesnivylet.cz
SUMMARY:Rock Classics
DESCRIPTION:Rock Classics se uskuteční dne 2026-01-17 v 19:00 v Brno\, Červený kostel. \n🎟️ Koupit vstupenku \n\nRock Classics za svitu tisíců svíček \nZažijte legendy rockové hudby v úplně novém světle – doslova. Smyčcový kvartet Olomouc Quartet vás vezme na emotivní hudební cestu od Metallicy přes U2 až po Nirvanu – to vše v magické atmosféře kostela osvětleného pouze tisíci svíček. \nSkladby jako Nothing Else Matters\, Sweet Child O’ Mine\, Highway to Hell nebo Smells Like Teen Spirit zazní v elegantních aranžích pro smyčce\, které jim propůjčí nový rozměr – silný\, citlivý a nezapomenutelný. \nV programu zazní hity kapel jako: \n\n\nMetallica – Nothing Else Matters \n\n\nGuns N’ Roses – Sweet Child O‘ Mine \n\n\nFoo Fighters – Everlong \n\n\nImagine Dragons – Demons \n\n\nAC/DC – Highway To Hell \n\n\nPink Floyd – Wish you Were Here \n\n\nU2 – With Or Without You \n\n\nDeep Purple – Smoke On The Water \n\n\nThe Beatles – In My Life \n\n\nNirvana – Smells Like Teen Spirit \n\n\na mnoho dalších… \n\n\n  \nDélka koncertu: 65 minutHraje: Olomouc Quartet  \n  \nPřijďte si užít večer\, kde se klasika potkává s rockem\, v neopakovatelné atmosféře světla svíček. \nRock nikdy nezněl tak krásně!! \n\nTento tip na kulturní akci v Brno najdete v přehledu na Dnesnivylet.cz spolu s dalšími koncerty\, festivaly a divadelními představeními.Každý si vybere co se mu líbí. Nezapomeňte koupit vstupenky včas\, stačí kliknout a budete přesměrování na oficiálního prodejce vstupenek.
URL:https://dnesnivylet.cz/event/rock-classics-3/
LOCATION:Červený kostel\, Brno\, Červený kostel\, Brno\, Česká republika
CATEGORIES:Koncert
ATTACH;FMTTYPE=image/jpeg:https://dnesnivylet.cz/wp-content/uploads/2025/12/320-225ee9005b7b4dd7870a5e50452868a5.jpg
END:VEVENT
BEGIN:VEVENT
DTSTART;TZID=Europe/Prague:20260117T193000
DTEND;TZID=Europe/Prague:20260117T223000
DTSTAMP:20260419T203700
CREATED:20251215T111510Z
LAST-MODIFIED:20251215T111511Z
UID:15479-1768678200-1768689000@dnesnivylet.cz
SUMMARY:Špajz Bojz a Éra v Music Labu
DESCRIPTION:Špajz Bojz a Éra v Music Labu se uskuteční dne 2026-01-17 v 19:30 v Brno\, Music Lab. \n🎟️ Koupit vstupenku \n\nŠpajz Bojz a Éra – dvě studentské pop rockové kapely\, které se potkaly u Kolína. Každá je jiná\, ale spojuje je kombinování energických i melancholických melodií\, překvapivé texty a láska k synťákům. Jedna z předchozích informací není pravda. \n\nTento tip na kulturní akci v Brno najdete v přehledu na Dnesnivylet.cz spolu s dalšími koncerty\, festivaly a divadelními představeními.Každý si vybere co se mu líbí. Nezapomeňte koupit vstupenky včas\, stačí kliknout a budete přesměrování na oficiálního prodejce vstupenek.
URL:https://dnesnivylet.cz/event/spajz-bojz-a-era-v-music-labu/
LOCATION:Music Lab\, Brno\, Music Lab\, Brno\, Česká republika
CATEGORIES:Koncert
ATTACH;FMTTYPE=image/jpeg:https://dnesnivylet.cz/wp-content/uploads/2025/12/320-83cea073158445bcbf84f7e08a6cb24b.jpg
END:VEVENT
BEGIN:VEVENT
DTSTART;TZID=Europe/Prague:20260117T200000
DTEND;TZID=Europe/Prague:20260117T230000
DTSTAMP:20260419T203700
CREATED:20251214T082816Z
LAST-MODIFIED:20251214T082817Z
UID:15380-1768680000-1768690800@dnesnivylet.cz
SUMMARY:ZNOUZECTNOST v MC Panteon
DESCRIPTION:ZNOUZECTNOST v MC Panteon se uskuteční dne 2026-01-17 v 20:00 v Konstantinovy Lázně\, Music club Panteon. \n🎟️ Koupit vstupenku \n\nZnouzectnost – to není jen kapela\, to je hudební fenomén\, který se narodil v Plzni už v roce 1986 a od té doby neztratil šťávu ani smysl pro nadhled. Punkové kořeny? Ano! Ale nebojte\, nezůstalo jen u nich – ZNC umí servírovat rockový nářez\, melodické popové perly i folkové balady\, které chytnou za srdce i nejzarytějšího cynika. \nNa hudební scéně působí přesně čtyři dekády\, a přesto si zachovali to nejcennější – nezávislost a radost z hraní. Žádné diktáty labelů\, žádné termíny\, jen poctivá muzika\, co vzniká z hloubi muzikantské duše. Někdy melancholická\, jindy rozverně punková – ale vždycky upřímná. \nA co nás těší nejvíc? Že se těmto legendám v Konstantinkách líbí tak moc\, že se k nám s radostí vracejí!Přijďte i vy\, bude to jízda plná energie\, vzpomínek a skvělé muziky! \nPředprodej: smsticket.cz  \n\nTento tip na kulturní akci v Konstantinovy Lázně najdete v přehledu na Dnesnivylet.cz spolu s dalšími koncerty\, festivaly a divadelními představeními.Každý si vybere co se mu líbí. Nezapomeňte koupit vstupenky včas\, stačí kliknout a budete přesměrování na oficiálního prodejce vstupenek.
URL:https://dnesnivylet.cz/event/znouzectnost-v-mc-panteon/
LOCATION:Music club Panteon\, Konstantinovy Lázně\, Music club Panteon\, Konstantinovy Lázně\, Česká republika
CATEGORIES:Koncert
ATTACH;FMTTYPE=image/jpeg:https://dnesnivylet.cz/wp-content/uploads/2025/12/320-2853b297cd9f48e4a6b251c7a25cccaa.jpg
END:VEVENT
END:VCALENDAR