BEGIN:VCALENDAR
VERSION:2.0
PRODID:-//www.dnesnivylet.cz                                                                                                                        Tip na výlet pro celou rodinu. - ECPv6.15.13.1//NONSGML v1.0//EN
CALSCALE:GREGORIAN
METHOD:PUBLISH
X-WR-CALNAME:www.dnesnivylet.cz                                                                                                                        Tip na výlet pro celou rodinu.
X-ORIGINAL-URL:https://dnesnivylet.cz
X-WR-CALDESC:Akce na www.dnesnivylet.cz                                                                                                                        Tip na výlet pro celou rodinu.
REFRESH-INTERVAL;VALUE=DURATION:PT1H
X-Robots-Tag:noindex
X-PUBLISHED-TTL:PT1H
BEGIN:VTIMEZONE
TZID:Europe/Prague
BEGIN:DAYLIGHT
TZOFFSETFROM:+0100
TZOFFSETTO:+0200
TZNAME:CEST
DTSTART:20250330T010000
END:DAYLIGHT
BEGIN:STANDARD
TZOFFSETFROM:+0200
TZOFFSETTO:+0100
TZNAME:CET
DTSTART:20251026T010000
END:STANDARD
BEGIN:DAYLIGHT
TZOFFSETFROM:+0100
TZOFFSETTO:+0200
TZNAME:CEST
DTSTART:20260329T010000
END:DAYLIGHT
BEGIN:STANDARD
TZOFFSETFROM:+0200
TZOFFSETTO:+0100
TZNAME:CET
DTSTART:20261025T010000
END:STANDARD
BEGIN:DAYLIGHT
TZOFFSETFROM:+0100
TZOFFSETTO:+0200
TZNAME:CEST
DTSTART:20270328T010000
END:DAYLIGHT
BEGIN:STANDARD
TZOFFSETFROM:+0200
TZOFFSETTO:+0100
TZNAME:CET
DTSTART:20271031T010000
END:STANDARD
END:VTIMEZONE
BEGIN:VEVENT
DTSTART;TZID=Europe/Prague:20260131T190000
DTEND;TZID=Europe/Prague:20260131T220000
DTSTAMP:20260419T150115
CREATED:20251108T171823Z
LAST-MODIFIED:20251108T171823Z
UID:13110-1769886000-1769896800@dnesnivylet.cz
SUMMARY:DOKTOŘI 2026
DESCRIPTION:DOKTOŘI 2026 se uskuteční dne 2026-01-31 v 19:00 v Zlín\, Zelenáčova Šopa. \n🎟️ Koupit vstupenku \n\nKoncert rocku 2026! \nZase o rok více zdravější 🙂 \nNěco pro vaše játra\, srdce\, ledviny\, plíce…. co si přát více? \nZlínská legenda se svým ozdravným programem. \nHrající výhradně převzaté skladby z repertoáru známých světových umělců \n\nTento tip na kulturní akci v Zlín najdete v přehledu na Dnesnivylet.cz spolu s dalšími koncerty\, festivaly a divadelními představeními.Každý si vybere co se mu líbí. Nezapomeňte koupit vstupenky včas\, stačí kliknout a budete přesměrování na oficiálního prodejce vstupenek.
URL:https://dnesnivylet.cz/event/doktori-2026/
LOCATION:Zelenáčova Šopa\, Zlín\, Zelenáčova Šopa\, Zlín\, Česká republika
CATEGORIES:Koncert
ATTACH;FMTTYPE=image/jpeg:https://dnesnivylet.cz/wp-content/uploads/2025/11/320-997e77f41c1e45c18839f494fc89e4b7.jpg
END:VEVENT
BEGIN:VEVENT
DTSTART;TZID=Europe/Prague:20260131T200000
DTEND;TZID=Europe/Prague:20260131T230000
DTSTAMP:20260419T150115
CREATED:20260105T203650Z
LAST-MODIFIED:20260105T203650Z
UID:16339-1769889600-1769900400@dnesnivylet.cz
SUMMARY:Progres 2
DESCRIPTION:Progres 2 se uskuteční dne 2026-01-31 v 20:00 v Svitavy\, Alternativní klub Tyjátr. \n🎟️ Koupit vstupenku \n\nProgres 2 je brněnská rocková skupina hrající od roku 1968. \nOpět se můžete těšit na dávku skvělé muziky v klubu Tyjátr Svitavy 🙂 \n  \nVstupné:400\,- Kč na místě \n\nTento tip na kulturní akci v Svitavy najdete v přehledu na Dnesnivylet.cz spolu s dalšími koncerty\, festivaly a divadelními představeními.Každý si vybere co se mu líbí. Nezapomeňte koupit vstupenky včas\, stačí kliknout a budete přesměrování na oficiálního prodejce vstupenek.
URL:https://dnesnivylet.cz/event/progres-2/
LOCATION:Alternativní klub Tyjátr\, Svitavy\, Alternativní klub Tyjátr\, Svitavy\, Česká republika
CATEGORIES:Koncert
ATTACH;FMTTYPE=image/jpeg:https://dnesnivylet.cz/wp-content/uploads/2026/01/320-deafc2fb32fc4ba5b9ed495f878cc8d8.jpg
END:VEVENT
BEGIN:VEVENT
DTSTART;TZID=Europe/Prague:20260131T210000
DTEND;TZID=Europe/Prague:20260201T000000
DTSTAMP:20260419T150115
CREATED:20260110T165544Z
LAST-MODIFIED:20260110T165544Z
UID:16672-1769893200-1769904000@dnesnivylet.cz
SUMMARY:Fousatej Hat\, Vráťa Hošek\, NuPaGaDi
DESCRIPTION:Fousatej Hat\, Vráťa Hošek\, NuPaGaDi se uskuteční dne 2026-01-31 v 21:00 v Havlíčkův Brod\, Klub OKO. \n🎟️ Koupit vstupenku \n\nKoncert: \n21:00 \nNupagadi \nVráťa Hošek \nFousatej Hat \n  \n\nTento tip na kulturní akci v Havlíčkův Brod najdete v přehledu na Dnesnivylet.cz spolu s dalšími koncerty\, festivaly a divadelními představeními.Každý si vybere co se mu líbí. Nezapomeňte koupit vstupenky včas\, stačí kliknout a budete přesměrování na oficiálního prodejce vstupenek.
URL:https://dnesnivylet.cz/event/fousatej-hat-vrata-hosek-nupagadi/
LOCATION:Klub OKO\, Havlíčkův Brod\, Klub OKO\, Havlíčkův Brod\, Česká republika
CATEGORIES:Koncert
ATTACH;FMTTYPE=image/jpeg:https://dnesnivylet.cz/wp-content/uploads/2026/01/320-67fd9a55c15f41528984929cea94c919.jpg
END:VEVENT
END:VCALENDAR