BEGIN:VCALENDAR
VERSION:2.0
PRODID:-//www.dnesnivylet.cz                                                                                                                        Tip na výlet pro celou rodinu. - ECPv6.15.13.1//NONSGML v1.0//EN
CALSCALE:GREGORIAN
METHOD:PUBLISH
X-ORIGINAL-URL:https://dnesnivylet.cz
X-WR-CALDESC:Akce na www.dnesnivylet.cz                                                                                                                        Tip na výlet pro celou rodinu.
REFRESH-INTERVAL;VALUE=DURATION:PT1H
X-Robots-Tag:noindex
X-PUBLISHED-TTL:PT1H
BEGIN:VTIMEZONE
TZID:Europe/Prague
BEGIN:DAYLIGHT
TZOFFSETFROM:+0100
TZOFFSETTO:+0200
TZNAME:CEST
DTSTART:20250330T010000
END:DAYLIGHT
BEGIN:STANDARD
TZOFFSETFROM:+0200
TZOFFSETTO:+0100
TZNAME:CET
DTSTART:20251026T010000
END:STANDARD
BEGIN:DAYLIGHT
TZOFFSETFROM:+0100
TZOFFSETTO:+0200
TZNAME:CEST
DTSTART:20260329T010000
END:DAYLIGHT
BEGIN:STANDARD
TZOFFSETFROM:+0200
TZOFFSETTO:+0100
TZNAME:CET
DTSTART:20261025T010000
END:STANDARD
BEGIN:DAYLIGHT
TZOFFSETFROM:+0100
TZOFFSETTO:+0200
TZNAME:CEST
DTSTART:20270328T010000
END:DAYLIGHT
BEGIN:STANDARD
TZOFFSETFROM:+0200
TZOFFSETTO:+0100
TZNAME:CET
DTSTART:20271031T010000
END:STANDARD
END:VTIMEZONE
BEGIN:VEVENT
DTSTART;TZID=Europe/Prague:20260213T200000
DTEND;TZID=Europe/Prague:20260213T230000
DTSTAMP:20260419T161918
CREATED:20251214T083000Z
LAST-MODIFIED:20251214T083000Z
UID:15395-1771012800-1771023600@dnesnivylet.cz
SUMMARY:DARRELL STANDING
DESCRIPTION:DARRELL STANDING se uskuteční dne 2026-02-13 v 20:00 v Konstantinovy Lázně\, Music club Panteon. \n🎟️ Koupit vstupenku \n\nPo dlouhých pětadvaceti letech se na scénu vrací plzeňská legenda Darrell Standing! \nKapela\, která v devadesátkách brázdila pódia od zaprášených klubů po velké festivaly\, znovu ožívá – a to v nové\, vyzrálé podobě.Tentokrát odhazují těžký rockový kabát a vracejí se k podstatě své hudební barevnosti – k jemně nakopnutému poloakustickému bluesrocku s vůní pub rocku a folkovým šarmem. Tahle kombinace dává vyniknout melodiím i osobitým textům zpěváka\, spisovatele Kamila Pešťáka\, které mají duši i příběh.Z původní sestavy se můžete těšit na kytarové dvojče Martina Tejmla a Michala Světlíka a charismatického saxofonistu Jiřího Ptáčka. Nový vítr do plachet fouká Ivan Vala (basa) a Michal Diestler (cajon) – a nutno říct\, že do rozjetého vlaku naskočili s elegancí a energií\, jako by nikdy neslezli z pódia.Darrell Standing dnes zní autenticky\, vyzrále a s radostí\, která se přenáší do každého tónu. Je to návrat\, který má smysl – poctivá muzika bez pózy\, zato srdcem naplno.Tohle stojí bezpochyby za návštěvu! \n\nTento tip na kulturní akci v Konstantinovy Lázně najdete v přehledu na Dnesnivylet.cz spolu s dalšími koncerty\, festivaly a divadelními představeními.Každý si vybere co se mu líbí. Nezapomeňte koupit vstupenky včas\, stačí kliknout a budete přesměrování na oficiálního prodejce vstupenek.
URL:https://dnesnivylet.cz/event/darrell-standing/
LOCATION:Music club Panteon\, Konstantinovy Lázně\, Music club Panteon\, Konstantinovy Lázně\, Česká republika
CATEGORIES:Koncert
ATTACH;FMTTYPE=image/jpeg:https://dnesnivylet.cz/wp-content/uploads/2025/12/320-463b3305781d4c7c8eaab2925bff76b0.jpg
END:VEVENT
END:VCALENDAR