BEGIN:VCALENDAR
VERSION:2.0
PRODID:-//www.dnesnivylet.cz                                                                                                                        Tip na výlet pro celou rodinu. - ECPv6.15.13.1//NONSGML v1.0//EN
CALSCALE:GREGORIAN
METHOD:PUBLISH
X-WR-CALNAME:www.dnesnivylet.cz                                                                                                                        Tip na výlet pro celou rodinu.
X-ORIGINAL-URL:https://dnesnivylet.cz
X-WR-CALDESC:Akce na www.dnesnivylet.cz                                                                                                                        Tip na výlet pro celou rodinu.
REFRESH-INTERVAL;VALUE=DURATION:PT1H
X-Robots-Tag:noindex
X-PUBLISHED-TTL:PT1H
BEGIN:VTIMEZONE
TZID:Europe/Prague
BEGIN:DAYLIGHT
TZOFFSETFROM:+0100
TZOFFSETTO:+0200
TZNAME:CEST
DTSTART:20250330T010000
END:DAYLIGHT
BEGIN:STANDARD
TZOFFSETFROM:+0200
TZOFFSETTO:+0100
TZNAME:CET
DTSTART:20251026T010000
END:STANDARD
BEGIN:DAYLIGHT
TZOFFSETFROM:+0100
TZOFFSETTO:+0200
TZNAME:CEST
DTSTART:20260329T010000
END:DAYLIGHT
BEGIN:STANDARD
TZOFFSETFROM:+0200
TZOFFSETTO:+0100
TZNAME:CET
DTSTART:20261025T010000
END:STANDARD
BEGIN:DAYLIGHT
TZOFFSETFROM:+0100
TZOFFSETTO:+0200
TZNAME:CEST
DTSTART:20270328T010000
END:DAYLIGHT
BEGIN:STANDARD
TZOFFSETFROM:+0200
TZOFFSETTO:+0100
TZNAME:CET
DTSTART:20271031T010000
END:STANDARD
END:VTIMEZONE
BEGIN:VEVENT
DTSTART;TZID=Europe/Prague:20260217T190000
DTEND;TZID=Europe/Prague:20260217T220000
DTSTAMP:20260419T150122
CREATED:20251222T155531Z
LAST-MODIFIED:20251222T155532Z
UID:15916-1771354800-1771365600@dnesnivylet.cz
SUMMARY:Roman Dragoun
DESCRIPTION:Roman Dragoun se uskuteční dne 2026-02-17 v 19:00 v Třebíč\, Šmeralův statek. \n🎟️ Koupit vstupenku \n\nČeská rocková legenda\, zpěvák\, skladatel a klávesista působící na hudební scéně od poloviny sedmdesátých let.Z rodného Písku se přestěhoval do Brna\, kde začínal ve skupině Regenerace\, aby se poté stal členem PROGRES 2. S touto kultovní kapelou natočil slavné album „Třetí kniha džunglí“\, na kterém se podílel i autorsky (skladba „Muž\, který se podobá odvrácené straně měsíce“).Hrál\, či stále hraje v rockových skupinách Futurum\, Stromboli a T4\, vydal několik sólových alb\, zpíval v muzikálech a spolupracuje jako studiový hráč s mnoha dalšími hudebníky. \n\nTento tip na kulturní akci v Třebíč najdete v přehledu na Dnesnivylet.cz spolu s dalšími koncerty\, festivaly a divadelními představeními.Každý si vybere co se mu líbí. Nezapomeňte koupit vstupenky včas\, stačí kliknout a budete přesměrování na oficiálního prodejce vstupenek.
URL:https://dnesnivylet.cz/event/roman-dragoun/
LOCATION:Šmeralův statek\, Třebíč\, Šmeralův statek\, Třebíč\, Česká republika
CATEGORIES:Koncert
ATTACH;FMTTYPE=image/jpeg:https://dnesnivylet.cz/wp-content/uploads/2025/12/320-13fc10dbd3744ed7b450e58d24d4f5a4.jpg
END:VEVENT
END:VCALENDAR