BEGIN:VCALENDAR
VERSION:2.0
PRODID:-//www.dnesnivylet.cz                                                                                                                        Tip na výlet pro celou rodinu. - ECPv6.15.13.1//NONSGML v1.0//EN
CALSCALE:GREGORIAN
METHOD:PUBLISH
X-WR-CALNAME:www.dnesnivylet.cz                                                                                                                        Tip na výlet pro celou rodinu.
X-ORIGINAL-URL:https://dnesnivylet.cz
X-WR-CALDESC:Akce na www.dnesnivylet.cz                                                                                                                        Tip na výlet pro celou rodinu.
REFRESH-INTERVAL;VALUE=DURATION:PT1H
X-Robots-Tag:noindex
X-PUBLISHED-TTL:PT1H
BEGIN:VTIMEZONE
TZID:Europe/Prague
BEGIN:DAYLIGHT
TZOFFSETFROM:+0100
TZOFFSETTO:+0200
TZNAME:CEST
DTSTART:20250330T010000
END:DAYLIGHT
BEGIN:STANDARD
TZOFFSETFROM:+0200
TZOFFSETTO:+0100
TZNAME:CET
DTSTART:20251026T010000
END:STANDARD
BEGIN:DAYLIGHT
TZOFFSETFROM:+0100
TZOFFSETTO:+0200
TZNAME:CEST
DTSTART:20260329T010000
END:DAYLIGHT
BEGIN:STANDARD
TZOFFSETFROM:+0200
TZOFFSETTO:+0100
TZNAME:CET
DTSTART:20261025T010000
END:STANDARD
BEGIN:DAYLIGHT
TZOFFSETFROM:+0100
TZOFFSETTO:+0200
TZNAME:CEST
DTSTART:20270328T010000
END:DAYLIGHT
BEGIN:STANDARD
TZOFFSETFROM:+0200
TZOFFSETTO:+0100
TZNAME:CET
DTSTART:20271031T010000
END:STANDARD
END:VTIMEZONE
BEGIN:VEVENT
DTSTART;TZID=Europe/Prague:20260221T170000
DTEND;TZID=Europe/Prague:20260221T200000
DTSTAMP:20260419T150117
CREATED:20251214T082815Z
LAST-MODIFIED:20251214T082816Z
UID:15373-1771693200-1771704000@dnesnivylet.cz
SUMMARY:Rockfest No. 4
DESCRIPTION:Rockfest No. 4 se uskuteční dne 2026-02-21 v 17:00 v Šternberk\, Kulturní dům – Městský klub. \n🎟️ Koupit vstupenku \n\nV sobotu 21. února 2026 se bude konat již čtvrtý ročník oblíbeného hudebního                              rockového festivalu ROCKFEST Šternberk No. 4.  \n                                              … program festivalu … \n                Venushe\, MYST\, AC/DC revival – Bon Scott memorial band\, \n                                               Dark Gamballe\, Seven \n  \nVšechny tyto party vynikajících muzikantů se postarají o výbornou muziku a skvělou atmosféru festivalu. \n  \nVstupné: \n300 Kč – předprodej online smsticket.cz \n400 Kč – prodej na místě v den konání \n\nTento tip na kulturní akci v Šternberk najdete v přehledu na Dnesnivylet.cz spolu s dalšími koncerty\, festivaly a divadelními představeními.Každý si vybere co se mu líbí. Nezapomeňte koupit vstupenky včas\, stačí kliknout a budete přesměrování na oficiálního prodejce vstupenek.
URL:https://dnesnivylet.cz/event/rockfest-no-4/
LOCATION:Kulturní dům – Městský klub\, Šternberk\, Kulturní dům - Městský klub\, Šternberk\, Česká republika
CATEGORIES:Koncert
ATTACH;FMTTYPE=image/jpeg:https://dnesnivylet.cz/wp-content/uploads/2025/12/320-cd98f378e4ea4d6fa68b8e9276a044b5.jpg
END:VEVENT
BEGIN:VEVENT
DTSTART;TZID=Europe/Prague:20260221T200000
DTEND;TZID=Europe/Prague:20260221T230000
DTSTAMP:20260419T150117
CREATED:20251215T162037Z
LAST-MODIFIED:20251215T162038Z
UID:15667-1771704000-1771714800@dnesnivylet.cz
SUMMARY:AC/CZ (Top AC/DC Tribute show) v Plzni
DESCRIPTION:AC/CZ (Top AC/DC Tribute show) v Plzni se uskuteční dne 2026-02-21 v 20:00 v Plzeň\, Anděl Music Bar. \n🎟️ Koupit vstupenku \n\nNejúspěšnější AC/DC tribute kapela nejen v České republice\, kritiky uznávaná jako jedna z nejlepších i v zahraničí. Kapela působí na scéně od prosince roku 2010 a má za sebou přes 1200 vystoupení. Pravidelně koncertuje nejen v České republice\, ale také Slovensku\, Polsku\, Rakousku\, Švýcarsku a především v Německu. V roce 2024 kapela vystoupila pro prezidenta České republiky v rámci pořadu České televize\, v Německém Lipsku na UEFA EURO 2024 jako jediná česká kapela ve fan zóně pro několik tisíc lidí a také na „Velké ceně Německa MotoGP“ v Sachsenringu. Zpěvák kapely AC/CZ Josef Šimún je pravidelným hostem světového projektu orchestru Lords of the sound. Můžete se těšit na velkou divadelní a koncertní show s originálními kostýmy\, nástroji\, kulisami a hlavně precizní interpretací těch největších hitů od AC/DC. Hlavním protagonistou je známý kytarista Adam Malík.  \n\nTento tip na kulturní akci v Plzeň najdete v přehledu na Dnesnivylet.cz spolu s dalšími koncerty\, festivaly a divadelními představeními.Každý si vybere co se mu líbí. Nezapomeňte koupit vstupenky včas\, stačí kliknout a budete přesměrování na oficiálního prodejce vstupenek.
URL:https://dnesnivylet.cz/event/ac-cz-top-ac-dc-tribute-show-v-plzni/
LOCATION:Anděl Music Bar\, Plzeň\, Anděl Music Bar\, Plzeň\, Česká republika
CATEGORIES:Koncert
ATTACH;FMTTYPE=image/jpeg:https://dnesnivylet.cz/wp-content/uploads/2025/12/320-fdbf68977c7b4c3b80f1a094134eec72.jpg
END:VEVENT
END:VCALENDAR