BEGIN:VCALENDAR
VERSION:2.0
PRODID:-//www.dnesnivylet.cz                                                                                                                        Tip na výlet pro celou rodinu. - ECPv6.15.13.1//NONSGML v1.0//EN
CALSCALE:GREGORIAN
METHOD:PUBLISH
X-ORIGINAL-URL:https://dnesnivylet.cz
X-WR-CALDESC:Akce na www.dnesnivylet.cz                                                                                                                        Tip na výlet pro celou rodinu.
REFRESH-INTERVAL;VALUE=DURATION:PT1H
X-Robots-Tag:noindex
X-PUBLISHED-TTL:PT1H
BEGIN:VTIMEZONE
TZID:Europe/Prague
BEGIN:DAYLIGHT
TZOFFSETFROM:+0100
TZOFFSETTO:+0200
TZNAME:CEST
DTSTART:20250330T010000
END:DAYLIGHT
BEGIN:STANDARD
TZOFFSETFROM:+0200
TZOFFSETTO:+0100
TZNAME:CET
DTSTART:20251026T010000
END:STANDARD
BEGIN:DAYLIGHT
TZOFFSETFROM:+0100
TZOFFSETTO:+0200
TZNAME:CEST
DTSTART:20260329T010000
END:DAYLIGHT
BEGIN:STANDARD
TZOFFSETFROM:+0200
TZOFFSETTO:+0100
TZNAME:CET
DTSTART:20261025T010000
END:STANDARD
BEGIN:DAYLIGHT
TZOFFSETFROM:+0100
TZOFFSETTO:+0200
TZNAME:CEST
DTSTART:20270328T010000
END:DAYLIGHT
BEGIN:STANDARD
TZOFFSETFROM:+0200
TZOFFSETTO:+0100
TZNAME:CET
DTSTART:20271031T010000
END:STANDARD
END:VTIMEZONE
BEGIN:VEVENT
DTSTART;TZID=Europe/Prague:20260307T190000
DTEND;TZID=Europe/Prague:20260307T220000
DTSTAMP:20260419T133346
CREATED:20260306T173727Z
LAST-MODIFIED:20260306T173727Z
UID:19192-1772910000-1772920800@dnesnivylet.cz
SUMMARY:Retro párty MDŽ
DESCRIPTION:Retro párty MDŽ se uskuteční dne 2026-03-07 v 19:00 v Český Krumlov\, Zámecká jízdárna. \n🎟️ Koupit vstupenku \n\nKlasická retro párty na Zámecké jízdárně – tentokrát s oslavou všech žen!!! \n\nTento tip na kulturní akci v Český Krumlov najdete v přehledu na Dnesnivylet.cz spolu s dalšími koncerty\, festivaly a divadelními představeními.Každý si vybere co se mu líbí. Nezapomeňte koupit vstupenky včas\, stačí kliknout a budete přesměrování na oficiálního prodejce vstupenek.
URL:https://dnesnivylet.cz/event/retro-party-mdz/
LOCATION:Zámecká jízdárna\, Český Krumlov\, Zámecká jízdárna\, Český Krumlov\, Česká republika
CATEGORIES:Zábava
ATTACH;FMTTYPE=image/jpeg:https://dnesnivylet.cz/wp-content/uploads/2026/03/320-ad39eeb1a7524408a9903d9d5847c676.jpg
END:VEVENT
BEGIN:VEVENT
DTSTART;TZID=Europe/Prague:20260307T200000
DTEND;TZID=Europe/Prague:20260307T230000
DTSTAMP:20260419T133346
CREATED:20260209T194207Z
LAST-MODIFIED:20260209T194208Z
UID:17903-1772913600-1772924400@dnesnivylet.cz
SUMMARY:Visací zámek
DESCRIPTION:Visací zámek se uskuteční dne 2026-03-07 v 20:00 v Plzeň\, Kulturní dům Šeříková. \n🎟️ Koupit vstupenku \n\nDo plzeňské Šeříkovky opět zamíří známka punku \n  \nVisací zámek je punková skupina\, působící na české hudební scéně již od roku 1982. Kapela hraje stále v původní sestavě. Zejména v počátcích svojí tvorby silně ovlivnila zvuk celé jedné generace kapel a názory celé jedné generace posluchačů. \n  \nPřiďte si poslouchnou pořádnou nálož punkové muziky se spoustou nezapomenutelných hitů. \n\nTento tip na kulturní akci v Plzeň najdete v přehledu na Dnesnivylet.cz spolu s dalšími koncerty\, festivaly a divadelními představeními.Každý si vybere co se mu líbí. Nezapomeňte koupit vstupenky včas\, stačí kliknout a budete přesměrování na oficiálního prodejce vstupenek.
URL:https://dnesnivylet.cz/event/visaci-zamek-2/
LOCATION:Kulturní dům Šeříková\, Plzeň\, Kulturní dům Šeříková\, Plzeň\, Česká republika
CATEGORIES:Koncert
ATTACH;FMTTYPE=image/jpeg:https://dnesnivylet.cz/wp-content/uploads/2026/02/320-671786f786404751b4c279bf07286ab3.jpg
END:VEVENT
END:VCALENDAR