BEGIN:VCALENDAR
VERSION:2.0
PRODID:-//www.dnesnivylet.cz                                                                                                                        Tip na výlet pro celou rodinu. - ECPv6.15.13.1//NONSGML v1.0//EN
CALSCALE:GREGORIAN
METHOD:PUBLISH
X-WR-CALNAME:www.dnesnivylet.cz                                                                                                                        Tip na výlet pro celou rodinu.
X-ORIGINAL-URL:https://dnesnivylet.cz
X-WR-CALDESC:Akce na www.dnesnivylet.cz                                                                                                                        Tip na výlet pro celou rodinu.
REFRESH-INTERVAL;VALUE=DURATION:PT1H
X-Robots-Tag:noindex
X-PUBLISHED-TTL:PT1H
BEGIN:VTIMEZONE
TZID:Europe/Prague
BEGIN:DAYLIGHT
TZOFFSETFROM:+0100
TZOFFSETTO:+0200
TZNAME:CEST
DTSTART:20250330T010000
END:DAYLIGHT
BEGIN:STANDARD
TZOFFSETFROM:+0200
TZOFFSETTO:+0100
TZNAME:CET
DTSTART:20251026T010000
END:STANDARD
BEGIN:DAYLIGHT
TZOFFSETFROM:+0100
TZOFFSETTO:+0200
TZNAME:CEST
DTSTART:20260329T010000
END:DAYLIGHT
BEGIN:STANDARD
TZOFFSETFROM:+0200
TZOFFSETTO:+0100
TZNAME:CET
DTSTART:20261025T010000
END:STANDARD
BEGIN:DAYLIGHT
TZOFFSETFROM:+0100
TZOFFSETTO:+0200
TZNAME:CEST
DTSTART:20270328T010000
END:DAYLIGHT
BEGIN:STANDARD
TZOFFSETFROM:+0200
TZOFFSETTO:+0100
TZNAME:CET
DTSTART:20271031T010000
END:STANDARD
END:VTIMEZONE
BEGIN:VEVENT
DTSTART;TZID=Europe/Prague:20260312T190000
DTEND;TZID=Europe/Prague:20260312T220000
DTSTAMP:20260419T150105
CREATED:20251027T154956Z
LAST-MODIFIED:20251027T154956Z
UID:10478-1773342000-1773352800@dnesnivylet.cz
SUMMARY:Dalibor Janda
DESCRIPTION:Dalibor Janda se uskuteční dne 2026-03-12 v 19:00 v Český Krumlov\, Zámecká jízdárna. \n🎟️ Koupit vstupenku \n\nGalakoncert Dalibora Jandy s kapelou Prototyp. \nDalibor Janda s kapelou Prototyp – host Jiřina Anna Jandová.Galakoncert \nJako zpívající autor patří Dalibor Janda k nejnápaditějším melodikům hlavního proudu naší scény populární hudby.Nazpíval více než sto padesát písní\, přičemž jde až na pár výjimek výhradně o autorské nahrávky. Zatím vydal třiadvacet alb (včetně kompilací)\, získal devět Zlatých\, dvě Platinové desky a loni v rámci koncertního turné ke svým „70-tinám v pražské Lucerně dokonce Multiplatinovou desku!Z historického pohledu patří Dalibor Janda k našim komerčně vůbec nejúspěšnějším interpretům pop music\, když si jeho alba opatřilo více než dva miliony diskofilů. \nPřijďte si užít více jak dvou a půl hodinový Galakoncert s největšími hity!!! \ndélka koncertu: 160 minut s přestávkou \n\nTento tip na kulturní akci v Český Krumlov najdete v přehledu na Dnesnivylet.cz spolu s dalšími koncerty\, festivaly a divadelními představeními.Každý si vybere co se mu líbí. Nezapomeňte koupit vstupenky včas\, stačí kliknout a budete přesměrování na oficiálního prodejce vstupenek.
URL:https://dnesnivylet.cz/event/dalibor-janda/
LOCATION:Zámecká jízdárna\, Český Krumlov\, Zámecká jízdárna\, Český Krumlov\, Česká republika
CATEGORIES:Koncert
ATTACH;FMTTYPE=image/jpeg:https://dnesnivylet.cz/wp-content/uploads/2025/10/320-46ecfe3aab954a14bf09292b733e1926.jpg
END:VEVENT
BEGIN:VEVENT
DTSTART;TZID=Europe/Prague:20260312T200000
DTEND;TZID=Europe/Prague:20260312T230000
DTSTAMP:20260419T150105
CREATED:20251211T053144Z
LAST-MODIFIED:20251211T053144Z
UID:14613-1773345600-1773356400@dnesnivylet.cz
SUMMARY:Longital (SK)
DESCRIPTION:Longital (SK) se uskuteční dne 2026-03-12 v 20:00 v Brno\, Stará Pekárna. \n🎟️ Koupit vstupenku \n\nLongital (SK)   Stálica česko-slovenskej alternatívnej scény\, hraví a neustále experimentujúci Longital prichádzajú predstaviť svoj štrnásty štúdiový album Krajina beží dolu vlastným brehom (Slnko Records). Novinka prináša intímnu i experimentálnu zvukovú cestu – od akustických nástrojov cez elektronické vrstvy až po jedinečný hlas. Texty otvárajú priestor pre vnútorné otázky bytia\, radosti aj pominuteľnosti a album je pozvaním k zastaveniu\, nerušenému počúvaniu a návratu k tomu\, čo je podstatné.  \n\nTento tip na kulturní akci v Brno najdete v přehledu na Dnesnivylet.cz spolu s dalšími koncerty\, festivaly a divadelními představeními.Každý si vybere co se mu líbí. Nezapomeňte koupit vstupenky včas\, stačí kliknout a budete přesměrování na oficiálního prodejce vstupenek.
URL:https://dnesnivylet.cz/event/longital-sk/
LOCATION:Stará Pekárna\, Brno\, Stará Pekárna\, Brno\, Česká republika
CATEGORIES:Koncert
ATTACH;FMTTYPE=image/jpeg:https://dnesnivylet.cz/wp-content/uploads/2025/12/320-a1a2decb04684ac0a191767ac1b7dd73.jpg
END:VEVENT
END:VCALENDAR