BEGIN:VCALENDAR
VERSION:2.0
PRODID:-//www.dnesnivylet.cz                                                                                                                        Tip na výlet pro celou rodinu. - ECPv6.15.13.1//NONSGML v1.0//EN
CALSCALE:GREGORIAN
METHOD:PUBLISH
X-ORIGINAL-URL:https://dnesnivylet.cz
X-WR-CALDESC:Akce na www.dnesnivylet.cz                                                                                                                        Tip na výlet pro celou rodinu.
REFRESH-INTERVAL;VALUE=DURATION:PT1H
X-Robots-Tag:noindex
X-PUBLISHED-TTL:PT1H
BEGIN:VTIMEZONE
TZID:Europe/Prague
BEGIN:DAYLIGHT
TZOFFSETFROM:+0100
TZOFFSETTO:+0200
TZNAME:CEST
DTSTART:20250330T010000
END:DAYLIGHT
BEGIN:STANDARD
TZOFFSETFROM:+0200
TZOFFSETTO:+0100
TZNAME:CET
DTSTART:20251026T010000
END:STANDARD
BEGIN:DAYLIGHT
TZOFFSETFROM:+0100
TZOFFSETTO:+0200
TZNAME:CEST
DTSTART:20260329T010000
END:DAYLIGHT
BEGIN:STANDARD
TZOFFSETFROM:+0200
TZOFFSETTO:+0100
TZNAME:CET
DTSTART:20261025T010000
END:STANDARD
BEGIN:DAYLIGHT
TZOFFSETFROM:+0100
TZOFFSETTO:+0200
TZNAME:CEST
DTSTART:20270328T010000
END:DAYLIGHT
BEGIN:STANDARD
TZOFFSETFROM:+0200
TZOFFSETTO:+0100
TZNAME:CET
DTSTART:20271031T010000
END:STANDARD
END:VTIMEZONE
BEGIN:VEVENT
DTSTART;TZID=Europe/Prague:20260320T190000
DTEND;TZID=Europe/Prague:20260320T220000
DTSTAMP:20260419T161918
CREATED:20260211T122907Z
LAST-MODIFIED:20260211T122910Z
UID:18022-1774033200-1774044000@dnesnivylet.cz
SUMMARY:HARLEJ - Rapotín
DESCRIPTION:HARLEJ – Rapotín se uskuteční dne 2026-03-20 v 19:00 v Rapotín\, Kulturní dům. \n🎟️ Koupit vstupenku \n\nHARLEJ – tak jdem dál\, dokud ještě můžem… tour 2026 \n  \nHarlej je česká rocková skupina z Prahy a Mostu\, která vznikla v roce 1995. \n… \nLoco Loco \n„Zvedněte prdele\, smradi. Žijeme hudbou\, a jen jednou!“ \n\nTento tip na kulturní akci v Rapotín najdete v přehledu na Dnesnivylet.cz spolu s dalšími koncerty\, festivaly a divadelními představeními.Každý si vybere co se mu líbí. Nezapomeňte koupit vstupenky včas\, stačí kliknout a budete přesměrování na oficiálního prodejce vstupenek.
URL:https://dnesnivylet.cz/event/harlej-rapotin/
LOCATION:Kulturní dům\, Rapotín\, Kulturní dům\, Rapotín\, Česká republika
CATEGORIES:Koncert
ATTACH;FMTTYPE=image/jpeg:https://dnesnivylet.cz/wp-content/uploads/2026/02/320-67fa3e8e815a444fb18463a0f8cde0ae.jpg
END:VEVENT
BEGIN:VEVENT
DTSTART;TZID=Europe/Prague:20260320T193000
DTEND;TZID=Europe/Prague:20260320T223000
DTSTAMP:20260419T161918
CREATED:20251214T075430Z
LAST-MODIFIED:20251214T075431Z
UID:15252-1774035000-1774045800@dnesnivylet.cz
SUMMARY:Tata Bojs
DESCRIPTION:Tata Bojs se uskuteční dne 2026-03-20 v 19:30 v Šumperk\, Dům Kultury. \n🎟️ Koupit vstupenku \n\nSrdečně vás zveme na velký návrat legendární kapely Tata Bojs do Šumperka! \nTata Bojs jsou na domácí hudební scéně pojem nezávisle na příslušnosti k žánru. V jejich tvorbě se už od prvopočátků snoubí důraz nejen na stránku hudební\, ale také na tu vizuální. O kvalitách i svébytnosti kapely leccos vypovídá deset vydaných řadových alb\, několik DVD\, dvě knihy\, více než dvacet výrazných videoklipů a dokumentární film tata_bojs.doc (2024) držitele čtyř Českých lvů Marka Najbrta. V neposlední řadě také jejich živá vystoupení. Ta se vždy\, kromě pohlcující energie\, vyznačují osobitým designem a nákladnou scénou dle návrhů zpěváka a bubeníka skupiny Milana Caise\, jinak absolventa Akademie výtvarných umění a renomovaného vizuálního umělce. \n\nTento tip na kulturní akci v Šumperk najdete v přehledu na Dnesnivylet.cz spolu s dalšími koncerty\, festivaly a divadelními představeními.Každý si vybere co se mu líbí. Nezapomeňte koupit vstupenky včas\, stačí kliknout a budete přesměrování na oficiálního prodejce vstupenek.
URL:https://dnesnivylet.cz/event/tata-bojs-2/
LOCATION:Dům Kultury\, Šumperk\, Dům Kultury\, Šumperk\, Česká republika
CATEGORIES:Koncert
ATTACH;FMTTYPE=image/jpeg:https://dnesnivylet.cz/wp-content/uploads/2025/12/320-e62d2dbe05854ea1870db490dc824f01.jpg
END:VEVENT
BEGIN:VEVENT
DTSTART;TZID=Europe/Prague:20260320T200000
DTEND;TZID=Europe/Prague:20260320T230000
DTSTAMP:20260419T161918
CREATED:20260222T142720Z
LAST-MODIFIED:20260222T142721Z
UID:18497-1774036800-1774047600@dnesnivylet.cz
SUMMARY:PUNKROCK ON THE ROAD – TOUR 2026
DESCRIPTION:PUNKROCK ON THE ROAD – TOUR 2026 se uskuteční dne 2026-03-20 v 20:00 v České Budějovice\, KD Vltava. \n🎟️ Koupit vstupenku \n\nTOTÁLNÍ NASAZENÍ / THE FIALKY / NEŽFALEŠ – PUNKROCK ON THE ROAD – TOUR 2026 \nSpolečné turné spřízněných punkrockových kapel\, které navazuje na divácky úspěšnou koncertní šňůru z roku 2024. Pro velký zájem je tentokrát celé turné koncipováno jako série vystoupení po kulturních domech a velkých klubech. \nCelé turné odstartuje už 14. 2. 2026 v Plzni v hale Depo 2015.V roli supportu koncertů se střídavě představí kapely Dilemma in Cinema nebo ska-folk-punkoví Deratizéři. \nTotální nasazení a Nežfaleš navíc přivezou i zbrusu nová alba. \nPUNKROCK ON THE ROAD – TOUR 2026 proběhne od února do dubna v jedenácti městech v Čechách na Moravě a na Slovensku. \n14.2. PLZEŇ – Hala Depo 201527.2. VOLYNĚ – KD13.3 TEPLICE – KD14.3. BRATISLAVA – MMC20.3. ČESKÉ BUDĚJOVICE – KD Vltava21.3. PRAHA – MeetFactory27.3. ZLÍN – MoR28.3. BRNO – První Patro10.4 PARDUBICE – ABC11.4. LIBEREC – KD17.4. KARLOVY VARY – Lidový dům \nPředprodej na celé turné:https://www.smsticket.cz/skupiny/743-punkrock-on-the-road-tour-2026 \nDěti do čtrnácti let v doprovodu rodičů a držitelé průkazů TP\, ZTP nebo ZTP/P mají VSTUP ZDARMA  u ZTP/P má pochopitelně VSTUP ZDARMA i PRŮVODCE.  \n \n\nTento tip na kulturní akci v České Budějovice najdete v přehledu na Dnesnivylet.cz spolu s dalšími koncerty\, festivaly a divadelními představeními.Každý si vybere co se mu líbí. Nezapomeňte koupit vstupenky včas\, stačí kliknout a budete přesměrování na oficiálního prodejce vstupenek.
URL:https://dnesnivylet.cz/event/punkrock-on-the-road-tour-2026-5/
LOCATION:KD Vltava\, České Budějovice\, KD Vltava\, České Budějovice\, Česká republika
CATEGORIES:Koncert
ATTACH;FMTTYPE=image/jpeg:https://dnesnivylet.cz/wp-content/uploads/2026/02/320-b1bdac882696451c94c2c3179cd2cff7.jpg
END:VEVENT
BEGIN:VEVENT
DTSTART;TZID=Europe/Prague:20260320T203000
DTEND;TZID=Europe/Prague:20260320T233000
DTSTAMP:20260419T161918
CREATED:20251208T194236Z
LAST-MODIFIED:20251208T194236Z
UID:14545-1774038600-1774049400@dnesnivylet.cz
SUMMARY:Už jsme doma
DESCRIPTION:Už jsme doma se uskuteční dne 2026-03-20 v 20:30 v Uherské Hradiště\, Klub Mír. \n🎟️ Koupit vstupenku \n\nUž jsme doma\, \nkultovní kapela\, která přetavila punkové počátky do svébytného stylu\, který nejde hudebně zaškatulkovat a díky tomu nic podobného na podiích nepotkáte. Jisté vlivy kapel jako Resident nebo Magma jim ale dává punc avantgardy. \nZ českých kapel mají díky své originalitě na kontě rozhodně nejvíc odehraných koncertů v zahraničí\, od Japonska až po Austrálii a USA. \nV klubu budou po čtyřech letech a zahrají to nejlepší co za více než 40 let vytvořili. \nJako host vystoupí Jay Rabbit\, kapela\, která se v klubu představí vůbec poprvé. Kytarovka\, která propojuje blues rock\, grunge\, indie\, pop a progresivní rock\, čímž vytváří nevšední zvukový zážitek. \n\nTento tip na kulturní akci v Uherské Hradiště najdete v přehledu na Dnesnivylet.cz spolu s dalšími koncerty\, festivaly a divadelními představeními.Každý si vybere co se mu líbí. Nezapomeňte koupit vstupenky včas\, stačí kliknout a budete přesměrování na oficiálního prodejce vstupenek.
URL:https://dnesnivylet.cz/event/uz-jsme-doma/
LOCATION:Klub Mír\, Uherské Hradiště\, Klub Mír\, Uherské Hradiště\, Česká republika
CATEGORIES:Koncert
ATTACH;FMTTYPE=image/jpeg:https://dnesnivylet.cz/wp-content/uploads/2025/12/320-be98af2f911f4fb099ac8947f1678ca1.jpg
END:VEVENT
END:VCALENDAR