BEGIN:VCALENDAR
VERSION:2.0
PRODID:-//www.dnesnivylet.cz                                                                                                                        Tip na výlet pro celou rodinu. - ECPv6.15.13.1//NONSGML v1.0//EN
CALSCALE:GREGORIAN
METHOD:PUBLISH
X-ORIGINAL-URL:https://dnesnivylet.cz
X-WR-CALDESC:Akce na www.dnesnivylet.cz                                                                                                                        Tip na výlet pro celou rodinu.
REFRESH-INTERVAL;VALUE=DURATION:PT1H
X-Robots-Tag:noindex
X-PUBLISHED-TTL:PT1H
BEGIN:VTIMEZONE
TZID:Europe/Prague
BEGIN:DAYLIGHT
TZOFFSETFROM:+0100
TZOFFSETTO:+0200
TZNAME:CEST
DTSTART:20250330T010000
END:DAYLIGHT
BEGIN:STANDARD
TZOFFSETFROM:+0200
TZOFFSETTO:+0100
TZNAME:CET
DTSTART:20251026T010000
END:STANDARD
BEGIN:DAYLIGHT
TZOFFSETFROM:+0100
TZOFFSETTO:+0200
TZNAME:CEST
DTSTART:20260329T010000
END:DAYLIGHT
BEGIN:STANDARD
TZOFFSETFROM:+0200
TZOFFSETTO:+0100
TZNAME:CET
DTSTART:20261025T010000
END:STANDARD
BEGIN:DAYLIGHT
TZOFFSETFROM:+0100
TZOFFSETTO:+0200
TZNAME:CEST
DTSTART:20270328T010000
END:DAYLIGHT
BEGIN:STANDARD
TZOFFSETFROM:+0200
TZOFFSETTO:+0100
TZNAME:CET
DTSTART:20271031T010000
END:STANDARD
END:VTIMEZONE
BEGIN:VEVENT
DTSTART;TZID=Europe/Prague:20260321T180000
DTEND;TZID=Europe/Prague:20260321T210000
DTSTAMP:20260419T132824
CREATED:20260306T173727Z
LAST-MODIFIED:20260306T173728Z
UID:19195-1774116000-1774126800@dnesnivylet.cz
SUMMARY:Rockový ples 2026
DESCRIPTION:Rockový ples 2026 se uskuteční dne 2026-03-21 v 18:00 v Olomouc\, RCO. \n🎟️ Koupit vstupenku \n\nIII. ročník Rockového plesu v Olomouci je tady! \nNa podiu se vystřídají čtyři kapely\, které vám nabídnout pořádný a nefalšovaný rock a vy si s nimi budete moci užít tuhle netradiční společenskou událost na maximum. S dresscodem si rozhodně lámat hlavu nemusíte\, elegantní šaty a obleky netřeba\, za to vám rozhodně přijdou vhod vaše křiváky\, džísky a další oblečení s rockovou tematikou. \n  \nKdy: v sobotu 21. 3. 2026 od 18 hod. \nKde: Regionální centrum Olomouc (RCO)\, Jeremenkova 40b\, Olomouc \n  \nTěšit se můžete na: \n\nJ.A.Kronek – Alband ex KERN\nHAZYDECAY\nEagle Eye TARJA Tribute\nMadmen Uriah Heep Revival Brno\n\nCelým večerem vás provede a taky přidá skvělou DJ show – Martina Qweetko Procházková z Radia Haná! \nNa Rockový ples 2026 v Olomouci vás srdečně zve Radio Haná SkyRock a také společnost Marper! \n  \nProgram: \n18:00   Otevření prostor18:30   Eagle Eye TARJA Tribute20:00   J.A.Kronek – Alband ex KERN21:30   HAZYDECAY23:00   Madmen Uriah Heep Revival Brno00:00   Soutěž o ceny00:15   Rockotéka01:30   Ukončení plesu \n(Změna programu vyhrazena) \n\nTento tip na kulturní akci v Olomouc najdete v přehledu na Dnesnivylet.cz spolu s dalšími koncerty\, festivaly a divadelními představeními.Každý si vybere co se mu líbí. Nezapomeňte koupit vstupenky včas\, stačí kliknout a budete přesměrování na oficiálního prodejce vstupenek.
URL:https://dnesnivylet.cz/event/rockovy-ples-2026/
LOCATION:RCO\, Olomouc\, RCO\, Olomouc\, Česká republika
CATEGORIES:Zábava
ATTACH;FMTTYPE=image/jpeg:https://dnesnivylet.cz/wp-content/uploads/2026/03/320-73c42584230b49ec902ccfd2d04f0c60.jpg
END:VEVENT
BEGIN:VEVENT
DTSTART;TZID=Europe/Prague:20260321T180000
DTEND;TZID=Europe/Prague:20260321T210000
DTSTAMP:20260419T132824
CREATED:20260321T195840Z
LAST-MODIFIED:20260321T195841Z
UID:19776-1774116000-1774126800@dnesnivylet.cz
SUMMARY:Venom & Velvet tour
DESCRIPTION:Venom & Velvet tour se uskuteční dne 2026-03-21 v 18:00 v Karlovy Vary\, Slash bar. \n🎟️ Koupit vstupenku \nTento tip na kulturní akci v Karlovy Vary najdete v přehledu na Dnesnivylet.cz spolu s dalšími koncerty\, festivaly a divadelními představeními.Každý si vybere co se mu líbí. Nezapomeňte koupit vstupenky včas\, stačí kliknout a budete přesměrování na oficiálního prodejce vstupenek.
URL:https://dnesnivylet.cz/event/venom-velvet-tour/
LOCATION:Slash bar\, Karlovy Vary\, Slash bar\, Karlovy Vary\, Česká republika
CATEGORIES:Koncert
ATTACH;FMTTYPE=image/jpeg:https://dnesnivylet.cz/wp-content/uploads/2026/03/320-6d08b5b3b7b347999648b92d94635009.jpg
END:VEVENT
BEGIN:VEVENT
DTSTART;TZID=Europe/Prague:20260321T190000
DTEND;TZID=Europe/Prague:20260321T220000
DTSTAMP:20260419T132824
CREATED:20251129T074958Z
LAST-MODIFIED:20251129T074959Z
UID:14228-1774119600-1774130400@dnesnivylet.cz
SUMMARY:Jana Kirschner
DESCRIPTION:Jana Kirschner  se uskuteční dne 2026-03-21 v 19:00 v Humpolec\, Kino. \n🎟️ Koupit vstupenku \n\nPrvní dáma slovenského popu míří do Humpolce! \nZažijte jedinečný koncert Jany Kirschner\, který slibuje nezapomenutelný hudební zážitek. \nSlovenská zpěvačka Jana Kirschner na sebe výrazně upozornila v roce 1999\, kdy jí vyšlo album V cudzom meste\, za které získala ceny Hudební akademie ve dvou kategoriích: Umělec roku a Album roku. Ve stejném roce zvítězila i v anketě Slavík v kategorii Zpěvačka roku. Zlaté slavíky má doma celkem čtyři.  \nTato výjimečná zpěvačka s lehkostí překračuje žánry od popu\, folku a lidové hudby\, až po alternativní a elektronickou hudbu. Její písně mají hluboké a oduševnělé texty\, krásnou melodiku a procítěnou interpretaci. Na originálním zvuku jejích alb se v poslední době podílí také její životní partner\, britský hudebník\, skladatel a producent Eddie Stevens. V roce 2007 nahrála v Londýně album Shine\, následovaly nahrávky Krajina rovina a Moruša. Loni vydala po deseti letech album Obyčajnosti\, které vznikalo v Londýně během covidové pandemie.  \n\nTento tip na kulturní akci v Humpolec najdete v přehledu na Dnesnivylet.cz spolu s dalšími koncerty\, festivaly a divadelními představeními.Každý si vybere co se mu líbí. Nezapomeňte koupit vstupenky včas\, stačí kliknout a budete přesměrování na oficiálního prodejce vstupenek.
URL:https://dnesnivylet.cz/event/jana-kirschner/
LOCATION:Kino\, Humpolec\, Kino\, Humpolec\, Česká republika
CATEGORIES:Koncert
ATTACH;FMTTYPE=image/jpeg:https://dnesnivylet.cz/wp-content/uploads/2025/11/320-0144ebde44d744b6a322da4f1e2f4555.jpg
END:VEVENT
BEGIN:VEVENT
DTSTART;TZID=Europe/Prague:20260321T200000
DTEND;TZID=Europe/Prague:20260321T230000
DTSTAMP:20260419T132824
CREATED:20251215T161333Z
LAST-MODIFIED:20251215T161333Z
UID:15622-1774123200-1774134000@dnesnivylet.cz
SUMMARY:Benjaming´s Clan + Kowalski
DESCRIPTION:Benjaming´s Clan + Kowalski se uskuteční dne 2026-03-21 v 20:00 v Svitavy\, Alternativní klub Tyjátr. \n🎟️ Koupit vstupenku \n\nFunky a dudy? Proč ne. \n  \nKowalski \nVystoupí rytmicky přesné\, trochu taneční a občas rockově-funkové seskupení se svou skvělou show. Nálada bývá báječná\, tak neseď doma a přijď na Kowalski. \nwww.bandzone.cz/kowalski \n  \nBenjaming´s Clan \nKapela Benjaming’s Clan pochází z Petříkovic u Trutnova a hraje neotřelý styl\, který nazývá Rock ‚n‘ dudy! Jak už název napovídá jde o směsici rocku\, punku\, folku a rock’n’rollu. Rock’n’dudy je také název nejnovějšího CD a LP\, které kapela vydala na přelomu roku 2022/2023. Můžete se těšit na nástrojové obsazení jako jsou: skotské dudy\, housle\, akordeon\, elektrické a akustické kytary\, basová kytara a bicí nástroje. \nKapelu Benjaming´s Clan (* 2013) tvoří trojice bývalé rodinné punkové sestavy Benjaming Band (* 2002) a to\, Kuba (ak. kytara\, el. kytara\, zpěv)\, Olda (basová kytara\, zpěv) a Lukáš (dudy\, akordeon\, el. kytara\, zpěv) všichni z rodiny Dlouhých. K nim se připojili hudebníci Barča Vránová (housle\, zpěv) a Kuba Nováček (bicí nástroje). \nPrioritou kapely je předávat lidem stovky kilowatt pozitivní energie! \n  \nV den konání si můžete od 19:00 zakoupit vstupenky v pokladně kina Vesmír.  \n\nTento tip na kulturní akci v Svitavy najdete v přehledu na Dnesnivylet.cz spolu s dalšími koncerty\, festivaly a divadelními představeními.Každý si vybere co se mu líbí. Nezapomeňte koupit vstupenky včas\, stačí kliknout a budete přesměrování na oficiálního prodejce vstupenek.
URL:https://dnesnivylet.cz/event/benjamings-clan-kowalski/
LOCATION:Alternativní klub Tyjátr\, Svitavy\, Alternativní klub Tyjátr\, Svitavy\, Česká republika
CATEGORIES:Koncert
ATTACH;FMTTYPE=image/jpeg:https://dnesnivylet.cz/wp-content/uploads/2025/12/320-627feb91dbe54afa9f3a34d361652f55.jpg
END:VEVENT
BEGIN:VEVENT
DTSTART;TZID=Europe/Prague:20260321T200000
DTEND;TZID=Europe/Prague:20260321T230000
DTSTAMP:20260419T132824
CREATED:20260106T114558Z
LAST-MODIFIED:20260106T114559Z
UID:16474-1774123200-1774134000@dnesnivylet.cz
SUMMARY:Michal Šindelář Band - PLZEŇ - ANDĚL
DESCRIPTION:Michal Šindelář Band – PLZEŇ – ANDĚL  se uskuteční dne 2026-03-21 v 20:00 v Plzeň\, Anděl Music Bar. \n🎟️ Koupit vstupenku \n\nMichal Šindelář \nPříští rok oslaví 30 let na profi scéně. Jako bubeník byl členem legendárního Katapultu\, nebo také doprovázel Karla Kahovce\, Viktora Sodomu\, Ondřeje Hejmu\, Ivana Hlase\, folkovou legendu Jaroslava Samsona Lenka a mnoho dalších. V současné době je členem Banjo Bandu Ivana Mládka. Ve své diskografii má přes padesát desek a za sebou skoro 3000 koncertů. Písnička “Hořely\, padaly hvězdy” se v roce 2024 stala nejoblíbenější skladbou posluchačů Rádia Blaník za 25 let jeho existence\, takže na koncertu samozřejmě nemůže chybět. Stejně tak jako vzpomínka na Katapult\, kde Michal strávil po boku svého táty Jiřího “Dědka” Šindeláře krásných osm let. \n\nTento tip na kulturní akci v Plzeň najdete v přehledu na Dnesnivylet.cz spolu s dalšími koncerty\, festivaly a divadelními představeními.Každý si vybere co se mu líbí. Nezapomeňte koupit vstupenky včas\, stačí kliknout a budete přesměrování na oficiálního prodejce vstupenek.
URL:https://dnesnivylet.cz/event/michal-sindelar-band-plzen-andel/
LOCATION:Anděl Music Bar\, Plzeň\, Anděl Music Bar\, Plzeň\, Česká republika
CATEGORIES:Koncert
ATTACH;FMTTYPE=image/jpeg:https://dnesnivylet.cz/wp-content/uploads/2026/01/320-b56c39cf2b9a4c08b20c5150598efe54.jpg
END:VEVENT
BEGIN:VEVENT
DTSTART;TZID=Europe/Prague:20260321T200000
DTEND;TZID=Europe/Prague:20260321T230000
DTSTAMP:20260419T132824
CREATED:20260222T142537Z
LAST-MODIFIED:20260222T142537Z
UID:18485-1774123200-1774134000@dnesnivylet.cz
SUMMARY:PUNKROCK ON THE ROAD – TOUR 2026
DESCRIPTION:PUNKROCK ON THE ROAD – TOUR 2026 se uskuteční dne 2026-03-21 v 20:00 v Praha\, MeetFactory. \n🎟️ Koupit vstupenku \n\nTOTÁLNÍ NASAZENÍ / THE FIALKY / NEŽFALEŠ – PUNKROCK ON THE ROAD – TOUR 2026 \nSpolečné turné spřízněných punkrockových kapel\, které navazuje na divácky úspěšnou koncertní šňůru z roku 2024. Pro velký zájem je tentokrát celé turné koncipováno jako série vystoupení po kulturních domech a velkých klubech. \nCelé turné odstartuje už 14. 2. 2026 v Plzni v hale Depo 2015.V roli supportu koncertů se střídavě představí kapely Dilemma in Cinema nebo ska-folk-punkoví Deratizéři. \nTotální nasazení a Nežfaleš navíc přivezou i zbrusu nová alba. \nPUNKROCK ON THE ROAD – TOUR 2026 proběhne od února do dubna v jedenácti městech v Čechách na Moravě a na Slovensku. \n14.2. PLZEŇ – Hala Depo 201527.2. VOLYNĚ – KD13.3 TEPLICE – KD14.3. BRATISLAVA – MMC20.3. ČESKÉ BUDĚJOVICE – KD Vltava21.3. PRAHA – MeetFactory27.3. ZLÍN – MoR28.3. BRNO – První Patro10.4 PARDUBICE – ABC11.4. LIBEREC – KD17.4. KARLOVY VARY – Lidový dům \nPředprodej na celé turné:https://www.smsticket.cz/skupiny/743-punkrock-on-the-road-tour-2026 \nDěti do čtrnácti let v doprovodu rodičů a držitelé průkazů TP\, ZTP nebo ZTP/P mají VSTUP ZDARMA  u ZTP/P má pochopitelně VSTUP ZDARMA i PRŮVODCE.  \n \n  \n\nTento tip na kulturní akci v Praha najdete v přehledu na Dnesnivylet.cz spolu s dalšími koncerty\, festivaly a divadelními představeními.Každý si vybere co se mu líbí. Nezapomeňte koupit vstupenky včas\, stačí kliknout a budete přesměrování na oficiálního prodejce vstupenek.
URL:https://dnesnivylet.cz/event/punkrock-on-the-road-tour-2026-2/
LOCATION:MeetFactory\, Praha\, MeetFactory\, Praha\, Česká republika
CATEGORIES:Koncert
ATTACH;FMTTYPE=image/jpeg:https://dnesnivylet.cz/wp-content/uploads/2026/02/320-30a9d67639714377a7b9a679dd62b743.jpg
END:VEVENT
BEGIN:VEVENT
DTSTART;TZID=Europe/Prague:20260321T200000
DTEND;TZID=Europe/Prague:20260321T230000
DTSTAMP:20260419T132824
CREATED:20260321T195350Z
LAST-MODIFIED:20260321T195350Z
UID:19691-1774123200-1774134000@dnesnivylet.cz
SUMMARY:NÁŘEZÁK - hudební festival
DESCRIPTION:NÁŘEZÁK – hudební festival se uskuteční dne 2026-03-21 v 20:00 v Dolní Kralovice\, Kulturní sál. \n🎟️ Koupit vstupenku \n\nNa počátku bylo světlo… a z něj se zrodil nápad\, uskutečnit festival (nejen) zábavových kapel. Proč Nářezák? Tři místní taneční kapely\, každá hrající jiným stylem české i zahraniční hitya jeden autorský našlapaný Band\, který k nám zavítá až z Prahy!To je prostě totální NÁŘEZ! 🎸🎸🎸 \nPrvní ročník festivalu Nářezák! Zvýhodněné vstupenky jsou již v předprodeji! Tak nepropásni první vlny!   \n  \n\nPolojasno\nRe-Flex Group\nBLD\nNouzovej stav\n\n\nTento tip na kulturní akci v Dolní Kralovice najdete v přehledu na Dnesnivylet.cz spolu s dalšími koncerty\, festivaly a divadelními představeními.Každý si vybere co se mu líbí. Nezapomeňte koupit vstupenky včas\, stačí kliknout a budete přesměrování na oficiálního prodejce vstupenek.
URL:https://dnesnivylet.cz/event/narezak-hudebni-festival/
LOCATION:Kulturní sál\, Dolní Kralovice\, Kulturní sál\, Dolní Kralovice\, Česká republika
CATEGORIES:Koncert
ATTACH;FMTTYPE=image/jpeg:https://dnesnivylet.cz/wp-content/uploads/2026/03/320-ca1aa37a7ebe4a869a4d3a874f2aa887.jpg
END:VEVENT
END:VCALENDAR