BEGIN:VCALENDAR
VERSION:2.0
PRODID:-//www.dnesnivylet.cz                                                                                                                        Tip na výlet pro celou rodinu. - ECPv6.15.13.1//NONSGML v1.0//EN
CALSCALE:GREGORIAN
METHOD:PUBLISH
X-ORIGINAL-URL:https://dnesnivylet.cz
X-WR-CALDESC:Akce na www.dnesnivylet.cz                                                                                                                        Tip na výlet pro celou rodinu.
REFRESH-INTERVAL;VALUE=DURATION:PT1H
X-Robots-Tag:noindex
X-PUBLISHED-TTL:PT1H
BEGIN:VTIMEZONE
TZID:Europe/Prague
BEGIN:DAYLIGHT
TZOFFSETFROM:+0100
TZOFFSETTO:+0200
TZNAME:CEST
DTSTART:20250330T010000
END:DAYLIGHT
BEGIN:STANDARD
TZOFFSETFROM:+0200
TZOFFSETTO:+0100
TZNAME:CET
DTSTART:20251026T010000
END:STANDARD
BEGIN:DAYLIGHT
TZOFFSETFROM:+0100
TZOFFSETTO:+0200
TZNAME:CEST
DTSTART:20260329T010000
END:DAYLIGHT
BEGIN:STANDARD
TZOFFSETFROM:+0200
TZOFFSETTO:+0100
TZNAME:CET
DTSTART:20261025T010000
END:STANDARD
BEGIN:DAYLIGHT
TZOFFSETFROM:+0100
TZOFFSETTO:+0200
TZNAME:CEST
DTSTART:20270328T010000
END:DAYLIGHT
BEGIN:STANDARD
TZOFFSETFROM:+0200
TZOFFSETTO:+0100
TZNAME:CET
DTSTART:20271031T010000
END:STANDARD
END:VTIMEZONE
BEGIN:VEVENT
DTSTART;TZID=Europe/Prague:20260408T200000
DTEND;TZID=Europe/Prague:20260408T230000
DTSTAMP:20260419T115857
CREATED:20260404T175402Z
LAST-MODIFIED:20260404T175403Z
UID:20005-1775678400-1775689200@dnesnivylet.cz
SUMMARY:Schodiště (Nahoru po schodišti dolů band)
DESCRIPTION:Schodiště (Nahoru po schodišti dolů band) se uskuteční dne 2026-04-08 v 20:00 v Kladno\, Dundee Jam. \n🎟️ Koupit vstupenku \n\nSchodiště nestačí slyšet\, musí se i vidět! \nSchodiště je pověstné pódiovým nasazením; vepředu svým neopakovatelným stylem přednáší Doktor Krajíček\, který jako maják září v pozici frontmana od prvopočátků\, kapelu ženou kupředu omlazené bicí (Jakub Homola) a elektrická kytara (Ondřej Fencl); je to radost\, je to jízda. V posledních letech nastalo na koncertech vyvážení\, většina už neřeší\, ze kterého století která píseň je. \nZa čtyři dekády existence odehrála kapela nazývaná dříve Nahoru po schodišti dolů band přes 1500 koncertů. Nejprve na chvostě nové vlny osmdesátých let jako předzvěst dnešního ska\, po sametové pauze pak absorbujíc další a další vlivy\, krok za krokem k pozici jedné z vyhledávaných tuzemských klubových kapel. \nSchodiště letos oslaví 43 let\, ale na důchod to věru nevypadá! \nSložení: \nZpěvák Martin Doktor Krajíček (od roku 1983) – tvář kapely\, frontman\, zakládající člen Nahoru po schodišti dolů bandu a doživotní břímě Schodiště \nSaxofonista Vladimír Cihelka (od roku 1985) \nBaskytarista Vratislav Horčík (od roku 1986) \nHarmonikář Miroslav Klíma (od roku 1987) – tvůrčí jádro od počátků NPSDB \nKytarista Ondřej Fencl (od roku 2007) – mladší krev\, svěží vítr\, nakopávač. Bez něj by Schodiště nebylo tím\, čím je dnes\, bez něj by Schodiště nebylo vůbec \nBubeník Jakub Homola (2008\, pak znovu od roku 2014) – nepochybně nejlepší bubeník\, kterého kdy Schodiště mělo\, rytmická i energetická pojistka kapely \n\nTento tip na kulturní akci v Kladno najdete v přehledu na Dnesnivylet.cz spolu s dalšími koncerty\, festivaly a divadelními představeními.Každý si vybere co se mu líbí. Nezapomeňte koupit vstupenky včas\, stačí kliknout a budete přesměrování na oficiálního prodejce vstupenek.
URL:https://dnesnivylet.cz/event/schodiste-nahoru-po-schodisti-dolu-band/
LOCATION:Dundee Jam\, Kladno\, Dundee Jam\, Kladno\, Česká republika
CATEGORIES:Koncert
ATTACH;FMTTYPE=image/jpeg:https://dnesnivylet.cz/wp-content/uploads/2026/04/320-dbb595257b094fd2b34f7966df7077b9.jpg
END:VEVENT
END:VCALENDAR