BEGIN:VCALENDAR
VERSION:2.0
PRODID:-//www.dnesnivylet.cz                                                                                                                        Tip na výlet pro celou rodinu. - ECPv6.15.13.1//NONSGML v1.0//EN
CALSCALE:GREGORIAN
METHOD:PUBLISH
X-ORIGINAL-URL:https://dnesnivylet.cz
X-WR-CALDESC:Akce na www.dnesnivylet.cz                                                                                                                        Tip na výlet pro celou rodinu.
REFRESH-INTERVAL;VALUE=DURATION:PT1H
X-Robots-Tag:noindex
X-PUBLISHED-TTL:PT1H
BEGIN:VTIMEZONE
TZID:Europe/Prague
BEGIN:DAYLIGHT
TZOFFSETFROM:+0100
TZOFFSETTO:+0200
TZNAME:CEST
DTSTART:20250330T010000
END:DAYLIGHT
BEGIN:STANDARD
TZOFFSETFROM:+0200
TZOFFSETTO:+0100
TZNAME:CET
DTSTART:20251026T010000
END:STANDARD
BEGIN:DAYLIGHT
TZOFFSETFROM:+0100
TZOFFSETTO:+0200
TZNAME:CEST
DTSTART:20260329T010000
END:DAYLIGHT
BEGIN:STANDARD
TZOFFSETFROM:+0200
TZOFFSETTO:+0100
TZNAME:CET
DTSTART:20261025T010000
END:STANDARD
BEGIN:DAYLIGHT
TZOFFSETFROM:+0100
TZOFFSETTO:+0200
TZNAME:CEST
DTSTART:20270328T010000
END:DAYLIGHT
BEGIN:STANDARD
TZOFFSETFROM:+0200
TZOFFSETTO:+0100
TZNAME:CET
DTSTART:20271031T010000
END:STANDARD
END:VTIMEZONE
BEGIN:VEVENT
DTSTART;TZID=Europe/Prague:20260409T190000
DTEND;TZID=Europe/Prague:20260409T220000
DTSTAMP:20260419T115407
CREATED:20260208T144659Z
LAST-MODIFIED:20260208T144659Z
UID:17657-1775761200-1775772000@dnesnivylet.cz
SUMMARY:Adam Ďurica
DESCRIPTION:Adam Ďurica se uskuteční dne 2026-04-09 v 19:00 v Šumperk\, Dům Kultury. \n🎟️ Koupit vstupenku \n\nAdam Ďurica se po svém úspěšném koncertním debutu vrací do Šumperka. A rovnou s místními fanoušky oslaví 20 let na hudební scéně. Zazpíváte si všechny zásadní hity Naše hriechy\, Neľutujem\, Vietor\, Mandolína i Zatancuj si so mnou. \nNebude to jen obyčejný koncert s kapelou\, ale oslava všech zážitků\, které jste za ty roky s Adamem doteď prožili. \n  \n\nTento tip na kulturní akci v Šumperk najdete v přehledu na Dnesnivylet.cz spolu s dalšími koncerty\, festivaly a divadelními představeními.Každý si vybere co se mu líbí. Nezapomeňte koupit vstupenky včas\, stačí kliknout a budete přesměrování na oficiálního prodejce vstupenek.
URL:https://dnesnivylet.cz/event/adam-durica/
LOCATION:Dům Kultury\, Šumperk\, Dům Kultury\, Šumperk\, Česká republika
CATEGORIES:Koncert
ATTACH;FMTTYPE=image/jpeg:https://dnesnivylet.cz/wp-content/uploads/2026/02/320-b854cc42c6634df982219d6cf091202d.jpg
END:VEVENT
BEGIN:VEVENT
DTSTART;TZID=Europe/Prague:20260409T200000
DTEND;TZID=Europe/Prague:20260409T230000
DTSTAMP:20260419T115407
CREATED:20260314T190438Z
LAST-MODIFIED:20260314T190438Z
UID:19535-1775764800-1775775600@dnesnivylet.cz
SUMMARY:Fast Food Orchestra & Heľenine oči
DESCRIPTION:Fast Food Orchestra & Heľenine oči se uskuteční dne 2026-04-09 v 20:00 v Brno\, Fléda. \n🎟️ Koupit vstupenku \n\nSpolečný koncert oblíbených ansámblů Fast Food Orchestra a Heľenine oči\, které skvěle míchají ska\, reggae\, rock i pop. \n  \nFast Food Orchestra: \nJeště než letní festivaly otevřou své brány\, vyrazíme s naším bistrem do vašich měst. Čeká nás šest zastávek pohody\, dobré nálady\, ale samozřejmě i pořádné porce energie. Chystáme našláplý program se zbrusu novým vizuálem a takovou show\, že se parket bude topit v tratolišti potu. \nMáme radost\, že se s vámi můžeme znovu potkat naživo v Brně na Flédě. Tentokrát to ale bude speciální společný koncert\, na který jsme si pozvali kamarády z energické slovenské kapely Helenine oči\, takže se rozhodně máte na co těšit. Dvě kapely\, jedna energie a večer\, který si společně užijeme naplno. \nProtože to VIDÍME RŮŽOVĚ\, nemůže to dopadnout špatně. Zahrajeme hromadu starých provařených fláků\, ale nebude chybět ani poslední singl Přidej plyn\, který startuje novou éru ještě šílenějšího kabaretu. \nVšechny smutky a strasti společně utopíme v záři neónů a radosti. Přijďte si k nám pro kalorickou porci energie a přineste nám kus té své. Ať to zase v dalším roce táhneme dál. \nTahle hostina bude legendární! \n\nTento tip na kulturní akci v Brno najdete v přehledu na Dnesnivylet.cz spolu s dalšími koncerty\, festivaly a divadelními představeními.Každý si vybere co se mu líbí. Nezapomeňte koupit vstupenky včas\, stačí kliknout a budete přesměrování na oficiálního prodejce vstupenek.
URL:https://dnesnivylet.cz/event/fast-food-orchestra-helenine-oci/
LOCATION:Fléda\, Brno\, Fléda\, Brno\, Česká republika
CATEGORIES:Koncert
ATTACH;FMTTYPE=image/jpeg:https://dnesnivylet.cz/wp-content/uploads/2026/03/320-ffccde506cd6466b9574cc25ea24ec23.jpg
END:VEVENT
END:VCALENDAR