BEGIN:VCALENDAR
VERSION:2.0
PRODID:-//www.dnesnivylet.cz                                                                                                                        Tip na výlet pro celou rodinu. - ECPv6.15.13.1//NONSGML v1.0//EN
CALSCALE:GREGORIAN
METHOD:PUBLISH
X-ORIGINAL-URL:https://dnesnivylet.cz
X-WR-CALDESC:Akce na www.dnesnivylet.cz                                                                                                                        Tip na výlet pro celou rodinu.
REFRESH-INTERVAL;VALUE=DURATION:PT1H
X-Robots-Tag:noindex
X-PUBLISHED-TTL:PT1H
BEGIN:VTIMEZONE
TZID:Europe/Prague
BEGIN:DAYLIGHT
TZOFFSETFROM:+0100
TZOFFSETTO:+0200
TZNAME:CEST
DTSTART:20250330T010000
END:DAYLIGHT
BEGIN:STANDARD
TZOFFSETFROM:+0200
TZOFFSETTO:+0100
TZNAME:CET
DTSTART:20251026T010000
END:STANDARD
BEGIN:DAYLIGHT
TZOFFSETFROM:+0100
TZOFFSETTO:+0200
TZNAME:CEST
DTSTART:20260329T010000
END:DAYLIGHT
BEGIN:STANDARD
TZOFFSETFROM:+0200
TZOFFSETTO:+0100
TZNAME:CET
DTSTART:20261025T010000
END:STANDARD
BEGIN:DAYLIGHT
TZOFFSETFROM:+0100
TZOFFSETTO:+0200
TZNAME:CEST
DTSTART:20270328T010000
END:DAYLIGHT
BEGIN:STANDARD
TZOFFSETFROM:+0200
TZOFFSETTO:+0100
TZNAME:CET
DTSTART:20271031T010000
END:STANDARD
END:VTIMEZONE
BEGIN:VEVENT
DTSTART;TZID=Europe/Prague:20260515T183000
DTEND;TZID=Europe/Prague:20260515T213000
DTSTAMP:20260419T161909
CREATED:20260419T122221Z
LAST-MODIFIED:20260419T122221Z
UID:20906-1778869800-1778880600@dnesnivylet.cz
SUMMARY:ČERNÝ ŠATY PÁRTY / ZLLO FEST #4
DESCRIPTION:ČERNÝ ŠATY PÁRTY / ZLLO FEST #4 se uskuteční dne 2026-05-15 v 18:30 v Praha\, Rock Café. \n🎟️ Koupit vstupenku \n\nČerný Šaty Párty #4 \nCOCOTTE MINUTE + ANTEATER + BOUND TO BREAK \nČtvrtý ročník „rodinnýho“ mejdanu COCOTTE MINUTE! \nJiž čtvrtej rok po sobě se s váma chceme potkat na pravý cocottisticky ČERNÝ ŠATY PÁRTY / ZLLO FESTu!Všechny předchozí ročníky byly vyprodaný. \nPrvní ČŠ Párty jsme na rychlo zpunktovali aby jsme sehnali peníze na nečekanej dluh za klip a dál už je to historie! 🙂 \nNa čtvrtým „rodiným“ mejdanu s fans to spolu s náma rozbalí i lumpové z BOUND TO BREAK a hejsci a bosorka z ANTEATER. \nObě kapely se se ctí porvali o možnost dát s náma Zllucernu. Do  Zllucerny se bohužel nevešli ale v rock cafe si to s níma už užít můžeme! \nAle jak se na pořádnou ČŠ Párty patří nečekej žádný velký oficiality. Prostě zakalíme\, pokecáme a zahrajeme! Back to the roots. Z klubů jsme všichni vzešli a vždycky si to takhle rádi připomenem. Rádi vás uvidíme!  \nDress code „ČERNÝ ŠATY“ pro dámy recomended! .-) \nZeller \n\nTento tip na kulturní akci v Praha najdete v přehledu na Dnesnivylet.cz spolu s dalšími koncerty\, festivaly a divadelními představeními.Každý si vybere co se mu líbí. Nezapomeňte koupit vstupenky včas\, stačí kliknout a budete přesměrování na oficiálního prodejce vstupenek.
URL:https://dnesnivylet.cz/event/cerny-saty-party-zllo-fest-4/
LOCATION:Rock Café\, Praha\, Rock Café\, Praha\, Česká republika
CATEGORIES:Koncert
ATTACH;FMTTYPE=image/jpeg:https://dnesnivylet.cz/wp-content/uploads/2026/04/320-ec26f1d15b1c4a728f41da29222dd24b.jpg
END:VEVENT
BEGIN:VEVENT
DTSTART;TZID=Europe/Prague:20260515T203000
DTEND;TZID=Europe/Prague:20260515T233000
DTSTAMP:20260419T161909
CREATED:20251211T071035Z
LAST-MODIFIED:20251211T071037Z
UID:14750-1778877000-1778887800@dnesnivylet.cz
SUMMARY:Narvan a Našrot
DESCRIPTION:Narvan a Našrot se uskuteční dne 2026-05-15 v 20:30 v Uherské Hradiště\, Klub Mír. \n🎟️ Koupit vstupenku \n\nPo mnoha letech uvítáme na podiu otce českého hard core – kapelu NAŠROT\, a to spolu s reinkarnovanou legendou NARVAN! \nNARVAN – kapela\, jejíž netradiční crossover\, v němž míchala kytary\, funky i pop\, se nesmazatelně zapsala do srdcí všech fanoušků. Když si dnes poslechnete jejich singly L.O.V.E. nebo Kulatej svět\, jde stále o nadčasové skladby. Kariéru kapely smutně utnula tragická nehoda cestou na koncert\, při níž zemřel frontman a zakládající člen Mario Feinberg a kytarista Martin Pokora. Nyní se Narvan vrací\, aby po čtvrtstoletí vzdal koncerty poctu zesnulým spoluhráčům a zároveň představil novou sestavu. Tři původní členy doplnili Tomáš Sobotka a Petr Havlík z třebíčské kapely Jezerel. \nNAŠROT stylově vycházeli z Dead Kennedy´s a The Who\, a výsledkem pak bylo typicky české pojetí hard core – velmi rychlé a krátké palby s hospodskou tématikou….jedna z nejdivočejších českých HC-crossoverových part\, před revolucí téměř kultovní soubor všech ochmelků\, grázlů a jiných pochybných existencí. Na jejich koncerty chodili svorně a pospolu máničky\, punkeři i skini a nebylo mezi nimi žádných bouří. Pikantní na celé historii kapely je\, že hraje stále ve stejné sestavě a se stále stejným nasazením! \n\nTento tip na kulturní akci v Uherské Hradiště najdete v přehledu na Dnesnivylet.cz spolu s dalšími koncerty\, festivaly a divadelními představeními.Každý si vybere co se mu líbí. Nezapomeňte koupit vstupenky včas\, stačí kliknout a budete přesměrování na oficiálního prodejce vstupenek.
URL:https://dnesnivylet.cz/event/narvan-a-nasrot/
LOCATION:Klub Mír\, Uherské Hradiště\, Klub Mír\, Uherské Hradiště\, Česká republika
CATEGORIES:Koncert
ATTACH;FMTTYPE=image/jpeg:https://dnesnivylet.cz/wp-content/uploads/2025/12/320-4dbccea93d3041b785f2fc4478dc2050.jpg
END:VEVENT
END:VCALENDAR