BEGIN:VCALENDAR
VERSION:2.0
PRODID:-//www.dnesnivylet.cz                                                                                                                        Tip na výlet pro celou rodinu. - ECPv6.15.13.1//NONSGML v1.0//EN
CALSCALE:GREGORIAN
METHOD:PUBLISH
X-WR-CALNAME:www.dnesnivylet.cz                                                                                                                        Tip na výlet pro celou rodinu.
X-ORIGINAL-URL:https://dnesnivylet.cz
X-WR-CALDESC:Akce na www.dnesnivylet.cz                                                                                                                        Tip na výlet pro celou rodinu.
REFRESH-INTERVAL;VALUE=DURATION:PT1H
X-Robots-Tag:noindex
X-PUBLISHED-TTL:PT1H
BEGIN:VTIMEZONE
TZID:Europe/Prague
BEGIN:DAYLIGHT
TZOFFSETFROM:+0100
TZOFFSETTO:+0200
TZNAME:CEST
DTSTART:20250330T010000
END:DAYLIGHT
BEGIN:STANDARD
TZOFFSETFROM:+0200
TZOFFSETTO:+0100
TZNAME:CET
DTSTART:20251026T010000
END:STANDARD
BEGIN:DAYLIGHT
TZOFFSETFROM:+0100
TZOFFSETTO:+0200
TZNAME:CEST
DTSTART:20260329T010000
END:DAYLIGHT
BEGIN:STANDARD
TZOFFSETFROM:+0200
TZOFFSETTO:+0100
TZNAME:CET
DTSTART:20261025T010000
END:STANDARD
BEGIN:DAYLIGHT
TZOFFSETFROM:+0100
TZOFFSETTO:+0200
TZNAME:CEST
DTSTART:20270328T010000
END:DAYLIGHT
BEGIN:STANDARD
TZOFFSETFROM:+0200
TZOFFSETTO:+0100
TZNAME:CET
DTSTART:20271031T010000
END:STANDARD
END:VTIMEZONE
BEGIN:VEVENT
DTSTART;TZID=Europe/Prague:20260516T110000
DTEND;TZID=Europe/Prague:20260516T140000
DTSTAMP:20260419T150110
CREATED:20260105T210443Z
LAST-MODIFIED:20260105T210444Z
UID:16372-1778929200-1778940000@dnesnivylet.cz
SUMMARY:Rockfest Kuřim
DESCRIPTION:Rockfest Kuřim se uskuteční dne 2026-05-16 v 11:00 v Kuřim\, Zámek Kuřim. \n🎟️ Koupit vstupenku \n\nRockfest Kuřim se opět vrací do působivého prostředí Zámku Kuřim\, který se nachází v malebném městečku Kuřim nedaleko Brna. Tento jedinečný hudební festival se již stal tradiční akcí\, kde se setkávají fanoušci rockové hudby a užívají si energickou atmosféru pod širým nebem. \nHistorické prostředí zámku dodává festivalu nezaměnitelný šarm a spojuje hudbu s kulturním dědictvím regionu.  \nLegendární GRAVE DIGGER\, AXXIS\, MASTERPLAN a MANIMAL doplní české Metal Factory\, Donor a Judas Pries revival. \n\nTento tip na kulturní akci v Kuřim najdete v přehledu na Dnesnivylet.cz spolu s dalšími koncerty\, festivaly a divadelními představeními.Každý si vybere co se mu líbí. Nezapomeňte koupit vstupenky včas\, stačí kliknout a budete přesměrování na oficiálního prodejce vstupenek.
URL:https://dnesnivylet.cz/event/rockfest-kurim/
LOCATION:Zámek Kuřim\, Kuřim\, Zámek Kuřim\, Kuřim\, Česká republika
CATEGORIES:Festival
ATTACH;FMTTYPE=image/jpeg:https://dnesnivylet.cz/wp-content/uploads/2026/01/320-37371c44174742568e99b7bbe7e3fd6c.jpg
END:VEVENT
BEGIN:VEVENT
DTSTART;TZID=Europe/Prague:20260516T130000
DTEND;TZID=Europe/Prague:20260516T160000
DTSTAMP:20260419T150110
CREATED:20260209T193011Z
LAST-MODIFIED:20260209T193012Z
UID:17763-1778936400-1778947200@dnesnivylet.cz
SUMMARY:BestFEST 2026
DESCRIPTION:BestFEST 2026 se uskuteční dne 2026-05-16 v 13:00 v Brno\, Areál ČSAD. \n🎟️ Koupit vstupenku \n\nZažij rockovou jízdu na novém Open Air městském festivalu BestFEST 2026! \nPřiprav se na víkend plný energie\, kytarového drcení a nezapomenutelných riffů! Festival BestFEST 2026 přivítá fanoušky rocku a alternativní hudby v areálu ČSAD na ulici Hájecká 14\, 618 00 Brno\, kde se spojí skvělá hudba\, kamarádská atmosféra festivalový vibe. Událost na FB naleznete zde. \nVánoční dárek pro vás:  \nPrvních 369 vstupenek za vánočních 369 Kč / lupen pouze do 25.12.1. vlna prodeje 450 Kč2. vlna prodeje 550 Kčna místě 650 Kč.    \nLine-up\, který rozproudí krev:  \n\nReflections of Karma – (IRL/AUS/CZ) Reflections of Karma\nGATE Crasher – (Brno) GATE Crasher\nRoman Dragoun a Futurum – (Brno) Futurum\nLoretta – (Brno) Loretta – Na bigbeat není starej nikdo\, natož ženský!\nThe Seniors – (Brno) The Seniors\nSilver Band – (Boskovice) Silver Band – Rocková Kapela\nRAKK – (Pardubice) kapela RAKK \nEvoluce – (Vyškov) Kapela Evoluce\n\n  \nZážitek\, na který nezapomeneš \nKromě koncertů tě čeká festivalová zóna s jídlem\, pitím\, a hlavně místem pro setkávání s kamarády a dalšími fanoušky. \nJsme městský festival a proto máme několik přesvědčivých důvodů\, proč fanoušci rockového festivalu mají přijet městskou hromadnou dopravou (MHD): \n1️⃣ Pohodlí bez stresu \nNemusíš řešit hledání parkování\, placení ani přejíždění mezi festivalem a městem. ​Přijedeš přímo k areálu k zastávce Hájecká z hlavního nádraží autobusem č. 47 nebo 49\, odkud je festival pěšky dostupný do 100 m. \n2️⃣ Rychlejší a předvídatelná cesta \nMHD ti umožní vyhnout se kolonám a nečekaným zdržení. Jízdní řády MHD jsou pravidelné a spolehlivé\, takže si můžeš naplánovat přesný příjezd i odjezd. \n3️⃣ Šetrné k životnímu prostředí \nJedna tramvaj nebo autobus nahradí desítky aut – méně emisí\, méně hluku a čistší ovzduší pro všechny návštěvníky i obyvatele města. \n4️⃣ Bezpečnější návrat po koncertech \nPo hudebním večeru nemusíš řídit ani hledat taxi. MHD je spolehlivá a často jezdí déle i během festivalových nocí. \n5️⃣ Festivalová atmosféra začíná už cestou \nSpolečná cesta s dalšími fanoušky může být součástí zážitku – zpívání\, povídání\, nadšení ještě před tím\, než zazní první akordy. A na festivalu si můžeš dát tolik piv\, kolik sneseš 🙂 \n\nTento tip na kulturní akci v Brno najdete v přehledu na Dnesnivylet.cz spolu s dalšími koncerty\, festivaly a divadelními představeními.Každý si vybere co se mu líbí. Nezapomeňte koupit vstupenky včas\, stačí kliknout a budete přesměrování na oficiálního prodejce vstupenek.
URL:https://dnesnivylet.cz/event/bestfest-2026/
LOCATION:Areál ČSAD\, Brno\, Areál ČSAD\, Brno\, Česká republika
CATEGORIES:Festival
ATTACH;FMTTYPE=image/jpeg:https://dnesnivylet.cz/wp-content/uploads/2026/02/320-eadf98f003c44850bc34516c89509107.jpg
END:VEVENT
END:VCALENDAR