BEGIN:VCALENDAR
VERSION:2.0
PRODID:-//www.dnesnivylet.cz                                                                                                                        Tip na výlet pro celou rodinu. - ECPv6.15.13.1//NONSGML v1.0//EN
CALSCALE:GREGORIAN
METHOD:PUBLISH
X-ORIGINAL-URL:https://dnesnivylet.cz
X-WR-CALDESC:Akce na www.dnesnivylet.cz                                                                                                                        Tip na výlet pro celou rodinu.
REFRESH-INTERVAL;VALUE=DURATION:PT1H
X-Robots-Tag:noindex
X-PUBLISHED-TTL:PT1H
BEGIN:VTIMEZONE
TZID:Europe/Prague
BEGIN:DAYLIGHT
TZOFFSETFROM:+0100
TZOFFSETTO:+0200
TZNAME:CEST
DTSTART:20250330T010000
END:DAYLIGHT
BEGIN:STANDARD
TZOFFSETFROM:+0200
TZOFFSETTO:+0100
TZNAME:CET
DTSTART:20251026T010000
END:STANDARD
BEGIN:DAYLIGHT
TZOFFSETFROM:+0100
TZOFFSETTO:+0200
TZNAME:CEST
DTSTART:20260329T010000
END:DAYLIGHT
BEGIN:STANDARD
TZOFFSETFROM:+0200
TZOFFSETTO:+0100
TZNAME:CET
DTSTART:20261025T010000
END:STANDARD
BEGIN:DAYLIGHT
TZOFFSETFROM:+0100
TZOFFSETTO:+0200
TZNAME:CEST
DTSTART:20270328T010000
END:DAYLIGHT
BEGIN:STANDARD
TZOFFSETFROM:+0200
TZOFFSETTO:+0100
TZNAME:CET
DTSTART:20271031T010000
END:STANDARD
END:VTIMEZONE
BEGIN:VEVENT
DTSTART;TZID=Europe/Prague:20260519T183000
DTEND;TZID=Europe/Prague:20260519T213000
DTSTAMP:20260419T161918
CREATED:20251103T193521Z
LAST-MODIFIED:20251103T193522Z
UID:12069-1779215400-1779226200@dnesnivylet.cz
SUMMARY:Světová hudba pro 4 saxofony v Chomutově
DESCRIPTION:Světová hudba pro 4 saxofony v Chomutově se uskuteční dne 2026-05-19 v 18:30 v Chomutov\, Kostel sv. Ignáce. \n🎟️ Koupit vstupenku \n\nV Kostele sv. Ignáce v Chumutově připravujeme koncert\, kde na vás čeká koncert se zajímavou dramaturgií\, zahrnující klasické skladby upravené pro saxofonovy\, swingovou a jazzovou hudbu i hudbu filmovou v podání saxofonového kvarteta Four Brothers. \n  \nSAXOFONOVÉ KVARTETO FOUR BROTHERS \nMarek Buble – soprán/alt saxofon\, Jan Musil – alt saxofon\, \nMartin Zilvar  – tenor saxofon\, Jan Turner – baryton saxofon \n  \nPROGRAM: \nG. GERSHWIN – I got rhytm \nG. GERSHWIN – Foggy Day \nGlenn MILLER – American Patrol \nW. KRELL – Mississippi Ragtime \nA. PIAZOLLA – Libertango \nH. MANCINI – RŮŽOVÝ PANTER (Peter Gunn Theme) \nL. BEGA – MAMBO N.5 \nJ. BARRY  – JAMES BOND Theme \nH. ARLEN – ČARODEJ ZE ZEMĚ OZ (Over the rainbow ) \nB. HOWARD – Fly me to the Moon \nH. HANCOCK – Cantaloupe Island \narr. B. LISTON – Brazil \nB. Mc FERRIN – Don´t Worry Be Happy \nB. KAPER – Green Dolphin Street \nF. FISCHER – CHICAGO \nD. CHRISTIANSON – Comedy for Saxofophones \nJ. ZAWINUL – Mercy\, Mercy\, Mercy \nDélka cca 65 minut\, změna programu vyhrazena. \n  \n  \n\nTento tip na kulturní akci v Chomutov najdete v přehledu na Dnesnivylet.cz spolu s dalšími koncerty\, festivaly a divadelními představeními.Každý si vybere co se mu líbí. Nezapomeňte koupit vstupenky včas\, stačí kliknout a budete přesměrování na oficiálního prodejce vstupenek.
URL:https://dnesnivylet.cz/event/svetova-hudba-pro-4-saxofony-v-chomutove/
LOCATION:Kostel sv. Ignáce\, Chomutov\, Kostel sv. Ignáce\, Chomutov\, Česká republika
CATEGORIES:Koncert
ATTACH;FMTTYPE=image/jpeg:https://dnesnivylet.cz/wp-content/uploads/2025/11/320-2517888ff3b74ba7829d264e0656f79e.jpg
END:VEVENT
BEGIN:VEVENT
DTSTART;TZID=Europe/Prague:20260519T190000
DTEND;TZID=Europe/Prague:20260519T220000
DTSTAMP:20260419T161918
CREATED:20260419T121948Z
LAST-MODIFIED:20260419T121948Z
UID:20871-1779217200-1779228000@dnesnivylet.cz
SUMMARY:Rockové Balady při svíčkách
DESCRIPTION:Rockové Balady při svíčkách se uskuteční dne 2026-05-19 v 19:00 v Jindřichův Hradec\, KD Střelnice. \n🎟️ Koupit vstupenku \n\nZažij kouzlo největších rockových hitů během jedinečného večera\, kde legendární melodie zazní v podání smyčcového kvarteta za svitu stovek svíček. \nUslyšíš skladby světově proslulých kapel jako Queen\, Metallica\, Nirvana\, Aerosmith\, Guns N’ Roses\, Led Zeppelin\, Pink Floyd\, Deep Purple\, Bon Jovi a mnoha dalších. Smyčcové aranžmá otevírá těmto klasikám zcela nové emocionální hloubky. \nTeplé světlo svíček vytváří výjimečně intimní atmosféru – čeká tě nezapomenutelný hudební zážitek. \nAkce není doporučena pro děti mladší 6 let. \n\nTento tip na kulturní akci v Jindřichův Hradec najdete v přehledu na Dnesnivylet.cz spolu s dalšími koncerty\, festivaly a divadelními představeními.Každý si vybere co se mu líbí. Nezapomeňte koupit vstupenky včas\, stačí kliknout a budete přesměrování na oficiálního prodejce vstupenek.
URL:https://dnesnivylet.cz/event/rockove-balady-pri-svickach-5/
LOCATION:KD Střelnice\, Jindřichův Hradec\, KD Střelnice\, Jindřichův Hradec\, Česká republika
CATEGORIES:Koncert
ATTACH;FMTTYPE=image/jpeg:https://dnesnivylet.cz/wp-content/uploads/2026/04/320-ebf80a9fe785426bab6e34c2fe089cad.jpg
END:VEVENT
END:VCALENDAR