BEGIN:VCALENDAR
VERSION:2.0
PRODID:-//www.dnesnivylet.cz                                                                                                                        Tip na výlet pro celou rodinu. - ECPv6.15.13.1//NONSGML v1.0//EN
CALSCALE:GREGORIAN
METHOD:PUBLISH
X-ORIGINAL-URL:https://dnesnivylet.cz
X-WR-CALDESC:Akce na www.dnesnivylet.cz                                                                                                                        Tip na výlet pro celou rodinu.
REFRESH-INTERVAL;VALUE=DURATION:PT1H
X-Robots-Tag:noindex
X-PUBLISHED-TTL:PT1H
BEGIN:VTIMEZONE
TZID:Europe/Prague
BEGIN:DAYLIGHT
TZOFFSETFROM:+0100
TZOFFSETTO:+0200
TZNAME:CEST
DTSTART:20250330T010000
END:DAYLIGHT
BEGIN:STANDARD
TZOFFSETFROM:+0200
TZOFFSETTO:+0100
TZNAME:CET
DTSTART:20251026T010000
END:STANDARD
BEGIN:DAYLIGHT
TZOFFSETFROM:+0100
TZOFFSETTO:+0200
TZNAME:CEST
DTSTART:20260329T010000
END:DAYLIGHT
BEGIN:STANDARD
TZOFFSETFROM:+0200
TZOFFSETTO:+0100
TZNAME:CET
DTSTART:20261025T010000
END:STANDARD
BEGIN:DAYLIGHT
TZOFFSETFROM:+0100
TZOFFSETTO:+0200
TZNAME:CEST
DTSTART:20270328T010000
END:DAYLIGHT
BEGIN:STANDARD
TZOFFSETFROM:+0200
TZOFFSETTO:+0100
TZNAME:CET
DTSTART:20271031T010000
END:STANDARD
END:VTIMEZONE
BEGIN:VEVENT
DTSTART;TZID=Europe/Prague:20260522T130000
DTEND;TZID=Europe/Prague:20260522T160000
DTSTAMP:20260419T161915
CREATED:20251102T185019Z
LAST-MODIFIED:20251102T185019Z
UID:11301-1779454800-1779465600@dnesnivylet.cz
SUMMARY:Slavnosti piva pod komínem 2026
DESCRIPTION:Slavnosti piva pod komínem 2026 se uskuteční dne 2026-05-22 v 13:00 v Hulín\, Pivovar Záhlinice. \n🎟️ Koupit vstupenku \n\nPřátelé\, v roce 2026 se opět potkáme všichni pod komínem v Pivovaru Záhlinice!  \nPivní slavnosti pod komínem budou dvoudenní\, v termínu 22.5. – 23.5. 2026 a my se na vás moc těšíme.  \nPrvní kapely ozníme brzy a věřte\, že se máte se na co těšit!!! 🙂  \nVíce informací na našich sociálních sítích. \nTěšíme se na vás!!! \n\nTento tip na kulturní akci v Hulín najdete v přehledu na Dnesnivylet.cz spolu s dalšími koncerty\, festivaly a divadelními představeními.Každý si vybere co se mu líbí. Nezapomeňte koupit vstupenky včas\, stačí kliknout a budete přesměrování na oficiálního prodejce vstupenek.
URL:https://dnesnivylet.cz/event/slavnosti-piva-pod-kominem-2026/
LOCATION:Pivovar Záhlinice\, Hulín\, Pivovar Záhlinice\, Hulín\, Česká republika
CATEGORIES:Festival
ATTACH;FMTTYPE=image/jpeg:https://dnesnivylet.cz/wp-content/uploads/2025/11/320-53819edac4c8431da3757ee6e9ef0557.jpg
END:VEVENT
BEGIN:VEVENT
DTSTART;TZID=Europe/Prague:20260522T163000
DTEND;TZID=Europe/Prague:20260522T193000
DTSTAMP:20260419T161915
CREATED:20251214T081133Z
LAST-MODIFIED:20251214T081133Z
UID:15293-1779467400-1779478200@dnesnivylet.cz
SUMMARY:PonavaFest 2026: Park Side of the Moon
DESCRIPTION:PonavaFest 2026: Park Side of the Moon se uskuteční dne 2026-05-22 v 16:30 v Brno\, Park Lužánky. \n🎟️ Koupit vstupenku \n\nPonavaFest 2026: Park Side of the Moon! \nVýjimečný hudební zážitek v Brně! \nPonavaFest již po 11. v Brně! Připravte se na tři dny hudby z celého světa. Vedle známých hvězd uslyšíte nové výjimečné objevy\, které v tuzemských lineupech běžně nenajdete. \nNa koho se můžete těšit?  \n\nSavina Yannatou & Primavera en Salonico with Lamia Bedioui\nMary Halvorson: Canis Major\nDunaj & Jana Vébrová \nPutan Club (IT-FR)\nRajtaraj\nMajkls & friends \nNixies\nPrune\nMartina Trchová & Band \nThe Naive Collective \nBladderstones + Vladimír Václavek \nDen Der Hale (SWE) \nMarcel Bárta quintet\nFilorodu\nWatersong\n\n  \nDalší program a podrobnější informace budeme postupně zveřejňovat. \n\nTento tip na kulturní akci v Brno najdete v přehledu na Dnesnivylet.cz spolu s dalšími koncerty\, festivaly a divadelními představeními.Každý si vybere co se mu líbí. Nezapomeňte koupit vstupenky včas\, stačí kliknout a budete přesměrování na oficiálního prodejce vstupenek.
URL:https://dnesnivylet.cz/event/ponavafest-2026-park-side-of-the-moon/
LOCATION:Park Lužánky\, Brno\, Park Lužánky\, Brno\, Česká republika
CATEGORIES:Festival
ATTACH;FMTTYPE=image/jpeg:https://dnesnivylet.cz/wp-content/uploads/2025/12/320-66d13d54590340d0865f7be14c0a111d.jpg
END:VEVENT
BEGIN:VEVENT
DTSTART;TZID=Europe/Prague:20260522T190000
DTEND;TZID=Europe/Prague:20260522T220000
DTSTAMP:20260419T161915
CREATED:20260314T190336Z
LAST-MODIFIED:20260314T190336Z
UID:19510-1779476400-1779487200@dnesnivylet.cz
SUMMARY:XIII. století\, Pačess a Bára Basiková
DESCRIPTION:XIII. století\, Pačess a Bára Basiková se uskuteční dne 2026-05-22 v 19:00 v Drnovice\, KD Drnovice u Vyškova. \n🎟️ Koupit vstupenku \n\nXIII. století je česká legenda gothického rocku. Vznikla v roce 1990 a v různých obměnách sestavy doposud natočila a vydala 10 řadových alb. Jejich koncerty jsou strhující svou atmosférou. Hity jako Karneval\, Elizabeth nebo další legendární melodie vás pohltí od prvního tónu. \nPačess je etablovaná pivně didaktická metalová kapela svérázného pivovarníka\, která má na kontě 6 nahrávek. Poslední album „Katechismus“ bylo více než vřele přijato jak kritikou\, tak i fanoušky. Na téhle nahrávce kapela spojila síly s jednou z nejuznávanějších tuzemských zpěvaček Bárou Basikovou. V roce 2026 kapela připravuje vydaní dalšího alba „Katechismus 2“. \nVečer zahájí Skeleton Creaking\, jejichž tvorba je ovlivněna metalovými proudy devadesátých let. \n  \n\nTento tip na kulturní akci v Drnovice najdete v přehledu na Dnesnivylet.cz spolu s dalšími koncerty\, festivaly a divadelními představeními.Každý si vybere co se mu líbí. Nezapomeňte koupit vstupenky včas\, stačí kliknout a budete přesměrování na oficiálního prodejce vstupenek.
URL:https://dnesnivylet.cz/event/xiii-stoleti-pacess-a-bara-basikova/
LOCATION:KD Drnovice u Vyškova\, Drnovice\, KD Drnovice u Vyškova\, Drnovice\, Česká republika
CATEGORIES:Koncert
ATTACH;FMTTYPE=image/jpeg:https://dnesnivylet.cz/wp-content/uploads/2026/03/320-af2d00bf6ba1432eac47117ba81f47d0.jpg
END:VEVENT
END:VCALENDAR