BEGIN:VCALENDAR
VERSION:2.0
PRODID:-//www.dnesnivylet.cz                                                                                                                        Tip na výlet pro celou rodinu. - ECPv6.15.13.1//NONSGML v1.0//EN
CALSCALE:GREGORIAN
METHOD:PUBLISH
X-ORIGINAL-URL:https://dnesnivylet.cz
X-WR-CALDESC:Akce na www.dnesnivylet.cz                                                                                                                        Tip na výlet pro celou rodinu.
REFRESH-INTERVAL;VALUE=DURATION:PT1H
X-Robots-Tag:noindex
X-PUBLISHED-TTL:PT1H
BEGIN:VTIMEZONE
TZID:Europe/Prague
BEGIN:DAYLIGHT
TZOFFSETFROM:+0100
TZOFFSETTO:+0200
TZNAME:CEST
DTSTART:20250330T010000
END:DAYLIGHT
BEGIN:STANDARD
TZOFFSETFROM:+0200
TZOFFSETTO:+0100
TZNAME:CET
DTSTART:20251026T010000
END:STANDARD
BEGIN:DAYLIGHT
TZOFFSETFROM:+0100
TZOFFSETTO:+0200
TZNAME:CEST
DTSTART:20260329T010000
END:DAYLIGHT
BEGIN:STANDARD
TZOFFSETFROM:+0200
TZOFFSETTO:+0100
TZNAME:CET
DTSTART:20261025T010000
END:STANDARD
BEGIN:DAYLIGHT
TZOFFSETFROM:+0100
TZOFFSETTO:+0200
TZNAME:CEST
DTSTART:20270328T010000
END:DAYLIGHT
BEGIN:STANDARD
TZOFFSETFROM:+0200
TZOFFSETTO:+0100
TZNAME:CET
DTSTART:20271031T010000
END:STANDARD
END:VTIMEZONE
BEGIN:VEVENT
DTSTART;TZID=Europe/Prague:20260626T200000
DTEND;TZID=Europe/Prague:20260626T230000
DTSTAMP:20260419T161920
CREATED:20260405T125724Z
LAST-MODIFIED:20260405T125724Z
UID:20143-1782504000-1782514800@dnesnivylet.cz
SUMMARY:Legenda Karel Kahovec "80" + Beatles Revival+Michal Šindelář
DESCRIPTION:Legenda Karel Kahovec „80“ + Beatles Revival+Michal Šindelář se uskuteční dne 2026-06-26 v 20:00 v Milín\, Hřiště TJ Ligmet Milín. \n🎟️ Koupit vstupenku \n\n  \nNarozeninový koncert legendárního Karla Kahovce 2026!  \npátek 26.6.2026 od 20:00 areál TJ Ligmet Milín \nNEČÍSLOVANÉ SEZENÍ + stání \nZveme vás na výjimečný hudební večer\, kde své životní jubileum oslaví nezaměnitelný Karel Kahovec – ikona českého bigbítu a jeden z nejvýraznějších hlasů své generace. \nNa jednom pódiu se představí společně se skupinou The Beatles Revival\, která koncert obohatí o nesmrtelné hity slavných „Brouků“. \nMůžete se těšit na největší Kahovcovy písně\, mezi nimi například: \n\nHáj Modřínů\nPaní v černém\nSvou lásku jsem rozdal\nPoprava blond holky\n\nA samozřejmě nebudou chybět legendární skladby The Beatles\, které dodají večeru jedinečnou atmosféru. \nJako vzácný host koncertu se představí bývalý bubeník legendárního Katapultu – Michal Šindelář s fláky od Katapultu a svým jedinečným hitem Hořely Padaly Hvězdy \nSoučástí koncertu bude také vzpomínka na Petra Nováka\, jednoho z největších hlasů české hudby. Připomeneme si jeho nezapomenutelné hity: \n\nPovídej\nHvězdičko blýskavá\nJá budu chodit po špičkách\nNáhrobní kámen\n\nPřijďte zažít večer plný emocí\, velkých hitů a pocty třem hudebním legendám.Tahle narozeninová oslava bude stát za to! V případě eventuálního úmrtí Karla Kahovce (např. předávkování Viagrou) se koncert koná jako vzpomínka na Karla. \n\nTento tip na kulturní akci v Milín najdete v přehledu na Dnesnivylet.cz spolu s dalšími koncerty\, festivaly a divadelními představeními.Každý si vybere co se mu líbí. Nezapomeňte koupit vstupenky včas\, stačí kliknout a budete přesměrování na oficiálního prodejce vstupenek.
URL:https://dnesnivylet.cz/event/legenda-karel-kahovec-80-beatles-revivalmichal-sindelar/
LOCATION:Hřiště TJ Ligmet Milín\, Milín\, Hřiště TJ Ligmet Milín\, Milín\, Česká republika
CATEGORIES:Koncert
ATTACH;FMTTYPE=image/jpeg:https://dnesnivylet.cz/wp-content/uploads/2026/04/320-18c7ce975a4646fb829927314155297c.jpg
END:VEVENT
END:VCALENDAR