BEGIN:VCALENDAR
VERSION:2.0
PRODID:-//www.dnesnivylet.cz                                                                                                                        Tip na výlet pro celou rodinu. - ECPv6.15.13.1//NONSGML v1.0//EN
CALSCALE:GREGORIAN
METHOD:PUBLISH
X-WR-CALNAME:www.dnesnivylet.cz                                                                                                                        Tip na výlet pro celou rodinu.
X-ORIGINAL-URL:https://dnesnivylet.cz
X-WR-CALDESC:Akce na www.dnesnivylet.cz                                                                                                                        Tip na výlet pro celou rodinu.
REFRESH-INTERVAL;VALUE=DURATION:PT1H
X-Robots-Tag:noindex
X-PUBLISHED-TTL:PT1H
BEGIN:VTIMEZONE
TZID:Europe/Prague
BEGIN:DAYLIGHT
TZOFFSETFROM:+0100
TZOFFSETTO:+0200
TZNAME:CEST
DTSTART:20250330T010000
END:DAYLIGHT
BEGIN:STANDARD
TZOFFSETFROM:+0200
TZOFFSETTO:+0100
TZNAME:CET
DTSTART:20251026T010000
END:STANDARD
BEGIN:DAYLIGHT
TZOFFSETFROM:+0100
TZOFFSETTO:+0200
TZNAME:CEST
DTSTART:20260329T010000
END:DAYLIGHT
BEGIN:STANDARD
TZOFFSETFROM:+0200
TZOFFSETTO:+0100
TZNAME:CET
DTSTART:20261025T010000
END:STANDARD
BEGIN:DAYLIGHT
TZOFFSETFROM:+0100
TZOFFSETTO:+0200
TZNAME:CEST
DTSTART:20270328T010000
END:DAYLIGHT
BEGIN:STANDARD
TZOFFSETFROM:+0200
TZOFFSETTO:+0100
TZNAME:CET
DTSTART:20271031T010000
END:STANDARD
END:VTIMEZONE
BEGIN:VEVENT
DTSTART;TZID=Europe/Prague:20260627T130000
DTEND;TZID=Europe/Prague:20260627T160000
DTSTAMP:20260419T150111
CREATED:20260122T123900Z
LAST-MODIFIED:20260122T123901Z
UID:16969-1782565200-1782576000@dnesnivylet.cz
SUMMARY:Rockfest Zdounky
DESCRIPTION:Rockfest Zdounky se uskuteční dne 2026-06-27 v 13:00 v Zdounky\, Zdounky fotbalové hřiště. \n🎟️ Koupit vstupenku \nTento tip na kulturní akci v Zdounky najdete v přehledu na Dnesnivylet.cz spolu s dalšími koncerty\, festivaly a divadelními představeními.Každý si vybere co se mu líbí. Nezapomeňte koupit vstupenky včas\, stačí kliknout a budete přesměrování na oficiálního prodejce vstupenek.
URL:https://dnesnivylet.cz/event/rockfest-zdounky/
LOCATION:Zdounky fotbalové hřiště\, Zdounky\, Zdounky fotbalové hřiště\, Zdounky\, Česká republika
CATEGORIES:Festival
ATTACH;FMTTYPE=image/jpeg:https://dnesnivylet.cz/wp-content/uploads/2026/01/320-fb23563c3f7f4cdfada92aaab02e1354.jpg
END:VEVENT
BEGIN:VEVENT
DTSTART;TZID=Europe/Prague:20260627T130000
DTEND;TZID=Europe/Prague:20260627T160000
DTSTAMP:20260419T150111
CREATED:20260211T131151Z
LAST-MODIFIED:20260211T131151Z
UID:18124-1782565200-1782576000@dnesnivylet.cz
SUMMARY:FERBY FEST 2026
DESCRIPTION:FERBY FEST 2026 se uskuteční dne 2026-06-27 v 13:00 v Velké Bílovice\, Areál Křástelka. \n🎟️ Koupit vstupenku \n\nŘekneme vám to na rovinu… Mysleli jsme si\, že další FERBY FEST se už neuskuteční\, nebo možná jeden\, rozlučkový… \nOd posledního FERBY FESTU uplynuly celé dva roky\, během kterých jsme ale čelili častým dotazům a přáním\, jestli a ať se festival vrátí. Nedalo nám to a řekli jsme si\, že v roce 2026 se do toho zase opřeme! \nA opřeli jsme se vskutku pořádně\, no posuďte dle line-upu sami! A vracíme se do úžasného areálu\, kde náš festival historicky začal! \nMilý přátelé kvalitního rocku\, výborného vína a ducha našeho festivalu… těšíme se na vás! \n\nTento tip na kulturní akci v Velké Bílovice najdete v přehledu na Dnesnivylet.cz spolu s dalšími koncerty\, festivaly a divadelními představeními.Každý si vybere co se mu líbí. Nezapomeňte koupit vstupenky včas\, stačí kliknout a budete přesměrování na oficiálního prodejce vstupenek.
URL:https://dnesnivylet.cz/event/ferby-fest-2026/
LOCATION:Areál Křástelka\, Velké Bílovice\, Areál Křástelka\, Velké Bílovice\, Česká republika
CATEGORIES:Festival
ATTACH;FMTTYPE=image/jpeg:https://dnesnivylet.cz/wp-content/uploads/2026/02/320-a92f40a269784b13bdd8d11215cc35b8-1.jpg
END:VEVENT
BEGIN:VEVENT
DTSTART;TZID=Europe/Prague:20260627T130000
DTEND;TZID=Europe/Prague:20260627T160000
DTSTAMP:20260419T150111
CREATED:20260211T131151Z
LAST-MODIFIED:20260211T131151Z
UID:18125-1782565200-1782576000@dnesnivylet.cz
SUMMARY:FERBY FEST 2026
DESCRIPTION:FERBY FEST 2026 se uskuteční dne 2026-06-27 v 13:00 v Velké Bílovice\, Areál Křástelka. \n🎟️ Koupit vstupenku \n\nŘekneme vám to na rovinu… Mysleli jsme si\, že další FERBY FEST se už neuskuteční\, nebo možná jeden\, rozlučkový… \nOd posledního FERBY FESTU uplynuly celé dva roky\, během kterých jsme ale čelili častým dotazům a přáním\, jestli a ať se festival vrátí. Nedalo nám to a řekli jsme si\, že v roce 2026 se do toho zase opřeme! \nA opřeli jsme se vskutku pořádně\, no posuďte dle line-upu sami! A vracíme se do úžasného areálu\, kde náš festival historicky začal! \nMilý přátelé kvalitního rocku\, výborného vína a ducha našeho festivalu… těšíme se na vás! \n\nTento tip na kulturní akci v Velké Bílovice najdete v přehledu na Dnesnivylet.cz spolu s dalšími koncerty\, festivaly a divadelními představeními.Každý si vybere co se mu líbí. Nezapomeňte koupit vstupenky včas\, stačí kliknout a budete přesměrování na oficiálního prodejce vstupenek.
URL:https://dnesnivylet.cz/event/ferby-fest-2026-2/
LOCATION:Areál Křástelka\, Velké Bílovice\, Areál Křástelka\, Velké Bílovice\, Česká republika
CATEGORIES:Festival
ATTACH;FMTTYPE=image/jpeg:https://dnesnivylet.cz/wp-content/uploads/2026/02/320-a92f40a269784b13bdd8d11215cc35b8.jpg
END:VEVENT
BEGIN:VEVENT
DTSTART;TZID=Europe/Prague:20260627T140000
DTEND;TZID=Europe/Prague:20260627T170000
DTSTAMP:20260419T150111
CREATED:20260404T175403Z
LAST-MODIFIED:20260404T175404Z
UID:20011-1782568800-1782579600@dnesnivylet.cz
SUMMARY:Rock na Plumlově 2026
DESCRIPTION:Rock na Plumlově 2026 se uskuteční dne 2026-06-27 v 14:00 v Mostkovice\, Pláž U Vrbiček (Plumlov). \n🎟️ Koupit vstupenku \n\nRock na Plumlově se vrací již pošesté a v roce 2026 nabídne pořádnou dávku českého rocku!Na pláži u Vrbiček\, přímo u přehrady Plumlov\, se představí kapely\, které není třeba dlouze představovat. \n🎸 ARAKAIN🎸 BASTARD🎸 LIMETALL🎸 CALIBOS \nČeká tě den plný hlasité muziky\, skvělé atmosféry\, letní pohody u vody a rockové energie.Vezmi partu\, doraz k vodě a buď u toho! \nDO KONCE LEDNA AKČNÍ CENA 390 Kč! \n  \n27.06.2026\, pláž u Vrbiček (Plumlovská přehrada\, Mostkovice) \n  \n\nTento tip na kulturní akci v Mostkovice najdete v přehledu na Dnesnivylet.cz spolu s dalšími koncerty\, festivaly a divadelními představeními.Každý si vybere co se mu líbí. Nezapomeňte koupit vstupenky včas\, stačí kliknout a budete přesměrování na oficiálního prodejce vstupenek.
URL:https://dnesnivylet.cz/event/rock-na-plumlove-2026/
LOCATION:Pláž U Vrbiček (Plumlov)\, Mostkovice\, Pláž U Vrbiček (Plumlov)\, Mostkovice\, Česká republika
CATEGORIES:Koncert
END:VEVENT
END:VCALENDAR