BEGIN:VCALENDAR
VERSION:2.0
PRODID:-//www.dnesnivylet.cz                                                                                                                        Tip na výlet pro celou rodinu. - ECPv6.15.13.1//NONSGML v1.0//EN
CALSCALE:GREGORIAN
METHOD:PUBLISH
X-ORIGINAL-URL:https://dnesnivylet.cz
X-WR-CALDESC:Akce na www.dnesnivylet.cz                                                                                                                        Tip na výlet pro celou rodinu.
REFRESH-INTERVAL;VALUE=DURATION:PT1H
X-Robots-Tag:noindex
X-PUBLISHED-TTL:PT1H
BEGIN:VTIMEZONE
TZID:Europe/Prague
BEGIN:DAYLIGHT
TZOFFSETFROM:+0100
TZOFFSETTO:+0200
TZNAME:CEST
DTSTART:20250330T010000
END:DAYLIGHT
BEGIN:STANDARD
TZOFFSETFROM:+0200
TZOFFSETTO:+0100
TZNAME:CET
DTSTART:20251026T010000
END:STANDARD
BEGIN:DAYLIGHT
TZOFFSETFROM:+0100
TZOFFSETTO:+0200
TZNAME:CEST
DTSTART:20260329T010000
END:DAYLIGHT
BEGIN:STANDARD
TZOFFSETFROM:+0200
TZOFFSETTO:+0100
TZNAME:CET
DTSTART:20261025T010000
END:STANDARD
BEGIN:DAYLIGHT
TZOFFSETFROM:+0100
TZOFFSETTO:+0200
TZNAME:CEST
DTSTART:20270328T010000
END:DAYLIGHT
BEGIN:STANDARD
TZOFFSETFROM:+0200
TZOFFSETTO:+0100
TZNAME:CET
DTSTART:20271031T010000
END:STANDARD
END:VTIMEZONE
BEGIN:VEVENT
DTSTART;TZID=Europe/Prague:20260703T200000
DTEND;TZID=Europe/Prague:20260703T230000
DTSTAMP:20260419T161916
CREATED:20251027T090429Z
LAST-MODIFIED:20251027T090429Z
UID:10239-1783108800-1783119600@dnesnivylet.cz
SUMMARY:The Beatles Revival a legendární Karel Kahovec
DESCRIPTION:The Beatles Revival a legendární Karel Kahovec se uskuteční dne 2026-07-03 v 20:00 v Sezimovo Ústí\, parket restaurace Kozí Hrádek u Tábora. \n🎟️ Koupit vstupenku \n\nJedinečný tříhodinový koncert v pátek 3.7.2026 od 20:00 na částečně krytém letním parketu restaurace Kozí Hrádek u Tábora . Legendární Karel Kahovec vystoupí společně s jednou s nejlepších světových Beatles Revival kapel – The Beatles Revival  \nNejvětší hity legendární skupiny BEATLES v nádherném prostředí areálu restaurace Kozí Hrádek u Tábora s mnoha krytými místy na sezení. \nHudba nejpopulárnější kapely šedesátých let s více než 600 miliony prodanými deskami a nekonečným dedikovaným fanouškovským základem míří do Mnichova Hradiště v podání nejlepší revivalové kapely\, která jako jediná dokázala naplnit největší holandskou koncertní haly AHOY arena v Rotterdamu! ( https://www.youtube.com/watch?v=v2pbVKWridU ) \nJedna z nejúspěšnějších evropských revivalových skupin – vystupuje od roku 1992 a to nejen v Čechách\, ale i Holandsku\, Polsku\, Francii\, Maďarsku\, Slovensku a dokonce i v rodišti legendární čtveřice – severoanglickém Liverpoolu! Těšit se můžete na největší hity „Brouků“ téměř v originálním podání.  \nKoncert Beatles Revivalu z Kladna je opravdovou a dokonalou kopií koncertu legendárních Beatles. Jako důkaz slouží i to\, že skupina byla pozvána do rodiště Beatles – anglického Liverpoolu a tam v legendárním Cavern Clubu odehrála tři vystoupení a absolvovala hodinové interview a živý koncert v pořadu On The Beat na Liverpool BBC Merseyside Radio\, což se dosud žádné neanglické skupině nepodařilo. A nebo to\, že po vystoupení v Adelphi Hotel v Liverpoolu přišel dokonce skupině poděkovat dlouholetý tajemník Beatles Alistair Taylor a prohlásil\, že vystoupení skupiny bylo naprosto dokonalé a chvílemi prý nevěřil\, že na pódiu nehrají praví Beatles\, přestože s nimi strávil na cestách dlouhých pět let. Jedním z důkazů je též obrovský úspěch na Estrel Beatles Festivalu v Berlíně\, kde skupina svým výkonem nadchla prvního manažera Beatles Alana Williamse natolik\, že kapelu přizval ke spolupráci na projektu John Lennon Memorial. V neposlední řadě je též měřítkem úspěchu bezpočet televizních vystoupení\, například v TV Nova\, ČT1\, maďarské MTV\, polské TVP1\, slovenské TV Markíza\, německé MDF1 a dalších televizích po celé Evropě. \nOriginální nástroje a pódiová aparatura– Sólová kytara Rickenbacker 360 Fireglow\, aparatura VOX AC30– Rytmická kytara Rickenbacker 350 Liverpool\, aparatura VOX AC30– Basová kytara Höfner Violin Bass\, aparatura VOX AC100 + VOX T100– Bicí Ludwig – Fab 4 Set\, Black Oyster Finish \nKostýmy– Kopie černých obleků používaných v letech 1962-64 + Beatle Chelsea Cavern Boots– Kopie šedých obleků s černými klopami z období 1963-65 + Beatle Chelsea Cavern Boots– Kopie Shea Stadium Jackets z let 1965-66 + Beatle Chelsea Cavern Boots– Kopie uniforem z alba Sgt. Pepper’s Lonely Hearts Club Band \nLegenda českého bigbítu Karel Kahovec se v novém exkluzivním a originálním koncertním projektu spojil s jednou z nejlepších světových revivalových kapel The Beatles Revival. Ve více jak dvouhodinovém koncertu zazní nejdříve pětačtyřicetiminutový blok největších pecek The Beatles Revival\, na ně naváže stejně dlouhý blok hitů Karla Kahovce jako Paní v černém\, Poprava blond holky či Svou lásku jsem rozdal a dojde i na hudební vzpomínku na Petra Nováka\, s nímž KK působil v kapele G&B\, takže zazpívá skladby jako Povídej\, Já budu chodit po špičkách\, Hvězdičko blýskavá nebo Náhrobní kámen\, to vše v doprovodu The Beatles Revival v originálních vokálních i nástrojových aranžích. Po přestávce vyplněné autogramiádou s KK bude následovat opět blok písní The Beatles Revival. Krásný hudební nostalgický návrat do zlaté éry rokenrolu! \n\nTento tip na kulturní akci v Sezimovo Ústí najdete v přehledu na Dnesnivylet.cz spolu s dalšími koncerty\, festivaly a divadelními představeními.Každý si vybere co se mu líbí. Nezapomeňte koupit vstupenky včas\, stačí kliknout a budete přesměrování na oficiálního prodejce vstupenek.
URL:https://dnesnivylet.cz/event/the-beatles-revival-a-legendarni-karel-kahovec/
LOCATION:parket restaurace Kozí Hrádek u Tábora\, Sezimovo Ústí\, parket restaurace Kozí Hrádek u Tábora\, Sezimovo Ústí\, Česká republika
CATEGORIES:Koncert
ATTACH;FMTTYPE=image/jpeg:https://dnesnivylet.cz/wp-content/uploads/2025/10/320-62424ff3b484481381bc47c7594354b4.jpg
END:VEVENT
END:VCALENDAR