BEGIN:VCALENDAR
VERSION:2.0
PRODID:-//www.dnesnivylet.cz                                                                                                                        Tip na výlet pro celou rodinu. - ECPv6.15.13.1//NONSGML v1.0//EN
CALSCALE:GREGORIAN
METHOD:PUBLISH
X-ORIGINAL-URL:https://dnesnivylet.cz
X-WR-CALDESC:Akce na www.dnesnivylet.cz                                                                                                                        Tip na výlet pro celou rodinu.
REFRESH-INTERVAL;VALUE=DURATION:PT1H
X-Robots-Tag:noindex
X-PUBLISHED-TTL:PT1H
BEGIN:VTIMEZONE
TZID:Europe/Prague
BEGIN:DAYLIGHT
TZOFFSETFROM:+0100
TZOFFSETTO:+0200
TZNAME:CEST
DTSTART:20250330T010000
END:DAYLIGHT
BEGIN:STANDARD
TZOFFSETFROM:+0200
TZOFFSETTO:+0100
TZNAME:CET
DTSTART:20251026T010000
END:STANDARD
BEGIN:DAYLIGHT
TZOFFSETFROM:+0100
TZOFFSETTO:+0200
TZNAME:CEST
DTSTART:20260329T010000
END:DAYLIGHT
BEGIN:STANDARD
TZOFFSETFROM:+0200
TZOFFSETTO:+0100
TZNAME:CET
DTSTART:20261025T010000
END:STANDARD
BEGIN:DAYLIGHT
TZOFFSETFROM:+0100
TZOFFSETTO:+0200
TZNAME:CEST
DTSTART:20270328T010000
END:DAYLIGHT
BEGIN:STANDARD
TZOFFSETFROM:+0200
TZOFFSETTO:+0100
TZNAME:CET
DTSTART:20271031T010000
END:STANDARD
END:VTIMEZONE
BEGIN:VEVENT
DTSTART;TZID=Europe/Prague:20260705T103000
DTEND;TZID=Europe/Prague:20260705T133000
DTSTAMP:20260419T161921
CREATED:20251025T143050Z
LAST-MODIFIED:20251025T143050Z
UID:10064-1783247400-1783258200@dnesnivylet.cz
SUMMARY:DŘEVOROCKFEST 2026
DESCRIPTION:DŘEVOROCKFEST 2026 se uskuteční dne 2026-07-05 v 10:30 v Dřevohostice\, Zámecká zahrada. \n🎟️ Koupit vstupenku \n\nVítejte na maximálně rychlém předprodeji vsupenek.  \nDřevorockfest 2026 se uskuteční 5. července 2026! \nPro 21. ročník rockového open-air festivalu jsme uvařili line-up napráskaný tou nejlepší tuzemskou rockovou a metalovou muzikou. \n\nTento tip na kulturní akci v Dřevohostice najdete v přehledu na Dnesnivylet.cz spolu s dalšími koncerty\, festivaly a divadelními představeními.Každý si vybere co se mu líbí. Nezapomeňte koupit vstupenky včas\, stačí kliknout a budete přesměrování na oficiálního prodejce vstupenek.
URL:https://dnesnivylet.cz/event/drevorockfest-2026/
LOCATION:Zámecká zahrada\, Dřevohostice\, Zámecká zahrada\, Dřevohostice\, Česká republika
CATEGORIES:Festival
ATTACH;FMTTYPE=image/jpeg:https://dnesnivylet.cz/wp-content/uploads/2025/10/320-9848f0c898a44bd1bfa3b9ea5ac1c1d9.jpg
END:VEVENT
BEGIN:VEVENT
DTSTART;TZID=Europe/Prague:20260705T200000
DTEND;TZID=Europe/Prague:20260705T230000
DTSTAMP:20260419T161921
CREATED:20251026T074259Z
LAST-MODIFIED:20251026T074303Z
UID:10114-1783281600-1783292400@dnesnivylet.cz
SUMMARY:The Beatles Revival + legendární  Karel Kahovec
DESCRIPTION:The Beatles Revival + legendární  Karel Kahovec se uskuteční dne 2026-07-05 v 20:00 v Velichov\, Hospoda U Lípy. \n🎟️ Koupit vstupenku \n\nJedinečný koncert v neděli 05.07.2025 od 20:00 na nádherném parketu penzionu U Lípy ve Velichově u Karlových Varů.  Legendární Karel Kahovec vystoupí společně s jednou s nejlepších světových Beatles Revival kapel – The Beatles Revival . \n  \nNejvětší hity legendární skupiny BEATLES v nádherném prostředí areálu U Lípy a v případě hnusného počasí se koná v sále restaurace U Lípy. \nHudba nejpopulárnější kapely šedesátých let s více než 600 miliony prodanými deskami a nekonečným dedikovaným fanouškovským základem míří do Vrchlabí v podání nejlepší revivalové kapely\, která jako jediná dokázala naplnit největší holandskou koncertní haly AHOY arena v Rotterdamu! ( https://www.youtube.com/watch?v=v2pbVKWridU ) \nJedna z nejúspěšnějších evropských revivalových skupin – vystupuje od roku 1992 a to nejen v Čechách\, ale i Holandsku\, Polsku\, Francii\, Maďarsku\, Slovensku a dokonce i v rodišti legendární čtveřice – severoanglickém Liverpoolu! Těšit se můžete na největší hity „Brouků“ téměř v originálním podání.  \nKoncert Beatles Revivalu z Kladna je opravdovou a dokonalou kopií koncertu legendárních Beatles. Jako důkaz slouží i to\, že skupina byla pozvána do rodiště Beatles – anglického Liverpoolu a tam v legendárním Cavern Clubu odehrála tři vystoupení a absolvovala hodinové interview a živý koncert v pořadu On The Beat na Liverpool BBC Merseyside Radio\, což se dosud žádné neanglické skupině nepodařilo. A nebo to\, že po vystoupení v Adelphi Hotel v Liverpoolu přišel dokonce skupině poděkovat dlouholetý tajemník Beatles Alistair Taylor a prohlásil\, že vystoupení skupiny bylo naprosto dokonalé a chvílemi prý nevěřil\, že na pódiu nehrají praví Beatles\, přestože s nimi strávil na cestách dlouhých pět let. Jedním z důkazů je též obrovský úspěch na Estrel Beatles Festivalu v Berlíně\, kde skupina svým výkonem nadchla prvního manažera Beatles Alana Williamse natolik\, že kapelu přizval ke spolupráci na projektu John Lennon Memorial. V neposlední řadě je též měřítkem úspěchu bezpočet televizních vystoupení\, například v TV Nova\, ČT1\, maďarské MTV\, polské TVP1\, slovenské TV Markíza\, německé MDF1 a dalších televizích po celé Evropě. \n\nTento tip na kulturní akci v Velichov najdete v přehledu na Dnesnivylet.cz spolu s dalšími koncerty\, festivaly a divadelními představeními.Každý si vybere co se mu líbí. Nezapomeňte koupit vstupenky včas\, stačí kliknout a budete přesměrování na oficiálního prodejce vstupenek.
URL:https://dnesnivylet.cz/event/the-beatles-revival-legendarni-karel-kahovec/
LOCATION:Hospoda U Lípy\, Velichov\, Hospoda U Lípy\, Velichov\, Česká republika
CATEGORIES:Koncert
ATTACH;FMTTYPE=image/jpeg:https://dnesnivylet.cz/wp-content/uploads/2025/10/320-df85573a7db3403b85c10699e601cdbd.jpg
END:VEVENT
BEGIN:VEVENT
DTSTART;TZID=Europe/Prague:20260705T210000
DTEND;TZID=Europe/Prague:20260706T000000
DTSTAMP:20260419T161921
CREATED:20251103T192536Z
LAST-MODIFIED:20251103T192536Z
UID:11925-1783285200-1783296000@dnesnivylet.cz
SUMMARY:Lucie Revival  Plzeň
DESCRIPTION:Lucie Revival  Plzeň se uskuteční dne 2026-07-05 v 21:00 v Heřmaničky\, Háječek – letní parket. \n🎟️ Koupit vstupenku \n\nLUCIE revival Plzeň. \nSkupina Lucie revival Plzeň vznikla na jaře 2005 a byla v té době prvním a jediným revivalem nejslavnější České polistopadové kapely Lucie. Během krátké doby začala vystupovat po celé republice i na Slovensku\, kde má Lucie také mnoho příznivců.  \nKapela vystupuje na nejrůznějších akcích a získává si renomé zejména u posluchačů\, kteří jsou v dnešní (stále těžší) době ochotni přijít na živý koncert\, ale i u pořadatelů nejrůznějších V.I.P. akcí\, firemních večírků a dalších.  \nJe třeba zmínit\, že kapela se soustředí pouze na živá vystoupení a chce tak dát možnost si poslechnou a pobavit nejen známými\, ale i méně známými písničkami kapely Lucie a také znovuobrozené skupiny  Wanastowi vjecy. \nKapela hraje v klasickém obsazení\, jako původní originál. Můžete se těšit na čtyřhodinovou show plnou známých již zlidovělých hitů. Chci zas v tobě spát\, Dotknu se ohně\, A vona říká jó\, Černí Andělé\, Medvídek\, Panic\, Pohyby\, Sen\, Amerika\, Chci zas tobě spát\, Oheň\, ………. \n\nTento tip na kulturní akci v Heřmaničky najdete v přehledu na Dnesnivylet.cz spolu s dalšími koncerty\, festivaly a divadelními představeními.Každý si vybere co se mu líbí. Nezapomeňte koupit vstupenky včas\, stačí kliknout a budete přesměrování na oficiálního prodejce vstupenek.
URL:https://dnesnivylet.cz/event/lucie-revival-plzen/
LOCATION:Háječek – letní parket\, Heřmaničky\, Háječek - letní parket\, Heřmaničky\, Česká republika
CATEGORIES:Koncert
ATTACH;FMTTYPE=image/jpeg:https://dnesnivylet.cz/wp-content/uploads/2025/11/320-7ce2959061c14101965288f49f907d7c.jpg
END:VEVENT
END:VCALENDAR