BEGIN:VCALENDAR
VERSION:2.0
PRODID:-//www.dnesnivylet.cz                                                                                                                        Tip na výlet pro celou rodinu. - ECPv6.15.13.1//NONSGML v1.0//EN
CALSCALE:GREGORIAN
METHOD:PUBLISH
X-WR-CALNAME:www.dnesnivylet.cz                                                                                                                        Tip na výlet pro celou rodinu.
X-ORIGINAL-URL:https://dnesnivylet.cz
X-WR-CALDESC:Akce na www.dnesnivylet.cz                                                                                                                        Tip na výlet pro celou rodinu.
REFRESH-INTERVAL;VALUE=DURATION:PT1H
X-Robots-Tag:noindex
X-PUBLISHED-TTL:PT1H
BEGIN:VTIMEZONE
TZID:Europe/Prague
BEGIN:DAYLIGHT
TZOFFSETFROM:+0100
TZOFFSETTO:+0200
TZNAME:CEST
DTSTART:20250330T010000
END:DAYLIGHT
BEGIN:STANDARD
TZOFFSETFROM:+0200
TZOFFSETTO:+0100
TZNAME:CET
DTSTART:20251026T010000
END:STANDARD
BEGIN:DAYLIGHT
TZOFFSETFROM:+0100
TZOFFSETTO:+0200
TZNAME:CEST
DTSTART:20260329T010000
END:DAYLIGHT
BEGIN:STANDARD
TZOFFSETFROM:+0200
TZOFFSETTO:+0100
TZNAME:CET
DTSTART:20261025T010000
END:STANDARD
BEGIN:DAYLIGHT
TZOFFSETFROM:+0100
TZOFFSETTO:+0200
TZNAME:CEST
DTSTART:20270328T010000
END:DAYLIGHT
BEGIN:STANDARD
TZOFFSETFROM:+0200
TZOFFSETTO:+0100
TZNAME:CET
DTSTART:20271031T010000
END:STANDARD
END:VTIMEZONE
BEGIN:VEVENT
DTSTART;TZID=Europe/Prague:20260324T090000
DTEND;TZID=Europe/Prague:20260324T120000
DTSTAMP:20260419T220353
CREATED:20251024T185914Z
LAST-MODIFIED:20251024T185914Z
UID:9916-1774342800-1774353600@dnesnivylet.cz
SUMMARY:How To Brand — konference o řízení značek
DESCRIPTION:How To Brand — konference o řízení značek se uskuteční dne 2026-03-24 v 09:00 v Brno\, Divadlo Reduta. \n🎟️ Koupit vstupenku \n\nDruhý ročník konference How To Brand o řízení značek. \nBrand nepatří jen marketingu. Tvoří ho i zamítnutý uchazeč o práci\, který vás pomluví na sítích. Zakázka\, která jde proti hodnotám firmy. Nebo zákaznická péče\, která hasí průšvih v kampani. Přijďte si pro návod\, jak nechat značku probublat do všech pater firmy a být on brand všude – nejen v prezentacích. \nNa co se můžete těšit: \n\ninspirativní řečníci\,\nknow-how z našich řad\na špičková káva\, catering i chill-out zóna plná radostí z Brna.\n\n  \nVeškeré informace průběžně doplňujeme na webových stránkách https://www.howtobrand.cz/ \n\nTento tip na kulturní akci v Brno najdete v přehledu na Dnesnivylet.cz spolu s dalšími koncerty\, festivaly a divadelními představeními.Každý si vybere co se mu líbí. Nezapomeňte koupit vstupenky včas\, stačí kliknout a budete přesměrování na oficiálního prodejce vstupenek.
URL:https://dnesnivylet.cz/event/how-to-brand-konference-o-rizeni-znacek/
LOCATION:Divadlo Reduta\, Brno\, Divadlo Reduta\, Brno\, Česká republika
CATEGORIES:Zábava
ATTACH;FMTTYPE=image/jpeg:https://dnesnivylet.cz/wp-content/uploads/2025/10/320-b147873ada35489aab628eef798d80e1.jpg
END:VEVENT
END:VCALENDAR