BEGIN:VCALENDAR
VERSION:2.0
PRODID:-//www.dnesnivylet.cz                                                                                                                        Tip na výlet pro celou rodinu. - ECPv6.15.13.1//NONSGML v1.0//EN
CALSCALE:GREGORIAN
METHOD:PUBLISH
X-WR-CALNAME:www.dnesnivylet.cz                                                                                                                        Tip na výlet pro celou rodinu.
X-ORIGINAL-URL:https://dnesnivylet.cz
X-WR-CALDESC:Akce na www.dnesnivylet.cz                                                                                                                        Tip na výlet pro celou rodinu.
REFRESH-INTERVAL;VALUE=DURATION:PT1H
X-Robots-Tag:noindex
X-PUBLISHED-TTL:PT1H
BEGIN:VTIMEZONE
TZID:Europe/Prague
BEGIN:DAYLIGHT
TZOFFSETFROM:+0100
TZOFFSETTO:+0200
TZNAME:CEST
DTSTART:20240331T010000
END:DAYLIGHT
BEGIN:STANDARD
TZOFFSETFROM:+0200
TZOFFSETTO:+0100
TZNAME:CET
DTSTART:20241027T010000
END:STANDARD
BEGIN:DAYLIGHT
TZOFFSETFROM:+0100
TZOFFSETTO:+0200
TZNAME:CEST
DTSTART:20250330T010000
END:DAYLIGHT
BEGIN:STANDARD
TZOFFSETFROM:+0200
TZOFFSETTO:+0100
TZNAME:CET
DTSTART:20251026T010000
END:STANDARD
BEGIN:DAYLIGHT
TZOFFSETFROM:+0100
TZOFFSETTO:+0200
TZNAME:CEST
DTSTART:20260329T010000
END:DAYLIGHT
BEGIN:STANDARD
TZOFFSETFROM:+0200
TZOFFSETTO:+0100
TZNAME:CET
DTSTART:20261025T010000
END:STANDARD
BEGIN:DAYLIGHT
TZOFFSETFROM:+0100
TZOFFSETTO:+0200
TZNAME:CEST
DTSTART:20270328T010000
END:DAYLIGHT
BEGIN:STANDARD
TZOFFSETFROM:+0200
TZOFFSETTO:+0100
TZNAME:CET
DTSTART:20271031T010000
END:STANDARD
END:VTIMEZONE
BEGIN:VEVENT
DTSTART;TZID=Europe/Prague:20260328T190000
DTEND;TZID=Europe/Prague:20260328T220000
DTSTAMP:20260420T011643
CREATED:20260124T151556Z
LAST-MODIFIED:20260124T151647Z
UID:17075-1774724400-1774735200@dnesnivylet.cz
SUMMARY:Vox Organi
DESCRIPTION:Vox Organi se uskuteční dne 2026-03-28 v 19:00 v Smiřice\, Kaple Zjevení Páně. \n🎟️ Koupit vstupenku \n\nPutovní projekt VOX ORGANI (Hlas varhan) varhanice a skladatelky Katty\, na kterém společně s vokálním souborem Societas Incognitorum představí své autorské skladby. \n\nTento tip na kulturní akci v Smiřice najdete v přehledu na Dnesnivylet.cz spolu s dalšími koncerty\, festivaly a divadelními představeními.Každý si vybere co se mu líbí. Nezapomeňte koupit vstupenky včas\, stačí kliknout a budete přesměrování na oficiálního prodejce vstupenek.
URL:https://dnesnivylet.cz/event/vox-organi/
LOCATION:Kaple Zjevení Páně\, Smiřice\, Kaple Zjevení Páně\, Smiřice\, Česká republika
CATEGORIES:Koncert
ATTACH;FMTTYPE=image/jpeg:https://dnesnivylet.cz/wp-content/uploads/2026/01/320-f553430ce5064b07a288a71eb37d6e62.jpg
END:VEVENT
BEGIN:VEVENT
DTSTART;TZID=Europe/Prague:20260321T190000
DTEND;TZID=Europe/Prague:20260321T220000
DTSTAMP:20260420T011643
CREATED:20260124T151648Z
LAST-MODIFIED:20260124T151649Z
UID:17084-1774119600-1774130400@dnesnivylet.cz
SUMMARY:Souhra okolností
DESCRIPTION:Souhra okolností se uskuteční dne 2026-03-21 v 19:00 v Smiřice\, Kaple Zjevení Páně. \n🎟️ Koupit vstupenku \n\nRecitál písní Petra Hapky a Michala Horáčka v provedení Martina Pošty. \nSpoluúčinkují Vítek Kojzar (piano) a Michael Šporcl (klarinet\, saxofon). \n\nTento tip na kulturní akci v Smiřice najdete v přehledu na Dnesnivylet.cz spolu s dalšími koncerty\, festivaly a divadelními představeními.Každý si vybere co se mu líbí. Nezapomeňte koupit vstupenky včas\, stačí kliknout a budete přesměrování na oficiálního prodejce vstupenek.
URL:https://dnesnivylet.cz/event/souhra-okolnosti/
LOCATION:Kaple Zjevení Páně\, Smiřice\, Kaple Zjevení Páně\, Smiřice\, Česká republika
CATEGORIES:Koncert
ATTACH;FMTTYPE=image/jpeg:https://dnesnivylet.cz/wp-content/uploads/2026/01/320-4210d553606048c38a10ac20757ef901.jpg
END:VEVENT
BEGIN:VEVENT
DTSTART;TZID=Europe/Prague:20260314T190000
DTEND;TZID=Europe/Prague:20260314T220000
DTSTAMP:20260420T011643
CREATED:20260124T151647Z
LAST-MODIFIED:20260124T151648Z
UID:17078-1773514800-1773525600@dnesnivylet.cz
SUMMARY:Koncert filmových melodií
DESCRIPTION:Koncert filmových melodií se uskuteční dne 2026-03-14 v 19:00 v Smiřice\, Kaple Zjevení Páně. \n🎟️ Koupit vstupenku \n\nZahajovací koncert 23. ročníku festivalu nás opět provede světem filmových melodií. Program je věnován české filmové scéně a skladatelům P. Hapkovi\, K. Svobodovi a dalším. \nÚčinkují: Komorní orchestr Musica Lucis Praga a Felix Slováček jr. \n\nTento tip na kulturní akci v Smiřice najdete v přehledu na Dnesnivylet.cz spolu s dalšími koncerty\, festivaly a divadelními představeními.Každý si vybere co se mu líbí. Nezapomeňte koupit vstupenky včas\, stačí kliknout a budete přesměrování na oficiálního prodejce vstupenek.
URL:https://dnesnivylet.cz/event/koncert-filmovych-melodii/
LOCATION:Kaple Zjevení Páně\, Smiřice\, Kaple Zjevení Páně\, Smiřice\, Česká republika
CATEGORIES:Koncert
ATTACH;FMTTYPE=image/jpeg:https://dnesnivylet.cz/wp-content/uploads/2026/01/320-9b4ce81e7676499f8bf8a036e6759954.jpg
END:VEVENT
BEGIN:VEVENT
DTSTART;TZID=Europe/Prague:20251220T190000
DTEND;TZID=Europe/Prague:20251220T220000
DTSTAMP:20260420T011643
CREATED:20251020T065036Z
LAST-MODIFIED:20251020T065036Z
UID:8216-1766257200-1766268000@dnesnivylet.cz
SUMMARY:Jan Jareš: Kouzlo Vánoc
DESCRIPTION:Jan Jareš: Kouzlo Vánoc se uskuteční dne 2025-12-20 v 19:00 v Smiřice\, Kaple Zjevení Páně. \n🎟️ Koupit vstupenku \n\nNeobyčejný příběh\, neobyčejný koncert. \nZpěvák\, klavírista\, jediný nevidomý absolvent Pražské konzervatoře Jan Jareš vystoupí v Kapli Zjevení Páně ve vánočním programu společně s violistkou Zuzanou Peřinovou\, saxofonistou Romanem Fojtíčkem a kontrabasistou Markem Lustigem. \nKoncert je zařazen do festivalu Smiřické svátky hudby 2025 \n\nTento tip na kulturní akci v Smiřice najdete v přehledu na Dnesnivylet.cz spolu s dalšími koncerty\, festivaly a divadelními představeními.Každý si vybere co se mu líbí. Nezapomeňte koupit vstupenky včas\, stačí kliknout a budete přesměrování na oficiálního prodejce vstupenek.
URL:https://dnesnivylet.cz/event/jan-jares-kouzlo-vanoc/
LOCATION:Kaple Zjevení Páně\, Smiřice\, Kaple Zjevení Páně\, Smiřice\, Česká republika
CATEGORIES:Koncert
ATTACH;FMTTYPE=image/jpeg:https://dnesnivylet.cz/wp-content/uploads/2025/10/320-697614cf012040268a65d3f74df7016c-1.jpg
END:VEVENT
BEGIN:VEVENT
DTSTART;TZID=Europe/Prague:20251214T180000
DTEND;TZID=Europe/Prague:20251214T210000
DTSTAMP:20260420T011643
CREATED:20251129T074956Z
LAST-MODIFIED:20251129T074958Z
UID:14221-1765735200-1765746000@dnesnivylet.cz
SUMMARY:Vánoční vzpomínky
DESCRIPTION:Vánoční vzpomínky se uskuteční dne 2025-12-14 v 18:00 v Smiřice\, Kaple Zjevení Páně. \n🎟️ Koupit vstupenku \n\nVánoční vzpomínky jsou něžné\, úsměvné i dojemné představení o tom\, že skutečné Vánoce se neukrývají v dokonalosti\, ale v blízkosti. A že nikdy není pozdě vrátit kouzlo Vánoc zpět do našich srdcí. Přijďte se naladit na sváteční atmosféru a připomenout si\, co dělá Vánoce skutečně krásnými. \n\nTento tip na kulturní akci v Smiřice najdete v přehledu na Dnesnivylet.cz spolu s dalšími koncerty\, festivaly a divadelními představeními.Každý si vybere co se mu líbí. Nezapomeňte koupit vstupenky včas\, stačí kliknout a budete přesměrování na oficiálního prodejce vstupenek.
URL:https://dnesnivylet.cz/event/vanocni-vzpominky/
LOCATION:Kaple Zjevení Páně\, Smiřice\, Kaple Zjevení Páně\, Smiřice\, Česká republika
CATEGORIES:Divadlo
ATTACH;FMTTYPE=image/jpeg:https://dnesnivylet.cz/wp-content/uploads/2025/11/320-37daee5c07a84f418c596bf58a2c4f13.jpg
END:VEVENT
BEGIN:VEVENT
DTSTART;TZID=Europe/Prague:20251207T170000
DTEND;TZID=Europe/Prague:20251207T200000
DTSTAMP:20260420T011644
CREATED:20251020T080132Z
LAST-MODIFIED:20251020T080133Z
UID:8860-1765126800-1765137600@dnesnivylet.cz
SUMMARY:Adventní koncert
DESCRIPTION:Adventní koncert se uskuteční dne 2025-12-07 v 17:00 v Smiřice\, Kaple Zjevení Páně. \n🎟️ Koupit vstupenku \n\nÚčinkují: Sára Milfajtová – zpěv\, Ondřej Klímek – dechové nástroje a Jan Uvira – piano \n\nTento tip na kulturní akci v Smiřice najdete v přehledu na Dnesnivylet.cz spolu s dalšími koncerty\, festivaly a divadelními představeními.Každý si vybere co se mu líbí. Nezapomeňte koupit vstupenky včas\, stačí kliknout a budete přesměrování na oficiálního prodejce vstupenek.
URL:https://dnesnivylet.cz/event/adventni-koncert/
LOCATION:Kaple Zjevení Páně\, Smiřice\, Kaple Zjevení Páně\, Smiřice\, Česká republika
CATEGORIES:Koncert
ATTACH;FMTTYPE=image/jpeg:https://dnesnivylet.cz/wp-content/uploads/2025/10/320-a16eb3f8f0bc48789e108d49365ed1d6.jpg
END:VEVENT
BEGIN:VEVENT
DTSTART;TZID=Europe/Prague:20251114T190000
DTEND;TZID=Europe/Prague:20251114T220000
DTSTAMP:20260420T011644
CREATED:20251020T111352Z
LAST-MODIFIED:20251020T111352Z
UID:9194-1763146800-1763157600@dnesnivylet.cz
SUMMARY:Zátiší s loutnou
DESCRIPTION:Zátiší s loutnou se uskuteční dne 2025-11-14 v 19:00 v Smiřice\, Kulturní dům Dvorana. \n🎟️ Koupit vstupenku \n\nSoučasná divadelní komedie autora Jaromíra Břehového s prvky černého humoru. \nDěj se odehrává v obstarožní pražské vilce\, kde spolu bydlí tři sestry důchodového věku. Jejich domácnost vykazuje klasické příznaky dlouhodobého ponorkového soužití\, umocněné stářím a jejich výraznými individualitami. Hra začíná dnem\, kdy nejmladší z nich odchází do důchodu a do jejich života zasáhne nečekané dědictví a krutě nespravedlivý příchod exekutora. To vše do děje vnese řadu šílených zvratů\, krutých dopadů osudu i drasticky komických situací. \n  \n\nTento tip na kulturní akci v Smiřice najdete v přehledu na Dnesnivylet.cz spolu s dalšími koncerty\, festivaly a divadelními představeními.Každý si vybere co se mu líbí. Nezapomeňte koupit vstupenky včas\, stačí kliknout a budete přesměrování na oficiálního prodejce vstupenek.
URL:https://dnesnivylet.cz/event/zatisi-s-loutnou/
LOCATION:Kulturní dům Dvorana\, Smiřice\, Kulturní dům Dvorana\, Smiřice\, Česká republika
CATEGORIES:Divadlo
ATTACH;FMTTYPE=image/jpeg:https://dnesnivylet.cz/wp-content/uploads/2025/10/320-e98778a2e6684760846ecbf4ae610542.jpg
END:VEVENT
BEGIN:VEVENT
DTSTART;TZID=Europe/Prague:20251108T190000
DTEND;TZID=Europe/Prague:20251108T220000
DTSTAMP:20260420T011645
CREATED:20251020T064612Z
LAST-MODIFIED:20251020T064612Z
UID:8057-1762628400-1762639200@dnesnivylet.cz
SUMMARY:Rak & Rak (koncert k 80. narozeninám Štěpána Raka)
DESCRIPTION:Rak & Rak (koncert k 80. narozeninám Štěpána Raka) se uskuteční dne 2025-11-08 v 19:00 v Smiřice\, Kaple Zjevení Páně. \n🎟️ Koupit vstupenku \n\nKytarový virtuos Štěpán Rak\, který si své posluchače dokáže podmanit intenzitou prožitku\, interpretačním mistrovstvím a absolutním splynutím interpreta a skladatele s duší hudby\, slaví v letošním roce významné jubileum. V rámci narozeninových koncertů vystoupí ve smiřické zámecké Kapli Zjevení Páně společně se svým synem Janem Matějem Rakem. \nV programu uslyšíte skladby Štěpána Raka\, které zaznamenaly největší úspěch (z cyklů Chvála čaje\, Vůně\, Z pohádky do pohádky\, Země česká a skladby filmové\, folkové nebo trampské. Jan Matěj zahraje skladby z CD Ježkowy woči\, dále skladby Smetanovy a Dvořákovy. \nKoncert je zařazen do festivalu Smiřické svátky hudby 2025. \n\nTento tip na kulturní akci v Smiřice najdete v přehledu na Dnesnivylet.cz spolu s dalšími koncerty\, festivaly a divadelními představeními.Každý si vybere co se mu líbí. Nezapomeňte koupit vstupenky včas\, stačí kliknout a budete přesměrování na oficiálního prodejce vstupenek.
URL:https://dnesnivylet.cz/event/rak-rak-koncert-k-80-narozeninam-stepana-raka/
LOCATION:Kaple Zjevení Páně\, Smiřice\, Kaple Zjevení Páně\, Smiřice\, Česká republika
CATEGORIES:Koncert
ATTACH;FMTTYPE=image/jpeg:https://dnesnivylet.cz/wp-content/uploads/2025/10/320-bcc9778293e347d2801531fac3f8ca86-1.jpg
END:VEVENT
END:VCALENDAR