BEGIN:VCALENDAR
VERSION:2.0
PRODID:-//www.dnesnivylet.cz                                                                                                                        Tip na výlet pro celou rodinu. - ECPv6.15.13.1//NONSGML v1.0//EN
CALSCALE:GREGORIAN
METHOD:PUBLISH
X-ORIGINAL-URL:https://dnesnivylet.cz
X-WR-CALDESC:Akce na www.dnesnivylet.cz                                                                                                                        Tip na výlet pro celou rodinu.
REFRESH-INTERVAL;VALUE=DURATION:PT1H
X-Robots-Tag:noindex
X-PUBLISHED-TTL:PT1H
BEGIN:VTIMEZONE
TZID:Europe/Prague
BEGIN:DAYLIGHT
TZOFFSETFROM:+0100
TZOFFSETTO:+0200
TZNAME:CEST
DTSTART:20250330T010000
END:DAYLIGHT
BEGIN:STANDARD
TZOFFSETFROM:+0200
TZOFFSETTO:+0100
TZNAME:CET
DTSTART:20251026T010000
END:STANDARD
BEGIN:DAYLIGHT
TZOFFSETFROM:+0100
TZOFFSETTO:+0200
TZNAME:CEST
DTSTART:20260329T010000
END:DAYLIGHT
BEGIN:STANDARD
TZOFFSETFROM:+0200
TZOFFSETTO:+0100
TZNAME:CET
DTSTART:20261025T010000
END:STANDARD
BEGIN:DAYLIGHT
TZOFFSETFROM:+0100
TZOFFSETTO:+0200
TZNAME:CEST
DTSTART:20270328T010000
END:DAYLIGHT
BEGIN:STANDARD
TZOFFSETFROM:+0200
TZOFFSETTO:+0100
TZNAME:CET
DTSTART:20271031T010000
END:STANDARD
END:VTIMEZONE
BEGIN:VEVENT
DTSTART;TZID=Europe/Prague:20260411T180000
DTEND;TZID=Europe/Prague:20260411T210000
DTSTAMP:20260419T234541
CREATED:20260124T151649Z
LAST-MODIFIED:20260124T151649Z
UID:17087-1775930400-1775941200@dnesnivylet.cz
SUMMARY:Smiřické svátky hudby podporují mladé talenty
DESCRIPTION:Smiřické svátky hudby podporují mladé talenty se uskuteční dne 2026-04-11 v 18:00 v Smiřice\, Kaple Zjevení Páně. \n🎟️ Koupit vstupenku \n\nNa koncertě představí své umění mladí nadějní žáci ze základních uměleckých škol. \n\nTento tip na kulturní akci v Smiřice najdete v přehledu na Dnesnivylet.cz spolu s dalšími koncerty\, festivaly a divadelními představeními.Každý si vybere co se mu líbí. Nezapomeňte koupit vstupenky včas\, stačí kliknout a budete přesměrování na oficiálního prodejce vstupenek.
URL:https://dnesnivylet.cz/event/smiricke-svatky-hudby-podporuji-mlade-talenty/
LOCATION:Kaple Zjevení Páně\, Smiřice\, Kaple Zjevení Páně\, Smiřice\, Česká republika
CATEGORIES:Koncert
ATTACH;FMTTYPE=image/jpeg:https://dnesnivylet.cz/wp-content/uploads/2026/01/320-c0b36178d88b4288b00e068686b428c4.jpg
END:VEVENT
BEGIN:VEVENT
DTSTART;TZID=Europe/Prague:20260522T190000
DTEND;TZID=Europe/Prague:20260522T220000
DTSTAMP:20260419T234541
CREATED:20260419T120411Z
LAST-MODIFIED:20260419T120412Z
UID:20638-1779476400-1779487200@dnesnivylet.cz
SUMMARY:DREAMING LIVE SHOW
DESCRIPTION:DREAMING LIVE SHOW se uskuteční dne 2026-05-22 v 19:00 v Smiřice\, Nádvoří zámku Smiřice. \n🎟️ Koupit vstupenku \n\nMultižánrové propojení skladeb popových\, klasických\, jazzových\, filmových\, ale také autorských nabízí unikátní projekt zpěvačky Kateřiny Romansové a houslistky Julie Svěcené.Kombinace dvou různorodých hudebních cest vytvoří jedinečné spojení za podpory vynikajících hudebníků a zprostředkuje vám tak jedinečný zážitek\, v němž si každý přijde na své. \n\nTento tip na kulturní akci v Smiřice najdete v přehledu na Dnesnivylet.cz spolu s dalšími koncerty\, festivaly a divadelními představeními.Každý si vybere co se mu líbí. Nezapomeňte koupit vstupenky včas\, stačí kliknout a budete přesměrování na oficiálního prodejce vstupenek.
URL:https://dnesnivylet.cz/event/dreaming-live-show/
LOCATION:Nádvoří zámku Smiřice\, Smiřice\, Nádvoří zámku Smiřice\, Smiřice\, Česká republika
CATEGORIES:Koncert
ATTACH;FMTTYPE=image/jpeg:https://dnesnivylet.cz/wp-content/uploads/2026/04/320-29749854623f4670b37e2999a2457006.jpg
END:VEVENT
END:VCALENDAR