BEGIN:VCALENDAR
VERSION:2.0
PRODID:-//www.dnesnivylet.cz                                                                                                                        Tip na výlet pro celou rodinu. - ECPv6.15.13.1//NONSGML v1.0//EN
CALSCALE:GREGORIAN
METHOD:PUBLISH
X-ORIGINAL-URL:https://dnesnivylet.cz
X-WR-CALDESC:Akce na www.dnesnivylet.cz                                                                                                                        Tip na výlet pro celou rodinu.
REFRESH-INTERVAL;VALUE=DURATION:PT1H
X-Robots-Tag:noindex
X-PUBLISHED-TTL:PT1H
BEGIN:VTIMEZONE
TZID:Europe/Prague
BEGIN:DAYLIGHT
TZOFFSETFROM:+0100
TZOFFSETTO:+0200
TZNAME:CEST
DTSTART:20250330T010000
END:DAYLIGHT
BEGIN:STANDARD
TZOFFSETFROM:+0200
TZOFFSETTO:+0100
TZNAME:CET
DTSTART:20251026T010000
END:STANDARD
BEGIN:DAYLIGHT
TZOFFSETFROM:+0100
TZOFFSETTO:+0200
TZNAME:CEST
DTSTART:20260329T010000
END:DAYLIGHT
BEGIN:STANDARD
TZOFFSETFROM:+0200
TZOFFSETTO:+0100
TZNAME:CET
DTSTART:20261025T010000
END:STANDARD
BEGIN:DAYLIGHT
TZOFFSETFROM:+0100
TZOFFSETTO:+0200
TZNAME:CEST
DTSTART:20270328T010000
END:DAYLIGHT
BEGIN:STANDARD
TZOFFSETFROM:+0200
TZOFFSETTO:+0100
TZNAME:CET
DTSTART:20271031T010000
END:STANDARD
END:VTIMEZONE
BEGIN:VEVENT
DTSTART;TZID=Europe/Prague:20260407T190000
DTEND;TZID=Europe/Prague:20260407T220000
DTSTAMP:20260420T035705
CREATED:20251027T094543Z
LAST-MODIFIED:20251027T094544Z
UID:10324-1775588400-1775599200@dnesnivylet.cz
SUMMARY:Muzikály Josefa Vojtka v Solnici
DESCRIPTION:Muzikály Josefa Vojtka v Solnici se uskuteční dne 2026-04-07 v 19:00 v Solnice\, Společenský dům. \n🎟️ Koupit vstupenku \n\n „MUZIKÁLY JOSEFA VOJTKA – Tak trochu rockově“ \nNenechte si ujít jedinečnou možnost zažít vystoupení jednoho z nejvýraznějších hlasů české rockové a muzikálové scény. Za doprovodu známé kapely Charlie Band zazní  písně z muzikálů ve kterých Josef Vojtek účinkoval. Tři Mušketýři\, Angelika\, Kleopatra\, Hamlet\, Dracula\, a mnoho dalších. Připravte se na velkolepý zážitek\, kde se srdce rockera potká s vášní pro muzikály.  \n\nTento tip na kulturní akci v Solnice najdete v přehledu na Dnesnivylet.cz spolu s dalšími koncerty\, festivaly a divadelními představeními.Každý si vybere co se mu líbí. Nezapomeňte koupit vstupenky včas\, stačí kliknout a budete přesměrování na oficiálního prodejce vstupenek.
URL:https://dnesnivylet.cz/event/muzikaly-josefa-vojtka-v-solnici/
LOCATION:Společenský dům\, Solnice\, Společenský dům\, Solnice\, Česká republika
CATEGORIES:Koncert
ATTACH;FMTTYPE=image/jpeg:https://dnesnivylet.cz/wp-content/uploads/2025/10/320-4879f5a89f284c07a821944623adb4e9.jpg
END:VEVENT
BEGIN:VEVENT
DTSTART;TZID=Europe/Prague:20261020T190000
DTEND;TZID=Europe/Prague:20261020T220000
DTSTAMP:20260420T035705
CREATED:20260419T120950Z
LAST-MODIFIED:20260419T120951Z
UID:20730-1792522800-1792533600@dnesnivylet.cz
SUMMARY:Václav Noid Bárta a Bek Bek Clan
DESCRIPTION:Václav Noid Bárta a Bek Bek Clan se uskuteční dne 2026-10-20 v 19:00 v Solnice\, Společenský dům. \n🎟️ Koupit vstupenku \n\nVáclav NOID Bárta v Solnici! \nDo Společenského domu v Solnici míří aktuální držitel Zlatého slavíka – Václav Noid Bárta. Jeho výrazný hlas\, přirozená energie a silné charisma budou hlavními prvky večera\, který nabídne nezapomenutelnou atmosféru v podání jednoho z nejvýraznějších interpretů současné české hudební scény. \nOd prvních kroků s kapelami Dolores Clan\, Noid Crew a Dymytry\, přes divadelní svět muzikálů až po jeho současnou sólovou tvorbu. Přijďte si projít dvacetiletou hudební cestu Václava NOIDA Bárty – charizmatického zpěváka\, autora filmové hudby a jedinečného hlasu české hudební scény. \nNa co se můžete těšit?Během večera zazní jak jeho autorské skladby\, tak i oblíbené převzaté songy\, které skvěle doplní energii a atmosféru celého koncertu. Tento výjimečný večer přinese nálož skvělé muziky\, pohody a neuvěřitelné energie\, která vás strhne! \nZažijte hudební show\, na kterou se nezapomíná! \n\nTento tip na kulturní akci v Solnice najdete v přehledu na Dnesnivylet.cz spolu s dalšími koncerty\, festivaly a divadelními představeními.Každý si vybere co se mu líbí. Nezapomeňte koupit vstupenky včas\, stačí kliknout a budete přesměrování na oficiálního prodejce vstupenek.
URL:https://dnesnivylet.cz/event/vaclav-noid-barta-a-bek-bek-clan-27/
LOCATION:Společenský dům\, Solnice\, Společenský dům\, Solnice\, Česká republika
CATEGORIES:Koncert
ATTACH;FMTTYPE=image/jpeg:https://dnesnivylet.cz/wp-content/uploads/2026/04/320-3ec2a72f13e04bebb221ace06722b8aa.jpg
END:VEVENT
END:VCALENDAR