BEGIN:VCALENDAR
VERSION:2.0
PRODID:-//www.dnesnivylet.cz                                                                                                                        Tip na výlet pro celou rodinu. - ECPv6.15.13.1//NONSGML v1.0//EN
CALSCALE:GREGORIAN
METHOD:PUBLISH
X-WR-CALNAME:www.dnesnivylet.cz                                                                                                                        Tip na výlet pro celou rodinu.
X-ORIGINAL-URL:https://dnesnivylet.cz
X-WR-CALDESC:Akce na www.dnesnivylet.cz                                                                                                                        Tip na výlet pro celou rodinu.
REFRESH-INTERVAL;VALUE=DURATION:PT1H
X-Robots-Tag:noindex
X-PUBLISHED-TTL:PT1H
BEGIN:VTIMEZONE
TZID:Europe/Prague
BEGIN:DAYLIGHT
TZOFFSETFROM:+0100
TZOFFSETTO:+0200
TZNAME:CEST
DTSTART:20250330T010000
END:DAYLIGHT
BEGIN:STANDARD
TZOFFSETFROM:+0200
TZOFFSETTO:+0100
TZNAME:CET
DTSTART:20251026T010000
END:STANDARD
BEGIN:DAYLIGHT
TZOFFSETFROM:+0100
TZOFFSETTO:+0200
TZNAME:CEST
DTSTART:20260329T010000
END:DAYLIGHT
BEGIN:STANDARD
TZOFFSETFROM:+0200
TZOFFSETTO:+0100
TZNAME:CET
DTSTART:20261025T010000
END:STANDARD
BEGIN:DAYLIGHT
TZOFFSETFROM:+0100
TZOFFSETTO:+0200
TZNAME:CEST
DTSTART:20270328T010000
END:DAYLIGHT
BEGIN:STANDARD
TZOFFSETFROM:+0200
TZOFFSETTO:+0100
TZNAME:CET
DTSTART:20271031T010000
END:STANDARD
END:VTIMEZONE
BEGIN:VEVENT
DTSTART;TZID=Europe/Prague:20260430T190000
DTEND;TZID=Europe/Prague:20260430T220000
DTSTAMP:20260419T161719
CREATED:20260419T121719Z
LAST-MODIFIED:20260419T121719Z
UID:20831-1777575600-1777586400@dnesnivylet.cz
SUMMARY:Jiří Pavlica & HRADIŠŤAN
DESCRIPTION:Jiří Pavlica & HRADIŠŤAN se uskuteční dne 2026-04-30 v 19:00 v Šternberk\, Kulturní dům – Městský klub. \n🎟️ Koupit vstupenku \n\nJiří Pavlica & HradišťanHradišťan je ojedinělým hudebním seskupením s vysokou uměleckou i interpretační úrovní\, nezvykle širokým žánrovým záběrem a netradičním repertoárem\, jehož silným inspiračním zdrojem byla zejména v počátcích jeho existence lidová tradice. Od roku 1978 je uměleckým vedoucím Hradišťanu tvůrčí osobnost – houslista a hudební skladatel Jiří Pavlica\, pod jehož vedením se dramaturgie začala postupně transformovat do širších souvislostí historických\, geografických\, ale i společenských.Hradišťan překračuje hranice hudebních žánrů a spolupracuje s osobnostmi různých kultur celého světa. Je častým hostem\, domácích i zahraničních festivalů tradiční\, alternativní\, ale i vážné hudby. Hradišťan spolupracuje s rozhlasem\, televizí a filmem\, koncertoval na 4 kontinentech\, natočil více než 30 stěžejních zvukových nosičů a na mnoha dalších spolupracoval. Mezi kmenové sólisty patří Alice Holubová\, Jiří Pavlica a David Burda. \n  \nVstup pro diváky bude otevřen od 18:00.  \nOsoby s průkazem ZTP/P a děti do šesti let mají vstup na všechny akce a koncerty zdarma. \nV případě jakýchkoli dotazů k tomuto koncertu nás neváhejte kontaktovat na e-mail: info@arks-plus.com.  \n\nTento tip na kulturní akci v Šternberk najdete v přehledu na Dnesnivylet.cz spolu s dalšími koncerty\, festivaly a divadelními představeními.Každý si vybere co se mu líbí. Nezapomeňte koupit vstupenky včas\, stačí kliknout a budete přesměrování na oficiálního prodejce vstupenek.
URL:https://dnesnivylet.cz/event/jiri-pavlica-hradistan/
LOCATION:Kulturní dům – Městský klub\, Šternberk\, Kulturní dům - Městský klub\, Šternberk\, Česká republika
CATEGORIES:Koncert
ATTACH;FMTTYPE=image/jpeg:https://dnesnivylet.cz/wp-content/uploads/2026/04/320-1f415b082dd94d5bbaf6bf4b0a530067.jpg
END:VEVENT
END:VCALENDAR