BEGIN:VCALENDAR
VERSION:2.0
PRODID:-//www.dnesnivylet.cz                                                                                                                        Tip na výlet pro celou rodinu. - ECPv6.15.13.1//NONSGML v1.0//EN
CALSCALE:GREGORIAN
METHOD:PUBLISH
X-ORIGINAL-URL:https://dnesnivylet.cz
X-WR-CALDESC:Akce na www.dnesnivylet.cz                                                                                                                        Tip na výlet pro celou rodinu.
REFRESH-INTERVAL;VALUE=DURATION:PT1H
X-Robots-Tag:noindex
X-PUBLISHED-TTL:PT1H
BEGIN:VTIMEZONE
TZID:Europe/Prague
BEGIN:DAYLIGHT
TZOFFSETFROM:+0100
TZOFFSETTO:+0200
TZNAME:CEST
DTSTART:20240331T010000
END:DAYLIGHT
BEGIN:STANDARD
TZOFFSETFROM:+0200
TZOFFSETTO:+0100
TZNAME:CET
DTSTART:20241027T010000
END:STANDARD
BEGIN:DAYLIGHT
TZOFFSETFROM:+0100
TZOFFSETTO:+0200
TZNAME:CEST
DTSTART:20250330T010000
END:DAYLIGHT
BEGIN:STANDARD
TZOFFSETFROM:+0200
TZOFFSETTO:+0100
TZNAME:CET
DTSTART:20251026T010000
END:STANDARD
BEGIN:DAYLIGHT
TZOFFSETFROM:+0100
TZOFFSETTO:+0200
TZNAME:CEST
DTSTART:20260329T010000
END:DAYLIGHT
BEGIN:STANDARD
TZOFFSETFROM:+0200
TZOFFSETTO:+0100
TZNAME:CET
DTSTART:20261025T010000
END:STANDARD
END:VTIMEZONE
BEGIN:VEVENT
DTSTART;TZID=Europe/Prague:20251219T200000
DTEND;TZID=Europe/Prague:20251219T230000
DTSTAMP:20260419T161905
CREATED:20251129T075121Z
LAST-MODIFIED:20251129T075122Z
UID:14242-1766174400-1766185200@dnesnivylet.cz
SUMMARY:Hell Bass & Fatal Teror Show
DESCRIPTION:Hell Bass & Fatal Teror Show se uskuteční dne 2025-12-19 v 20:00 v Studénka\, Studénka / Dělnický Dům. \n🎟️ Koupit vstupenku \n\nO akci \n  \nPokračování mejdanu\, který je určen především  pro lidi kteří se umí na akci slušně chovat. HELLBASS & FATAL TEROR SHOW live –  nabídne kvalitní nálož elektronické taneční hudby  především Drum and Bassu. Tento speciální Ostravský expres přiveze do Studénky kvalitní line up! \nLine up: \nMADFACE / Fatal teror \nELVIS / Fatal teror \nNO MONEY / Fatal teror \nDROP DATABASE / Fatal teror \nSCHOOLER \nKUNNDER \nKOCMONAUT \nKapacita je omezana\, ale dobrých lidí se vejde spousta! \n  \n\nTento tip na kulturní akci v Studénka najdete v přehledu na Dnesnivylet.cz spolu s dalšími koncerty\, festivaly a divadelními představeními.Každý si vybere co se mu líbí. Nezapomeňte koupit vstupenky včas\, stačí kliknout a budete přesměrování na oficiálního prodejce vstupenek.
URL:https://dnesnivylet.cz/event/hell-bass-fatal-teror-show/
LOCATION:Studénka / Dělnický Dům\, Studénka\, Studénka / Dělnický Dům\, Studénka\, Česká republika
CATEGORIES:Festival
ATTACH;FMTTYPE=image/jpeg:https://dnesnivylet.cz/wp-content/uploads/2025/11/320-a2df032008fc48648b35b09f778a2a95.jpg
END:VEVENT
BEGIN:VEVENT
DTSTART;TZID=Europe/Prague:20251113T190000
DTEND;TZID=Europe/Prague:20251113T220000
DTSTAMP:20260419T161905
CREATED:20251020T065406Z
LAST-MODIFIED:20251020T065406Z
UID:8354-1763060400-1763071200@dnesnivylet.cz
SUMMARY:Martin Hranáč - CRAZY SHOW - Studénka
DESCRIPTION:Martin Hranáč – CRAZY SHOW – Studénka se uskuteční dne 2025-11-13 v 19:00 v Studénka\, SAK Studénka. \n🎟️ Koupit vstupenku \n\nChcete vstoupit do světa humoru a improvizace? Tak je CRAZY SHOW právě pro VÁS! Připravte se na nezapomenutelný večer plný smíchu s Martinem Hranáčem – komikem\, hercem\, číšníkem a optimistou\, který svým jedinečným smyslem pro humor baví lidi na sociálních sítích. Martinův příběh číšníka a jeho každodenní zážitky z gastronomie se stávají zábavným vyprávěním\, které osloví naprosto všechny. \nKaždé vystoupení je unikátní a plné improvizace\, protože Martin miluje improvizaci a scénáře mění v průběhu večera\, což občas vykolejí jeho sestru Štěpánku Šmídovou\, která mu dělá skvělou společnost během celé show. Všechny scénky a historky vychází z Martinových zkušeností a zážitků\, jak profesního\, tak soukromého života. Jeho humor je nekorektní\, sebeironický a nebojí se jít na hranu – právě to dělá jeho show nezapomenutelnou! \nNenechte si ujít tento jedinečný zážitek! Vstupenky v prodeji! \nPořad není vhodný mladším 15 let! \nhttps://www.standupshow.cz/ \n\nTento tip na kulturní akci v Studénka najdete v přehledu na Dnesnivylet.cz spolu s dalšími koncerty\, festivaly a divadelními představeními.Každý si vybere co se mu líbí. Nezapomeňte koupit vstupenky včas\, stačí kliknout a budete přesměrování na oficiálního prodejce vstupenek.
URL:https://dnesnivylet.cz/event/martin-hranac-crazy-show-studenka/
LOCATION:SAK Studénka\, Studénka\, SAK Studénka\, Studénka\, Česká republika
CATEGORIES:Zábava
ATTACH;FMTTYPE=image/jpeg:https://dnesnivylet.cz/wp-content/uploads/2025/10/320-fb54381d2fad4aceaaa4521727aa3fd3-1.jpg
END:VEVENT
END:VCALENDAR