BEGIN:VCALENDAR
VERSION:2.0
PRODID:-//www.dnesnivylet.cz                                                                                                                        Tip na výlet pro celou rodinu. - ECPv6.15.13.1//NONSGML v1.0//EN
CALSCALE:GREGORIAN
METHOD:PUBLISH
X-WR-CALNAME:www.dnesnivylet.cz                                                                                                                        Tip na výlet pro celou rodinu.
X-ORIGINAL-URL:https://dnesnivylet.cz
X-WR-CALDESC:Akce na www.dnesnivylet.cz                                                                                                                        Tip na výlet pro celou rodinu.
REFRESH-INTERVAL;VALUE=DURATION:PT1H
X-Robots-Tag:noindex
X-PUBLISHED-TTL:PT1H
BEGIN:VTIMEZONE
TZID:Europe/Prague
BEGIN:DAYLIGHT
TZOFFSETFROM:+0100
TZOFFSETTO:+0200
TZNAME:CEST
DTSTART:20250330T010000
END:DAYLIGHT
BEGIN:STANDARD
TZOFFSETFROM:+0200
TZOFFSETTO:+0100
TZNAME:CET
DTSTART:20251026T010000
END:STANDARD
BEGIN:DAYLIGHT
TZOFFSETFROM:+0100
TZOFFSETTO:+0200
TZNAME:CEST
DTSTART:20260329T010000
END:DAYLIGHT
BEGIN:STANDARD
TZOFFSETFROM:+0200
TZOFFSETTO:+0100
TZNAME:CET
DTSTART:20261025T010000
END:STANDARD
BEGIN:DAYLIGHT
TZOFFSETFROM:+0100
TZOFFSETTO:+0200
TZNAME:CEST
DTSTART:20270328T010000
END:DAYLIGHT
BEGIN:STANDARD
TZOFFSETFROM:+0200
TZOFFSETTO:+0100
TZNAME:CET
DTSTART:20271031T010000
END:STANDARD
END:VTIMEZONE
BEGIN:VEVENT
DTSTART;TZID=Europe/Prague:20260214T190000
DTEND;TZID=Europe/Prague:20260214T220000
DTSTAMP:20260420T003258
CREATED:20260105T210444Z
LAST-MODIFIED:20260105T210445Z
UID:16378-1771095600-1771106400@dnesnivylet.cz
SUMMARY:Skautský „Zamilovaný ples“
DESCRIPTION:Skautský „Zamilovaný ples“ se uskuteční dne 2026-02-14 v 19:00 v Svaté Pole\, Restaurace Na Chmelnici. \n🎟️ Koupit vstupenku \n\nSrdečně vás zveme na tradiční skautský ples višňovského oddílu. Jelikož se tenhle rok sejdeme na Valentýna\, je téma jasné: „Zamilovaný ples“. \n(Nemáte polovičku? Nevadí! Dorazit můžou i všichni\, co jsou zamilovaní prostě do života. Nebo do tance :-).)  \nI letos bude hrát kapela Robert Jíša Band a chybět nebude tradiční welcome drink\, fotokoutek\, půlnoční překvapení a další plesové radosti. \nVstup ve společenském oděvu. Držet se tématu plesu (např. barvou šatů) je vítané\, ale nikoliv povinné :-)). \nPro zájemce je doprava na ples i z plesu zajištěna svozovým autobusem. Podrobnosti o svozovém autobusu zveřejníme ve facebookové události. \n\nTento tip na kulturní akci v Svaté Pole najdete v přehledu na Dnesnivylet.cz spolu s dalšími koncerty\, festivaly a divadelními představeními.Každý si vybere co se mu líbí. Nezapomeňte koupit vstupenky včas\, stačí kliknout a budete přesměrování na oficiálního prodejce vstupenek.
URL:https://dnesnivylet.cz/event/skautsky-zamilovany-ples/
LOCATION:Restaurace Na Chmelnici\, Svaté Pole\, Restaurace Na Chmelnici\, Svaté Pole\, Česká republika
CATEGORIES:Zábava
ATTACH;FMTTYPE=image/jpeg:https://dnesnivylet.cz/wp-content/uploads/2026/01/320-39249d3d874c41d2a1efdf33a0154dbb.jpg
END:VEVENT
END:VCALENDAR