BEGIN:VCALENDAR
VERSION:2.0
PRODID:-//www.dnesnivylet.cz                                                                                                                        Tip na výlet pro celou rodinu. - ECPv6.15.13.1//NONSGML v1.0//EN
CALSCALE:GREGORIAN
METHOD:PUBLISH
X-WR-CALNAME:www.dnesnivylet.cz                                                                                                                        Tip na výlet pro celou rodinu.
X-ORIGINAL-URL:https://dnesnivylet.cz
X-WR-CALDESC:Akce na www.dnesnivylet.cz                                                                                                                        Tip na výlet pro celou rodinu.
REFRESH-INTERVAL;VALUE=DURATION:PT1H
X-Robots-Tag:noindex
X-PUBLISHED-TTL:PT1H
BEGIN:VTIMEZONE
TZID:Europe/Prague
BEGIN:DAYLIGHT
TZOFFSETFROM:+0100
TZOFFSETTO:+0200
TZNAME:CEST
DTSTART:20240331T010000
END:DAYLIGHT
BEGIN:STANDARD
TZOFFSETFROM:+0200
TZOFFSETTO:+0100
TZNAME:CET
DTSTART:20241027T010000
END:STANDARD
BEGIN:DAYLIGHT
TZOFFSETFROM:+0100
TZOFFSETTO:+0200
TZNAME:CEST
DTSTART:20250330T010000
END:DAYLIGHT
BEGIN:STANDARD
TZOFFSETFROM:+0200
TZOFFSETTO:+0100
TZNAME:CET
DTSTART:20251026T010000
END:STANDARD
BEGIN:DAYLIGHT
TZOFFSETFROM:+0100
TZOFFSETTO:+0200
TZNAME:CEST
DTSTART:20260329T010000
END:DAYLIGHT
BEGIN:STANDARD
TZOFFSETFROM:+0200
TZOFFSETTO:+0100
TZNAME:CET
DTSTART:20261025T010000
END:STANDARD
END:VTIMEZONE
BEGIN:VEVENT
DTSTART;TZID=Europe/Prague:20251031T200000
DTEND;TZID=Europe/Prague:20251031T230000
DTSTAMP:20260420T010454
CREATED:20251023T112931Z
LAST-MODIFIED:20251023T112931Z
UID:9777-1761940800-1761951600@dnesnivylet.cz
SUMMARY:QUEENWAYS - Queen Tribute Band
DESCRIPTION:QUEENWAYS – Queen Tribute Band se uskuteční dne 2025-10-31 v 20:00 v Tatobity\, Kulturní dům. \n🎟️ Koupit vstupenku \n\nQUEENWAYS je hudební skupina (Queen revival\, Queen tribute)\, která interpretuje zejména nejslavnější hity legendární kapely Queen. Queenways kapela se skládá z profesionálních hudebníků s bohatými zkušenostmi na domácí i zahraniční scéně. Queenways Vás svým nasazením\, živostí a sehraností přenese zpět do doby\, kdy skupina Queen ovládala stadiony po celém světě. Kapela ctí typický projev a zvuk kapely Queen napříč dekádami\, ale zároveň nechává projevit osobitý přístup každého z muzikantů.  \n  \nV čele kapely stojí zpěvák Jaroslav Břeský\, který je okouzlen krásou hudby Queen již od svých 4 let a od té doby se jí aktivně věnuje. Byl také obdařen hlasovou barvou podobnou Freddie Mercurymu. V roce 2016 měl tu čest zazpívat na nedožitých 70. narozeninách Freddie Mercuryho a osobně se setkat se zbývajícími členy skupiny Queen. Jeho vystoupení ocenil a zpropagoval na svých sociálních sítích kytarista Brian May. V roce 2018 byl vybrán Asijskou produkcí na 2 koncerty v Indické Bombaji za účasti příbuzných Freddie Mercuryho.  \n  \nNa koncertech Queenways pravidelně zaznívají skladby jako „Bohemian Rhapsody“\, „We Will Rock You“\, „We Are The Champions“ a „Radio Ga Ga“\, ale také několik méně známých sladeb kapely Queen\, které si během let členové kapely oblíbili. \n\nTento tip na kulturní akci v Tatobity najdete v přehledu na Dnesnivylet.cz spolu s dalšími koncerty\, festivaly a divadelními představeními.Každý si vybere co se mu líbí. Nezapomeňte koupit vstupenky včas\, stačí kliknout a budete přesměrování na oficiálního prodejce vstupenek.
URL:https://dnesnivylet.cz/event/queenways-queen-tribute-band/
LOCATION:Kulturní dům\, Tatobity\, Kulturní dům\, Tatobity\, Česká republika
CATEGORIES:Koncert
ATTACH;FMTTYPE=image/jpeg:https://dnesnivylet.cz/wp-content/uploads/2025/10/320-5a3ab5b17d3447afa5e4cc4c9cd334e1.jpg
END:VEVENT
END:VCALENDAR