BEGIN:VCALENDAR
VERSION:2.0
PRODID:-//www.dnesnivylet.cz                                                                                                                        Tip na výlet pro celou rodinu. - ECPv6.15.13.1//NONSGML v1.0//EN
CALSCALE:GREGORIAN
METHOD:PUBLISH
X-WR-CALNAME:www.dnesnivylet.cz                                                                                                                        Tip na výlet pro celou rodinu.
X-ORIGINAL-URL:https://dnesnivylet.cz
X-WR-CALDESC:Akce na www.dnesnivylet.cz                                                                                                                        Tip na výlet pro celou rodinu.
REFRESH-INTERVAL;VALUE=DURATION:PT1H
X-Robots-Tag:noindex
X-PUBLISHED-TTL:PT1H
BEGIN:VTIMEZONE
TZID:Europe/Prague
BEGIN:DAYLIGHT
TZOFFSETFROM:+0100
TZOFFSETTO:+0200
TZNAME:CEST
DTSTART:20240331T010000
END:DAYLIGHT
BEGIN:STANDARD
TZOFFSETFROM:+0200
TZOFFSETTO:+0100
TZNAME:CET
DTSTART:20241027T010000
END:STANDARD
BEGIN:DAYLIGHT
TZOFFSETFROM:+0100
TZOFFSETTO:+0200
TZNAME:CEST
DTSTART:20250330T010000
END:DAYLIGHT
BEGIN:STANDARD
TZOFFSETFROM:+0200
TZOFFSETTO:+0100
TZNAME:CET
DTSTART:20251026T010000
END:STANDARD
BEGIN:DAYLIGHT
TZOFFSETFROM:+0100
TZOFFSETTO:+0200
TZNAME:CEST
DTSTART:20260329T010000
END:DAYLIGHT
BEGIN:STANDARD
TZOFFSETFROM:+0200
TZOFFSETTO:+0100
TZNAME:CET
DTSTART:20261025T010000
END:STANDARD
END:VTIMEZONE
BEGIN:VEVENT
DTSTART;TZID=Europe/Prague:20251211T190000
DTEND;TZID=Europe/Prague:20251211T220000
DTSTAMP:20260420T010616
CREATED:20251020T091606Z
LAST-MODIFIED:20251020T091607Z
UID:9037-1765479600-1765490400@dnesnivylet.cz
SUMMARY:Travesti show Divoké kočky Horní Těrlicko
DESCRIPTION:Travesti show Divoké kočky Horní Těrlicko se uskuteční dne 2025-12-11 v 19:00 v Těrlicko\, Kulturní dům Horní Těrlicko. \n🎟️ Koupit vstupenku \n\nTravesti skupina Divoké kočky z Ostravy přijíždí se svým celovečerním programem v rámci svého turné do Horního Těrlicka\, kde vystoupí 11.12.2025 od 19:00 na sále kulturního domu Horní Těrlicko. \nDélka programu s přestávkou 150 min. \nCelovečerní zábavný program je plný nezapomenutelných legračních scének\, písniček\, známých zpěvaček\, krásných kostýmů\, situačního humoru\, smíchu a je vhodný jak pro ženské tak pánské publikum. Jejich vystoupení se těší stálé větší oblibě a tak si každý divák přijde na své.Přijdte se sami přesvědčit\, že na travesti představení není nic špatného a v podání ostravských umělců se budete určitě dobře bavit. Divoké kočky se těší opět na úžasné místní publikum\, atmosféru a skvělý večer\, který vždy zaplněný sál diváků vytvoří. \nPřijďte se pobavit i Vy. \nNa závěr programu Vám členové souboru ukážou svou pravou tvář. \n\nTento tip na kulturní akci v Těrlicko najdete v přehledu na Dnesnivylet.cz spolu s dalšími koncerty\, festivaly a divadelními představeními.Každý si vybere co se mu líbí. Nezapomeňte koupit vstupenky včas\, stačí kliknout a budete přesměrování na oficiálního prodejce vstupenek.
URL:https://dnesnivylet.cz/event/travesti-show-divoke-kocky-horni-terlicko/
LOCATION:Kulturní dům Horní Těrlicko\, Těrlicko\, Kulturní dům Horní Těrlicko\, Těrlicko\, Česká republika
CATEGORIES:Zábava
ATTACH;FMTTYPE=image/jpeg:https://dnesnivylet.cz/wp-content/uploads/2025/10/320-b1ba7440799d41ab81d86d5a5ed41f75.jpg
END:VEVENT
END:VCALENDAR