BEGIN:VCALENDAR
VERSION:2.0
PRODID:-//www.dnesnivylet.cz                                                                                                                        Tip na výlet pro celou rodinu. - ECPv6.15.13.1//NONSGML v1.0//EN
CALSCALE:GREGORIAN
METHOD:PUBLISH
X-ORIGINAL-URL:https://dnesnivylet.cz
X-WR-CALDESC:Akce na www.dnesnivylet.cz                                                                                                                        Tip na výlet pro celou rodinu.
REFRESH-INTERVAL;VALUE=DURATION:PT1H
X-Robots-Tag:noindex
X-PUBLISHED-TTL:PT1H
BEGIN:VTIMEZONE
TZID:Europe/Prague
BEGIN:DAYLIGHT
TZOFFSETFROM:+0100
TZOFFSETTO:+0200
TZNAME:CEST
DTSTART:20250330T010000
END:DAYLIGHT
BEGIN:STANDARD
TZOFFSETFROM:+0200
TZOFFSETTO:+0100
TZNAME:CET
DTSTART:20251026T010000
END:STANDARD
BEGIN:DAYLIGHT
TZOFFSETFROM:+0100
TZOFFSETTO:+0200
TZNAME:CEST
DTSTART:20260329T010000
END:DAYLIGHT
BEGIN:STANDARD
TZOFFSETFROM:+0200
TZOFFSETTO:+0100
TZNAME:CET
DTSTART:20261025T010000
END:STANDARD
BEGIN:DAYLIGHT
TZOFFSETFROM:+0100
TZOFFSETTO:+0200
TZNAME:CEST
DTSTART:20270328T010000
END:DAYLIGHT
BEGIN:STANDARD
TZOFFSETFROM:+0200
TZOFFSETTO:+0100
TZNAME:CET
DTSTART:20271031T010000
END:STANDARD
END:VTIMEZONE
BEGIN:VEVENT
DTSTART;TZID=Europe/Prague:20260409T190000
DTEND;TZID=Europe/Prague:20260409T220000
DTSTAMP:20260419T131411
CREATED:20251022T113455Z
LAST-MODIFIED:20251022T113455Z
UID:9613-1775761200-1775772000@dnesnivylet.cz
SUMMARY:Šplouch
DESCRIPTION:Šplouch se uskuteční dne 2026-04-09 v 19:00 v Zbýšov\, Kino Horník. \n🎟️ Koupit vstupenku \nTento tip na kulturní akci v Zbýšov najdete v přehledu na Dnesnivylet.cz spolu s dalšími koncerty\, festivaly a divadelními představeními.Každý si vybere co se mu líbí. Nezapomeňte koupit vstupenky včas\, stačí kliknout a budete přesměrování na oficiálního prodejce vstupenek.
URL:https://dnesnivylet.cz/event/splouch/
LOCATION:Kino Horník\, Zbýšov\, Kino Horník\, Zbýšov\, Česká republika
CATEGORIES:Divadlo
ATTACH;FMTTYPE=image/jpeg:https://dnesnivylet.cz/wp-content/uploads/2025/10/320-9b4be04c8c3f4f0686434d23ceecb3cd.jpg
END:VEVENT
BEGIN:VEVENT
DTSTART;TZID=Europe/Prague:20260409T193000
DTEND;TZID=Europe/Prague:20260409T223000
DTSTAMP:20260419T131411
CREATED:20260211T114817Z
LAST-MODIFIED:20260211T114818Z
UID:17999-1775763000-1775773800@dnesnivylet.cz
SUMMARY:De Facto Mimo: Žijí mezi námi
DESCRIPTION:De Facto Mimo: Žijí mezi námi se uskuteční dne 2026-04-09 v 19:30 v Jihlava\, DIOD. \n🎟️ Koupit vstupenku \n\nPsychologická komedie s vedlejšími účinky. Objevte psychoevokaci a odblokujte se! Kurzy sebeovládání a sebeprosazení pod vedením zkušeného terapeuta! Máte problém? S námi ho můžete vyřešit. \nScénář a režie: Martin Kolář Hrají: Michal Kouba\, Pavel Štěpán\, Jakub Vyvážil\, Dana Holíková\, Kamila Koubová\, Markéta Ketnerová a Jiří Varhaník \n\nTento tip na kulturní akci v Jihlava najdete v přehledu na Dnesnivylet.cz spolu s dalšími koncerty\, festivaly a divadelními představeními.Každý si vybere co se mu líbí. Nezapomeňte koupit vstupenky včas\, stačí kliknout a budete přesměrování na oficiálního prodejce vstupenek.
URL:https://dnesnivylet.cz/event/de-facto-mimo-ziji-mezi-nami/
LOCATION:DIOD\, Jihlava\, DIOD\, Jihlava\, Česká republika
CATEGORIES:Divadlo
ATTACH;FMTTYPE=image/jpeg:https://dnesnivylet.cz/wp-content/uploads/2026/02/320-942fbacad0e74348bfef3df53379b987-1.jpg
END:VEVENT
BEGIN:VEVENT
DTSTART;TZID=Europe/Prague:20260409T193000
DTEND;TZID=Europe/Prague:20260409T223000
DTSTAMP:20260419T131411
CREATED:20260211T114818Z
LAST-MODIFIED:20260211T114818Z
UID:18000-1775763000-1775773800@dnesnivylet.cz
SUMMARY:De Facto Mimo: Žijí mezi námi
DESCRIPTION:De Facto Mimo: Žijí mezi námi se uskuteční dne 2026-04-09 v 19:30 v Jihlava\, DIOD. \n🎟️ Koupit vstupenku \n\nPsychologická komedie s vedlejšími účinky. Objevte psychoevokaci a odblokujte se! Kurzy sebeovládání a sebeprosazení pod vedením zkušeného terapeuta! Máte problém? S námi ho můžete vyřešit. \nScénář a režie: Martin Kolář Hrají: Michal Kouba\, Pavel Štěpán\, Jakub Vyvážil\, Dana Holíková\, Kamila Koubová\, Markéta Ketnerová a Jiří Varhaník \n\nTento tip na kulturní akci v Jihlava najdete v přehledu na Dnesnivylet.cz spolu s dalšími koncerty\, festivaly a divadelními představeními.Každý si vybere co se mu líbí. Nezapomeňte koupit vstupenky včas\, stačí kliknout a budete přesměrování na oficiálního prodejce vstupenek.
URL:https://dnesnivylet.cz/event/de-facto-mimo-ziji-mezi-nami-2/
LOCATION:DIOD\, Jihlava\, DIOD\, Jihlava\, Česká republika
CATEGORIES:Divadlo
ATTACH;FMTTYPE=image/jpeg:https://dnesnivylet.cz/wp-content/uploads/2026/02/320-942fbacad0e74348bfef3df53379b987.jpg
END:VEVENT
END:VCALENDAR