BEGIN:VCALENDAR
VERSION:2.0
PRODID:-//www.dnesnivylet.cz                                                                                                                        Tip na výlet pro celou rodinu. - ECPv6.15.13.1//NONSGML v1.0//EN
CALSCALE:GREGORIAN
METHOD:PUBLISH
X-WR-CALNAME:www.dnesnivylet.cz                                                                                                                        Tip na výlet pro celou rodinu.
X-ORIGINAL-URL:https://dnesnivylet.cz
X-WR-CALDESC:Akce na www.dnesnivylet.cz                                                                                                                        Tip na výlet pro celou rodinu.
REFRESH-INTERVAL;VALUE=DURATION:PT1H
X-Robots-Tag:noindex
X-PUBLISHED-TTL:PT1H
BEGIN:VTIMEZONE
TZID:Europe/Prague
BEGIN:DAYLIGHT
TZOFFSETFROM:+0100
TZOFFSETTO:+0200
TZNAME:CEST
DTSTART:20250330T010000
END:DAYLIGHT
BEGIN:STANDARD
TZOFFSETFROM:+0200
TZOFFSETTO:+0100
TZNAME:CET
DTSTART:20251026T010000
END:STANDARD
BEGIN:DAYLIGHT
TZOFFSETFROM:+0100
TZOFFSETTO:+0200
TZNAME:CEST
DTSTART:20260329T010000
END:DAYLIGHT
BEGIN:STANDARD
TZOFFSETFROM:+0200
TZOFFSETTO:+0100
TZNAME:CET
DTSTART:20261025T010000
END:STANDARD
BEGIN:DAYLIGHT
TZOFFSETFROM:+0100
TZOFFSETTO:+0200
TZNAME:CEST
DTSTART:20270328T010000
END:DAYLIGHT
BEGIN:STANDARD
TZOFFSETFROM:+0200
TZOFFSETTO:+0100
TZNAME:CET
DTSTART:20271031T010000
END:STANDARD
END:VTIMEZONE
BEGIN:VEVENT
DTSTART;TZID=Europe/Prague:20260713T160000
DTEND;TZID=Europe/Prague:20260713T190000
DTSTAMP:20260419T170930
CREATED:20251214T075430Z
LAST-MODIFIED:20251214T075430Z
UID:15245-1783958400-1783969200@dnesnivylet.cz
SUMMARY:Rodinná opera: Mendel Megaking – derniéra
DESCRIPTION:Rodinná opera: Mendel Megaking – derniéra se uskuteční dne 2026-07-13 v 16:00 v Znojmo\, Městské divadlo. \n🎟️ Koupit vstupenku \n\nAutorská komorní opera \nRodinná opera: Mendel Megaking – premiéra \naneb Když hrášek zpívá \nPo loňském úspěchu opery Jakuba Sommera\, přicházíme opět s novým unikátním titulem – komorní operou inspirovanou osobností Gregora Johanna Mendela – zakladatelem genetiky. \nHudební festival Znojmo připomene Mendelův odkaz originálním způsobem. Děj opery se totiž odehrává na současné základní škole a sleduje Mendela očima třináctiletých pubescentů. Zakladatel genetiky se symbolicky „znovuzrodí“ v podobě školníka Jandla a žáci s ním zažívají různá vtipná i poučná dobrodružství spojená s jeho výzkumy na školní zahradě. \nOpera přináší Mendelův příběh v přístupné a zábavné formě dětem i dospělým a naplňuje dlouhodobý cíl festivalu rozvíjet publikum všech generací včetně nejmladších diváků. Díky spolupráci s HF JAMU dostávají příležitost mladí výkonní umělci\, kteří jsou pověřeni kompletní realizací tohoto operního díla – od produkce\, přes tvorbu scény a kostýmů až po režii a obsazení ústředních rolí i orchestru. \nKomorní operu pro více generací realizuje tým studentů z Hudební fakulty JAMU v Brně. \n\nTento tip na kulturní akci v Znojmo najdete v přehledu na Dnesnivylet.cz spolu s dalšími koncerty\, festivaly a divadelními představeními.Každý si vybere co se mu líbí. Nezapomeňte koupit vstupenky včas\, stačí kliknout a budete přesměrování na oficiálního prodejce vstupenek.
URL:https://dnesnivylet.cz/event/rodinna-opera-mendel-megaking-derniera/
LOCATION:Městské divadlo\, Znojmo\, Městské divadlo\, Znojmo\, Česká republika
CATEGORIES:Festival
ATTACH;FMTTYPE=image/jpeg:https://dnesnivylet.cz/wp-content/uploads/2025/12/320-5097ae7bcb1b4bad9b5aaa03cb30de74.jpg
END:VEVENT
END:VCALENDAR