BEGIN:VCALENDAR
VERSION:2.0
PRODID:-//www.dnesnivylet.cz                                                                                                                        Tip na výlet pro celou rodinu. - ECPv6.15.13.1//NONSGML v1.0//EN
CALSCALE:GREGORIAN
METHOD:PUBLISH
X-WR-CALNAME:www.dnesnivylet.cz                                                                                                                        Tip na výlet pro celou rodinu.
X-ORIGINAL-URL:https://dnesnivylet.cz
X-WR-CALDESC:Akce na www.dnesnivylet.cz                                                                                                                        Tip na výlet pro celou rodinu.
REFRESH-INTERVAL;VALUE=DURATION:PT1H
X-Robots-Tag:noindex
X-PUBLISHED-TTL:PT1H
BEGIN:VTIMEZONE
TZID:Europe/Prague
BEGIN:DAYLIGHT
TZOFFSETFROM:+0100
TZOFFSETTO:+0200
TZNAME:CEST
DTSTART:20240331T010000
END:DAYLIGHT
BEGIN:STANDARD
TZOFFSETFROM:+0200
TZOFFSETTO:+0100
TZNAME:CET
DTSTART:20241027T010000
END:STANDARD
BEGIN:DAYLIGHT
TZOFFSETFROM:+0100
TZOFFSETTO:+0200
TZNAME:CEST
DTSTART:20250330T010000
END:DAYLIGHT
BEGIN:STANDARD
TZOFFSETFROM:+0200
TZOFFSETTO:+0100
TZNAME:CET
DTSTART:20251026T010000
END:STANDARD
BEGIN:DAYLIGHT
TZOFFSETFROM:+0100
TZOFFSETTO:+0200
TZNAME:CEST
DTSTART:20260329T010000
END:DAYLIGHT
BEGIN:STANDARD
TZOFFSETFROM:+0200
TZOFFSETTO:+0100
TZNAME:CET
DTSTART:20261025T010000
END:STANDARD
BEGIN:DAYLIGHT
TZOFFSETFROM:+0100
TZOFFSETTO:+0200
TZNAME:CEST
DTSTART:20270328T010000
END:DAYLIGHT
BEGIN:STANDARD
TZOFFSETFROM:+0200
TZOFFSETTO:+0100
TZNAME:CET
DTSTART:20271031T010000
END:STANDARD
END:VTIMEZONE
BEGIN:VEVENT
DTSTART;TZID=Europe/Prague:20260219T190000
DTEND;TZID=Europe/Prague:20260219T220000
DTSTAMP:20260420T004225
CREATED:20251025T143025Z
LAST-MODIFIED:20251025T143025Z
UID:10051-1771527600-1771538400@dnesnivylet.cz
SUMMARY:Muzikály Josefa Vojtka v Třeboni
DESCRIPTION:Muzikály Josefa Vojtka v Třeboni se uskuteční dne 2026-02-19 v 19:00 v Třeboň\, Kongresové a kulturní centrum Roháč. \n🎟️ Koupit vstupenku \n\n  \n„MUZIKÁLY JOSEFA VOJTKA – Tak trochu rockově“ \nNenechte si ujít jedinečnou možnost zažít vystoupení jednoho z nejvýraznějších hlasů české rockové a muzikálové scény. Za doprovodu známé kapely Charlie Band zazní  písně z muzikálů ve kterých Josef Vojtek účinkoval. Tři Mušketýři\, Angelika\, Kleopatra\, Hamlet\, Dracula\, a mnoho dalších. Připravte se na velkolepý zážitek\, kde se srdce rockera potká s vášní pro muzikály.  \n\nTento tip na kulturní akci v Třeboň najdete v přehledu na Dnesnivylet.cz spolu s dalšími koncerty\, festivaly a divadelními představeními.Každý si vybere co se mu líbí. Nezapomeňte koupit vstupenky včas\, stačí kliknout a budete přesměrování na oficiálního prodejce vstupenek.
URL:https://dnesnivylet.cz/event/muzikaly-josefa-vojtka-v-treboni/
LOCATION:Kongresové a kulturní centrum Roháč\, Třeboň\, Kongresové a kulturní centrum Roháč\, Třeboň\, Česká republika
CATEGORIES:Koncert
ATTACH;FMTTYPE=image/jpeg:https://dnesnivylet.cz/wp-content/uploads/2025/10/320-7d02ceceb7204f9584e18a410e26df1b.jpg
END:VEVENT
BEGIN:VEVENT
DTSTART;TZID=Europe/Prague:20260214T170000
DTEND;TZID=Europe/Prague:20260214T200000
DTSTAMP:20260420T004225
CREATED:20251123T094117Z
LAST-MODIFIED:20251123T094118Z
UID:13709-1771088400-1771099200@dnesnivylet.cz
SUMMARY:KNIHA DŽUNGLÍ - Třeboň
DESCRIPTION:KNIHA DŽUNGLÍ – Třeboň se uskuteční dne 2026-02-14 v 17:00 v Třeboň\, Divadlo J.K.Tyla. \n🎟️ Koupit vstupenku \n\nMuzikál KNIHA DŽUNGLÍ – největší rodinný zážitek roku 2026!  \nOd ledna 2026 přichází do 55 měst po celé České republice překvapení pro celou rodinu! Novinka od producentů rodinných muzikálů\, jako je Popelka\, Alenka v říši divů či Vánoční loupež. \nČeká vás příběh plný emocí\, hudby\, smíchu i napětí – a to přímo ve vašem městě! \nSeznámíte se s odvážným Mauglím\, moudrým vlčím vůdcem Akélou\, ušlechtilým a statečným panterem Baghírou\, rozverným medvědem Balúem\, jehož kostým je jediný svého druhu v Evropě! Velkolepý dojem zanechá také obrovský král opic – gorila Ludvík v unikátním kostýmu. \nObrovským lákadlem je jedinečný kostým Hada KAA\, jaký jste ještě nikdy neviděli! \nO napětí se postará nelítostný tygr Šerchán\, jeho komicko-zákeřný společník hyena Tabaki\, a atmosféru odlehčí i vtipný a upovídaný papoušek a další známá zvířata. \n Spolu s projekcemi a dechberoucími vizuálními efekty se ocitnete přímo uprostřed kouzelné džungle. \nDěti se stanou součástí představení – pomohou Mauglímu zahnat Šerchána nebo najít med pro medvěda Balů\,  a společně s herci dotvářet kouzelný příběh. \nInteraktivní část vás vtáhne do děje – zvířata z džungle se objeví nejen na jevišti\, ale i mezi dětmi v hledišti\, aby si každý mohl zažít pocit\, že je součástí příběhu. \nSpeciální bonus: Každé dítě dostane ke vstupence zvířecí masku dle vlastního výběru.A po představení čeká malé diváky jedinečná možnost vyfotit se přímo na jevišti s herci v kostýmech! \n  \n Tip na vánoční dárek!Darujte svým dětem a celé rodině nezapomenutelný zážitek – vstupenky na muzikál\, o kterém se bude mluvit ještě dlouho. \n\nToto není jen muzikál. Je to největší zážitek u vás doma\, ve vašem městě!\nkapacita je omezená.\nKupte si vstupenky v síti smsticket a buďte u muzikálové události roku 2026!\n\n\nTento tip na kulturní akci v Třeboň najdete v přehledu na Dnesnivylet.cz spolu s dalšími koncerty\, festivaly a divadelními představeními.Každý si vybere co se mu líbí. Nezapomeňte koupit vstupenky včas\, stačí kliknout a budete přesměrování na oficiálního prodejce vstupenek.
URL:https://dnesnivylet.cz/event/kniha-dzungli-trebon/
LOCATION:Divadlo J.K.Tyla\, Třeboň\, Divadlo J.K.Tyla\, Třeboň\, Česká republika
CATEGORIES:Divadlo
ATTACH;FMTTYPE=image/jpeg:https://dnesnivylet.cz/wp-content/uploads/2025/11/320-7285232edf0e42d78b4a4c54d1ab42a0.jpg
END:VEVENT
BEGIN:VEVENT
DTSTART;TZID=Europe/Prague:20260115T190000
DTEND;TZID=Europe/Prague:20260115T220000
DTSTAMP:20260420T004225
CREATED:20251105T191856Z
LAST-MODIFIED:20251105T191856Z
UID:12559-1768503600-1768514400@dnesnivylet.cz
SUMMARY:Hudba Coldplay při svíčkách
DESCRIPTION:Hudba Coldplay při svíčkách se uskuteční dne 2026-01-15 v 19:00 v Třeboň\, Divadlo J.K.Tyla. \n🎟️ Koupit vstupenku \n\nNenechte si ujít večer plný energie a emocí\, kde zazní ty největší hity britské kapely Coldplay. Světlo stovky svíček vytvoří nezapomenutelnou atmosféru tohoto jedinečného koncertu. \nProgram v podání smyčcového kvarteta nabídne výběr těch nejznámějších skladeb Coldplay\, včetně hitů jako „Fix You“\, „Yellow“ či „Viva La Vida“\, které si získaly srdce fanoušků po celém světě. \nTento koncert přinese víc než jen hudbu; stovky svíček rozzáří prostor a vytvoří atmosféru plnou emocí\, melancholie a nezapomenutelných melodií\, které vás vezmou na hudební cestu s Coldplay. \nAkce je přístupná od 12 let. Každý účastník musí předložit platnou vstupenku  zakoupenou výhradně v síti smsticket. \n\nTento tip na kulturní akci v Třeboň najdete v přehledu na Dnesnivylet.cz spolu s dalšími koncerty\, festivaly a divadelními představeními.Každý si vybere co se mu líbí. Nezapomeňte koupit vstupenky včas\, stačí kliknout a budete přesměrování na oficiálního prodejce vstupenek.
URL:https://dnesnivylet.cz/event/hudba-coldplay-pri-svickach-10/
LOCATION:Divadlo J.K.Tyla\, Třeboň\, Divadlo J.K.Tyla\, Třeboň\, Česká republika
CATEGORIES:Koncert
ATTACH;FMTTYPE=image/jpeg:https://dnesnivylet.cz/wp-content/uploads/2025/11/320-2c376a5a0edd419fabb27249d5963ade.jpg
END:VEVENT
BEGIN:VEVENT
DTSTART;TZID=Europe/Prague:20251102T190000
DTEND;TZID=Europe/Prague:20251102T220000
DTSTAMP:20260420T004225
CREATED:20251020T073316Z
LAST-MODIFIED:20251020T073316Z
UID:8768-1762110000-1762120800@dnesnivylet.cz
SUMMARY:Václav Noid Bárta - Vánoční koncert
DESCRIPTION:Václav Noid Bárta – Vánoční koncert se uskuteční dne 2025-11-02 v 19:00 v Třeboň\, Kongresové a kulturní centrum Roháč. \n🎟️ Koupit vstupenku \n\nVáclav Noid Bárta a jeho vánoční koncert v Třeboni! \nCharismatický zpěvák s nezaměnitelným hlasem Václav Noid Bárta rozezní svůj vánoční koncert v Třeboni! \nNa poli populární a rockové hudby v průběhu let spolupracoval jako skladatel\, aranžér a zpěvák například s Lucií Bílou\, Bárou Basikovou\, Helenou Vondráčkovou\, Kamilem Střihavkou\, Lucií Vondráčkovou a dalšími. \nJe předním sólistou Hudebního divadla Karlín\, kde exceloval v muzikálech Carmen\, Aida\, Lucie\, The Addams Family\, Bonnie and Clyde\, Jesus Christ Superstar a Sestra v akci. \nVstupenky jsou právě v prodeji\, ale neváhejte dlouho – rychle mizí a brzy nebudou k dispozici.  \n\nTento tip na kulturní akci v Třeboň najdete v přehledu na Dnesnivylet.cz spolu s dalšími koncerty\, festivaly a divadelními představeními.Každý si vybere co se mu líbí. Nezapomeňte koupit vstupenky včas\, stačí kliknout a budete přesměrování na oficiálního prodejce vstupenek.
URL:https://dnesnivylet.cz/event/vaclav-noid-barta-vanocni-koncert-3/
LOCATION:Kongresové a kulturní centrum Roháč\, Třeboň\, Kongresové a kulturní centrum Roháč\, Třeboň\, Česká republika
CATEGORIES:Koncert
ATTACH;FMTTYPE=image/jpeg:https://dnesnivylet.cz/wp-content/uploads/2025/10/320-dcc8fde98109467d9b7b5ffd282bab7d.jpg
END:VEVENT
END:VCALENDAR