BEGIN:VCALENDAR
VERSION:2.0
PRODID:-//www.dnesnivylet.cz                                                                                                                        Tip na výlet pro celou rodinu. - ECPv6.15.13.1//NONSGML v1.0//EN
CALSCALE:GREGORIAN
METHOD:PUBLISH
X-WR-CALNAME:www.dnesnivylet.cz                                                                                                                        Tip na výlet pro celou rodinu.
X-ORIGINAL-URL:https://dnesnivylet.cz
X-WR-CALDESC:Akce na www.dnesnivylet.cz                                                                                                                        Tip na výlet pro celou rodinu.
REFRESH-INTERVAL;VALUE=DURATION:PT1H
X-Robots-Tag:noindex
X-PUBLISHED-TTL:PT1H
BEGIN:VTIMEZONE
TZID:Europe/Prague
BEGIN:DAYLIGHT
TZOFFSETFROM:+0100
TZOFFSETTO:+0200
TZNAME:CEST
DTSTART:20240331T010000
END:DAYLIGHT
BEGIN:STANDARD
TZOFFSETFROM:+0200
TZOFFSETTO:+0100
TZNAME:CET
DTSTART:20241027T010000
END:STANDARD
BEGIN:DAYLIGHT
TZOFFSETFROM:+0100
TZOFFSETTO:+0200
TZNAME:CEST
DTSTART:20250330T010000
END:DAYLIGHT
BEGIN:STANDARD
TZOFFSETFROM:+0200
TZOFFSETTO:+0100
TZNAME:CET
DTSTART:20251026T010000
END:STANDARD
BEGIN:DAYLIGHT
TZOFFSETFROM:+0100
TZOFFSETTO:+0200
TZNAME:CEST
DTSTART:20260329T010000
END:DAYLIGHT
BEGIN:STANDARD
TZOFFSETFROM:+0200
TZOFFSETTO:+0100
TZNAME:CET
DTSTART:20261025T010000
END:STANDARD
BEGIN:DAYLIGHT
TZOFFSETFROM:+0100
TZOFFSETTO:+0200
TZNAME:CEST
DTSTART:20270328T010000
END:DAYLIGHT
BEGIN:STANDARD
TZOFFSETFROM:+0200
TZOFFSETTO:+0100
TZNAME:CET
DTSTART:20271031T010000
END:STANDARD
END:VTIMEZONE
BEGIN:VEVENT
DTSTART;TZID=Europe/Prague:20260310T190000
DTEND;TZID=Europe/Prague:20260310T220000
DTSTAMP:20260419T220353
CREATED:20251105T120448Z
LAST-MODIFIED:20251105T120448Z
UID:12438-1773169200-1773180000@dnesnivylet.cz
SUMMARY:Martin Hranáč - CRAZY SHOW - Trenčín
DESCRIPTION:Martin Hranáč – CRAZY SHOW – Trenčín se uskuteční dne 2026-03-10 v 19:00 v Trenčín\, Piano club. \n🎟️ Koupit vstupenku \n\nChcete vstoupit do světa humoru a improvizace? Tak je CRAZY SHOW právě pro VÁS! Připravte se na nezapomenutelný večer plný smíchu s Martinem Hranáčem – komikem\, hercem\, číšníkem a optimistou\, který svým jedinečným smyslem pro humor baví lidi na sociálních sítích. Martinův příběh číšníka a jeho každodenní zážitky z gastronomie se stávají zábavným vyprávěním\, které osloví naprosto všechny. \nKaždé vystoupení je unikátní a plné improvizace\, protože Martin miluje improvizaci a scénáře mění v průběhu večera\, což občas vykolejí jeho sestru Štěpánku Šmídovou\, která mu dělá skvělou společnost během celé show. Všechny scénky a historky vychází z Martinových zkušeností a zážitků\, jak profesního\, tak soukromého života. Jeho humor je nekorektní\, sebeironický a nebojí se jít na hranu – právě to dělá jeho show nezapomenutelnou! \nNenechte si ujít tento jedinečný zážitek! Vstupenky v prodeji! \nPořad není vhodný mladším 15 let! \n\nTento tip na kulturní akci v Trenčín najdete v přehledu na Dnesnivylet.cz spolu s dalšími koncerty\, festivaly a divadelními představeními.Každý si vybere co se mu líbí. Nezapomeňte koupit vstupenky včas\, stačí kliknout a budete přesměrování na oficiálního prodejce vstupenek.
URL:https://dnesnivylet.cz/event/martin-hranac-crazy-show-trencin/
LOCATION:Piano club\, Trenčín\, Piano club\, Trenčín\, Česká republika
CATEGORIES:Zábava
ATTACH;FMTTYPE=image/jpeg:https://dnesnivylet.cz/wp-content/uploads/2025/11/320-97261fd2ee934ff8aab7a03373a1a504.jpg
END:VEVENT
BEGIN:VEVENT
DTSTART;TZID=Europe/Prague:20251025T190000
DTEND;TZID=Europe/Prague:20251025T220000
DTSTAMP:20260419T220353
CREATED:20251020T063400Z
LAST-MODIFIED:20251020T063401Z
UID:7847-1761418800-1761429600@dnesnivylet.cz
SUMMARY:Muzikály Josefa Vojtka v Trenčíne
DESCRIPTION:Muzikály Josefa Vojtka v Trenčíne se uskuteční dne 2025-10-25 v 19:00 v Trenčín\, Posádkový klub – ODA Trenčín. \n🎟️ Koupit vstupenku \n\nJosef Vojtek oslavuje 30 rokov na muzikálovej scéne \na pri tejto príležitosti oznamuje svoje prvé sólové turné s názvom \n„MUZIKÁLY JOSEFA VOJTKA – Tak trochu rockovo“ \nNenechajte si ujsť jedinečnú príležitosť zažiť vystúpenie jedného z najvýraznejších hlasov českej rockovej a muzikálovej scény. Za sprievodu známej kapely Charlie Band zaznejú piesne z muzikálov\, v ktorých Josef Vojtek účinkoval. Traja Mušketieri\, Angelika\, Kleopatra\, Hamlet\, Dracula a mnoho ďalších. Pripravte sa na veľkolepý zážitok\, kde sa srdce rockera stretáva s vášňou pre muzikály. \n\nTento tip na kulturní akci v Trenčín najdete v přehledu na Dnesnivylet.cz spolu s dalšími koncerty\, festivaly a divadelními představeními.Každý si vybere co se mu líbí. Nezapomeňte koupit vstupenky včas\, stačí kliknout a budete přesměrování na oficiálního prodejce vstupenek.
URL:https://dnesnivylet.cz/event/muzikaly-josefa-vojtka-v-trencine/
LOCATION:Posádkový klub – ODA Trenčín\, Trenčín\, Posádkový klub - ODA Trenčín\, Trenčín\, Česká republika
CATEGORIES:Koncert
ATTACH;FMTTYPE=image/jpeg:https://dnesnivylet.cz/wp-content/uploads/2025/10/320-ac2d85a380fe41c4a169618a0aca6f06-1.jpg
END:VEVENT
END:VCALENDAR