BEGIN:VCALENDAR
VERSION:2.0
PRODID:-//www.dnesnivylet.cz                                                                                                                        Tip na výlet pro celou rodinu. - ECPv6.15.13.1//NONSGML v1.0//EN
CALSCALE:GREGORIAN
METHOD:PUBLISH
X-ORIGINAL-URL:https://dnesnivylet.cz
X-WR-CALDESC:Akce na www.dnesnivylet.cz                                                                                                                        Tip na výlet pro celou rodinu.
REFRESH-INTERVAL;VALUE=DURATION:PT1H
X-Robots-Tag:noindex
X-PUBLISHED-TTL:PT1H
BEGIN:VTIMEZONE
TZID:Europe/Prague
BEGIN:DAYLIGHT
TZOFFSETFROM:+0100
TZOFFSETTO:+0200
TZNAME:CEST
DTSTART:20250330T010000
END:DAYLIGHT
BEGIN:STANDARD
TZOFFSETFROM:+0200
TZOFFSETTO:+0100
TZNAME:CET
DTSTART:20251026T010000
END:STANDARD
BEGIN:DAYLIGHT
TZOFFSETFROM:+0100
TZOFFSETTO:+0200
TZNAME:CEST
DTSTART:20260329T010000
END:DAYLIGHT
BEGIN:STANDARD
TZOFFSETFROM:+0200
TZOFFSETTO:+0100
TZNAME:CET
DTSTART:20261025T010000
END:STANDARD
BEGIN:DAYLIGHT
TZOFFSETFROM:+0100
TZOFFSETTO:+0200
TZNAME:CEST
DTSTART:20270328T010000
END:DAYLIGHT
BEGIN:STANDARD
TZOFFSETFROM:+0200
TZOFFSETTO:+0100
TZNAME:CET
DTSTART:20271031T010000
END:STANDARD
END:VTIMEZONE
BEGIN:VEVENT
DTSTART;TZID=Europe/Prague:20260218T190000
DTEND;TZID=Europe/Prague:20260218T220000
DTSTAMP:20260420T011157
CREATED:20251105T191706Z
LAST-MODIFIED:20251105T191706Z
UID:12510-1771441200-1771452000@dnesnivylet.cz
SUMMARY:Hudba Harryho Pottera při svíčkách | Uherský Brod
DESCRIPTION:Hudba Harryho Pottera při svíčkách | Uherský Brod se uskuteční dne 2026-02-18 v 19:00 v Uherský Brod\, Dům Kultury. \n🎟️ Koupit vstupenku \n\nNenechte si ujít večer plný magické hudby\, kde zazní ty nejznámější melodie a písně ze všech filmů Harryho Pottera. Světlo stovky svíček vytvoří nezapomenutelnou atmosféru koncertu. \nProgram v jedinečném klavírním provedení představuje výběr filmových skladeb od pětinásobného oscarového skladatele Johna Williamse společně s díly Patricka Doyla\, Nicolase Hoopera a Alexandra Desplata\, držitele Oscara\, a nabízí to nejlepší z hudby Harryho Pottera. \nTento magický koncert nabídne víc než jen hudbu; stovky svíček rozzáří prostor a přidají na tajemné atmosféře plné mystiky a kouzel. \nMůžete se těšit na známé melodie a písně z filmů Harryho Pottera\, upravené pro klavírní koncert a to v podání předního českého klavíristy Alexandra Starého. \nV rámci Evropské tour alternují také: František Panáček a Lucie Kubátová.  \nAkce je přístupná od 12 let. Každý účastník musí předložit platnou vstupenku  zakoupenou výhradně v síti smsticket. \n  \n\nTento tip na kulturní akci v Uherský Brod najdete v přehledu na Dnesnivylet.cz spolu s dalšími koncerty\, festivaly a divadelními představeními.Každý si vybere co se mu líbí. Nezapomeňte koupit vstupenky včas\, stačí kliknout a budete přesměrování na oficiálního prodejce vstupenek.
URL:https://dnesnivylet.cz/event/hudba-harryho-pottera-pri-svickach-uhersky-brod/
LOCATION:Dům Kultury\, Uherský Brod\, Dům Kultury\, Uherský Brod\, Česká republika
CATEGORIES:Koncert
ATTACH;FMTTYPE=image/jpeg:https://dnesnivylet.cz/wp-content/uploads/2025/11/320-c3651e5b70f94a4eb6a894538d1f47a9.jpg
END:VEVENT
END:VCALENDAR