BEGIN:VCALENDAR
VERSION:2.0
PRODID:-//www.dnesnivylet.cz                                                                                                                        Tip na výlet pro celou rodinu. - ECPv6.15.13.1//NONSGML v1.0//EN
CALSCALE:GREGORIAN
METHOD:PUBLISH
X-WR-CALNAME:www.dnesnivylet.cz                                                                                                                        Tip na výlet pro celou rodinu.
X-ORIGINAL-URL:https://dnesnivylet.cz
X-WR-CALDESC:Akce na www.dnesnivylet.cz                                                                                                                        Tip na výlet pro celou rodinu.
REFRESH-INTERVAL;VALUE=DURATION:PT1H
X-Robots-Tag:noindex
X-PUBLISHED-TTL:PT1H
BEGIN:VTIMEZONE
TZID:Europe/Prague
BEGIN:DAYLIGHT
TZOFFSETFROM:+0100
TZOFFSETTO:+0200
TZNAME:CEST
DTSTART:20240331T010000
END:DAYLIGHT
BEGIN:STANDARD
TZOFFSETFROM:+0200
TZOFFSETTO:+0100
TZNAME:CET
DTSTART:20241027T010000
END:STANDARD
BEGIN:DAYLIGHT
TZOFFSETFROM:+0100
TZOFFSETTO:+0200
TZNAME:CEST
DTSTART:20250330T010000
END:DAYLIGHT
BEGIN:STANDARD
TZOFFSETFROM:+0200
TZOFFSETTO:+0100
TZNAME:CET
DTSTART:20251026T010000
END:STANDARD
BEGIN:DAYLIGHT
TZOFFSETFROM:+0100
TZOFFSETTO:+0200
TZNAME:CEST
DTSTART:20260329T010000
END:DAYLIGHT
BEGIN:STANDARD
TZOFFSETFROM:+0200
TZOFFSETTO:+0100
TZNAME:CET
DTSTART:20261025T010000
END:STANDARD
BEGIN:DAYLIGHT
TZOFFSETFROM:+0100
TZOFFSETTO:+0200
TZNAME:CEST
DTSTART:20270328T010000
END:DAYLIGHT
BEGIN:STANDARD
TZOFFSETFROM:+0200
TZOFFSETTO:+0100
TZNAME:CET
DTSTART:20271031T010000
END:STANDARD
END:VTIMEZONE
BEGIN:VEVENT
DTSTART;TZID=Europe/Prague:20260218T190000
DTEND;TZID=Europe/Prague:20260218T220000
DTSTAMP:20260420T021838
CREATED:20251105T191706Z
LAST-MODIFIED:20251105T191706Z
UID:12510-1771441200-1771452000@dnesnivylet.cz
SUMMARY:Hudba Harryho Pottera při svíčkách | Uherský Brod
DESCRIPTION:Hudba Harryho Pottera při svíčkách | Uherský Brod se uskuteční dne 2026-02-18 v 19:00 v Uherský Brod\, Dům Kultury. \n🎟️ Koupit vstupenku \n\nNenechte si ujít večer plný magické hudby\, kde zazní ty nejznámější melodie a písně ze všech filmů Harryho Pottera. Světlo stovky svíček vytvoří nezapomenutelnou atmosféru koncertu. \nProgram v jedinečném klavírním provedení představuje výběr filmových skladeb od pětinásobného oscarového skladatele Johna Williamse společně s díly Patricka Doyla\, Nicolase Hoopera a Alexandra Desplata\, držitele Oscara\, a nabízí to nejlepší z hudby Harryho Pottera. \nTento magický koncert nabídne víc než jen hudbu; stovky svíček rozzáří prostor a přidají na tajemné atmosféře plné mystiky a kouzel. \nMůžete se těšit na známé melodie a písně z filmů Harryho Pottera\, upravené pro klavírní koncert a to v podání předního českého klavíristy Alexandra Starého. \nV rámci Evropské tour alternují také: František Panáček a Lucie Kubátová.  \nAkce je přístupná od 12 let. Každý účastník musí předložit platnou vstupenku  zakoupenou výhradně v síti smsticket. \n  \n\nTento tip na kulturní akci v Uherský Brod najdete v přehledu na Dnesnivylet.cz spolu s dalšími koncerty\, festivaly a divadelními představeními.Každý si vybere co se mu líbí. Nezapomeňte koupit vstupenky včas\, stačí kliknout a budete přesměrování na oficiálního prodejce vstupenek.
URL:https://dnesnivylet.cz/event/hudba-harryho-pottera-pri-svickach-uhersky-brod/
LOCATION:Dům Kultury\, Uherský Brod\, Dům Kultury\, Uherský Brod\, Česká republika
CATEGORIES:Koncert
ATTACH;FMTTYPE=image/jpeg:https://dnesnivylet.cz/wp-content/uploads/2025/11/320-c3651e5b70f94a4eb6a894538d1f47a9.jpg
END:VEVENT
BEGIN:VEVENT
DTSTART;TZID=Europe/Prague:20260116T200000
DTEND;TZID=Europe/Prague:20260116T230000
DTSTAMP:20260420T021838
CREATED:20251222T144908Z
LAST-MODIFIED:20251222T144909Z
UID:15842-1768593600-1768604400@dnesnivylet.cz
SUMMARY:Zimní Záviš
DESCRIPTION:Zimní Záviš se uskuteční dne 2026-01-16 v 20:00 v Uherský Brod\, Dobré Místo Újezdec. \n🎟️ Koupit vstupenku \n\nPro velkou oblibu mistra\, jsme se rozhodli uspořádat zimní edici jeho koncertní show.Stavte se užít lednovou povánoční pornoatmosféru s knížetem. \nVstup: 250\,-/předprodej\, 300\,-/na místě \n\nTento tip na kulturní akci v Uherský Brod najdete v přehledu na Dnesnivylet.cz spolu s dalšími koncerty\, festivaly a divadelními představeními.Každý si vybere co se mu líbí. Nezapomeňte koupit vstupenky včas\, stačí kliknout a budete přesměrování na oficiálního prodejce vstupenek.
URL:https://dnesnivylet.cz/event/zimni-zavis/
LOCATION:Dobré Místo Újezdec\, Uherský Brod\, Dobré Místo Újezdec\, Uherský Brod\, Česká republika
CATEGORIES:Koncert
ATTACH;FMTTYPE=image/jpeg:https://dnesnivylet.cz/wp-content/uploads/2025/12/320-7a3ce927ffaa4f7fa364febdaa5a837e.jpg
END:VEVENT
BEGIN:VEVENT
DTSTART;TZID=Europe/Prague:20251227T200000
DTEND;TZID=Europe/Prague:20251227T230000
DTSTAMP:20260420T021838
CREATED:20251222T145101Z
LAST-MODIFIED:20251222T145101Z
UID:15856-1766865600-1766876400@dnesnivylet.cz
SUMMARY:Švihadlo & Reggay Band
DESCRIPTION:Švihadlo & Reggay Band se uskuteční dne 2025-12-27 v 20:00 v Uherský Brod\, Dobré Místo Újezdec. \n🎟️ Koupit vstupenku \n\nJamajský večírek s legendami a domorodci. Bude to strašné!!!Švihadlo a jejich hity určitě všichni znáte …Kapela Švihadlo je již čtyřicet let vytrvalým zástupcem reggae v Čechách (založena v roce 1983 v Mladé Boleslavi). Kapela vytrvale objíždí kluby a festivaly v České republice a na Slovensku\, koncertovala i v okolních zemích (Polsko\, Německo\, Rakousko\, Maďarsko\, Slovinsko\, Chorvatsko) a dokonce i v Číně. \nZa dobu své existence vydala několik alb a v současné době připravuje další. \nV současnosti osmičlenná až dvacetičlenná formace překračující hranice valašsko-slováckého babylonu a tvořící vlastní písně různých odnoží reggae\, ska a latino. Kapela má za sebou více než patnáctiletou historii a stovky koncertů nejen po celé ČR\, ale i zahraniční štace do Rakouska\, Polska\, Itálie a Slovenska. V roce 2021 prosákla tvorba kapely na všechny digitální hudební platformy\, kde můžete ochutnat jak novinky\, tak i starší vály. Se zhoršenou epidemickou situací se Reggay vypořádal natočením epické fošny a vzniklo tak CD Let’s Party. O téměř rok později se kapela znovu zavřela do útrob atomového bunkru se studiem a nasázela 3 nové pecky takzvaně na ‚JUST ONE TAKE‘. Chcete-li opravdu poznat co je Reggay\, je třeba osobně zavítat na některou koncertní událost. Jen tam si to pořádně užijete! Navíc podstatnou část vystoupení tvoří novinky\, které si nikde jinde nepustíte.  \nVstup: 250\,- předprodej\, 300\,- na místě \n\nTento tip na kulturní akci v Uherský Brod najdete v přehledu na Dnesnivylet.cz spolu s dalšími koncerty\, festivaly a divadelními představeními.Každý si vybere co se mu líbí. Nezapomeňte koupit vstupenky včas\, stačí kliknout a budete přesměrování na oficiálního prodejce vstupenek.
URL:https://dnesnivylet.cz/event/svihadlo-reggay-band/
LOCATION:Dobré Místo Újezdec\, Uherský Brod\, Dobré Místo Újezdec\, Uherský Brod\, Česká republika
CATEGORIES:Koncert
ATTACH;FMTTYPE=image/jpeg:https://dnesnivylet.cz/wp-content/uploads/2025/12/320-cb6b736571dc41ad9edc926dca0a812e.jpg
END:VEVENT
BEGIN:VEVENT
DTSTART;TZID=Europe/Prague:20251210T190000
DTEND;TZID=Europe/Prague:20251210T220000
DTSTAMP:20260420T021838
CREATED:20251101T134423Z
LAST-MODIFIED:20251101T134423Z
UID:10958-1765393200-1765404000@dnesnivylet.cz
SUMMARY:KOUZLO VÁNOC - Grande Moravia Ladislava Pavluše
DESCRIPTION:KOUZLO VÁNOC – Grande Moravia Ladislava Pavluše se uskuteční dne 2025-12-10 v 19:00 v Uherský Brod\, Dům Kultury. \n🎟️ Koupit vstupenku \n\nKOUZLO VÁNOCGrande Moravia Ladislava Pavluše&Tři Barvy – Mária Bikárová\, Eliška Trtíková\, Lucie Bikárová(alt. Leona Klempárová) \nPonořte se do kouzelné vánoční atmosféry a nechte se unést melodiemi\, které rozezní srdce i nejchladnější zimní večer.Velmi oblíbený orchestr Grande Moravia spolu s půvabným dívčím triem Tři Barvy přinášejí výběr nejkrásnějších vánočních písní\, které vám vykouzlí úsměv na tváři a zahřejí duši. \nZažijte večer plný radosti\, hudby a společných chvil\, které rozsvítí vaše předvánoční dny. \n\nTento tip na kulturní akci v Uherský Brod najdete v přehledu na Dnesnivylet.cz spolu s dalšími koncerty\, festivaly a divadelními představeními.Každý si vybere co se mu líbí. Nezapomeňte koupit vstupenky včas\, stačí kliknout a budete přesměrování na oficiálního prodejce vstupenek.
URL:https://dnesnivylet.cz/event/kouzlo-vanoc-grande-moravia-ladislava-pavluse-2/
LOCATION:Dům Kultury\, Uherský Brod\, Dům Kultury\, Uherský Brod\, Česká republika
CATEGORIES:Koncert
ATTACH;FMTTYPE=image/jpeg:https://dnesnivylet.cz/wp-content/uploads/2025/11/320-0e63cc710ca243858d67f2c640bcd182.jpg
END:VEVENT
BEGIN:VEVENT
DTSTART;TZID=Europe/Prague:20251107T190000
DTEND;TZID=Europe/Prague:20251107T220000
DTSTAMP:20260420T021838
CREATED:20251020T094604Z
LAST-MODIFIED:20251020T094604Z
UID:9117-1762542000-1762552800@dnesnivylet.cz
SUMMARY:Hudba Coldplay při svíčkách
DESCRIPTION:Hudba Coldplay při svíčkách se uskuteční dne 2025-11-07 v 19:00 v Uherský Brod\, Dům Kultury. \n🎟️ Koupit vstupenku \n\nNenechte si ujít večer plný energie a emocí\, kde zazní ty největší hity britské kapely Coldplay. Světlo stovky svíček vytvoří nezapomenutelnou atmosféru tohoto jedinečného koncertu. \nProgram v podání smyčcového kvarteta nabídne výběr těch nejznámějších skladeb Coldplay\, včetně hitů jako „Fix You“\, „Yellow“ či „Viva La Vida“\, které si získaly srdce fanoušků po celém světě. \nTento koncert přinese víc než jen hudbu; stovky svíček rozzáří prostor a vytvoří atmosféru plnou emocí\, melancholie a nezapomenutelných melodií\, které vás vezmou na hudební cestu s Coldplay. \nAkce je přístupná od 12 let. Každý účastník musí předložit platnou vstupenku  zakoupenou výhradně v síti SMS ticket. \n\nTento tip na kulturní akci v Uherský Brod najdete v přehledu na Dnesnivylet.cz spolu s dalšími koncerty\, festivaly a divadelními představeními.Každý si vybere co se mu líbí. Nezapomeňte koupit vstupenky včas\, stačí kliknout a budete přesměrování na oficiálního prodejce vstupenek.
URL:https://dnesnivylet.cz/event/hudba-coldplay-pri-svickach-5/
LOCATION:Dům Kultury\, Uherský Brod\, Dům Kultury\, Uherský Brod\, Česká republika
CATEGORIES:Koncert
ATTACH;FMTTYPE=image/jpeg:https://dnesnivylet.cz/wp-content/uploads/2025/10/320-1c77420b92264a4b9dab96161b734172.jpg
END:VEVENT
END:VCALENDAR