BEGIN:VCALENDAR
VERSION:2.0
PRODID:-//www.dnesnivylet.cz                                                                                                                        Tip na výlet pro celou rodinu. - ECPv6.15.13.1//NONSGML v1.0//EN
CALSCALE:GREGORIAN
METHOD:PUBLISH
X-WR-CALNAME:www.dnesnivylet.cz                                                                                                                        Tip na výlet pro celou rodinu.
X-ORIGINAL-URL:https://dnesnivylet.cz
X-WR-CALDESC:Akce na www.dnesnivylet.cz                                                                                                                        Tip na výlet pro celou rodinu.
REFRESH-INTERVAL;VALUE=DURATION:PT1H
X-Robots-Tag:noindex
X-PUBLISHED-TTL:PT1H
BEGIN:VTIMEZONE
TZID:Europe/Prague
BEGIN:DAYLIGHT
TZOFFSETFROM:+0100
TZOFFSETTO:+0200
TZNAME:CEST
DTSTART:20250330T010000
END:DAYLIGHT
BEGIN:STANDARD
TZOFFSETFROM:+0200
TZOFFSETTO:+0100
TZNAME:CET
DTSTART:20251026T010000
END:STANDARD
BEGIN:DAYLIGHT
TZOFFSETFROM:+0100
TZOFFSETTO:+0200
TZNAME:CEST
DTSTART:20260329T010000
END:DAYLIGHT
BEGIN:STANDARD
TZOFFSETFROM:+0200
TZOFFSETTO:+0100
TZNAME:CET
DTSTART:20261025T010000
END:STANDARD
BEGIN:DAYLIGHT
TZOFFSETFROM:+0100
TZOFFSETTO:+0200
TZNAME:CEST
DTSTART:20270328T010000
END:DAYLIGHT
BEGIN:STANDARD
TZOFFSETFROM:+0200
TZOFFSETTO:+0100
TZNAME:CET
DTSTART:20271031T010000
END:STANDARD
END:VTIMEZONE
BEGIN:VEVENT
DTSTART;TZID=Europe/Prague:20260425T190000
DTEND;TZID=Europe/Prague:20260425T220000
DTSTAMP:20260419T230934
CREATED:20260419T121719Z
LAST-MODIFIED:20260419T121720Z
UID:20834-1777143600-1777154400@dnesnivylet.cz
SUMMARY:Paul Childers & The Makers /NL/
DESCRIPTION:Paul Childers & The Makers /NL/ se uskuteční dne 2026-04-25 v 19:00 v Uherský Brod\, Dobré Místo Újezdec. \n🎟️ Koupit vstupenku \n\nPaul Childers & The Makers – holandská kapela s energickým a oduševnělým zvukem. Členové kapely Arthur\, Rudy a Chris sdílejí vášeň pro hudbu\, která začala v raném věku. Nabité trio se rozhodlo vydat se na další plné turné po EU s Paulem Childersem\, nyní pod přezdívkou Paul Childers & The Makers. Odehráli představení po celém Nizozemsku\, Belgii\, Německu a Rakousku a zaujali publikum v klubech i na festivalech. Jejich americké turné začalo v Kentucky a pokračovalo na jih do Beaumontu v Texasu. Zdobily ikonické jazzové kluby\, jako je Rudy’s v Nashvillu a Jaegers v New Orleans\, spolu s elektrizujícími venkovními vystoupeními v Bogaluse a Beaumontu… \n\nTento tip na kulturní akci v Uherský Brod najdete v přehledu na Dnesnivylet.cz spolu s dalšími koncerty\, festivaly a divadelními představeními.Každý si vybere co se mu líbí. Nezapomeňte koupit vstupenky včas\, stačí kliknout a budete přesměrování na oficiálního prodejce vstupenek.
URL:https://dnesnivylet.cz/event/paul-childers-the-makers-nl/
LOCATION:Dobré Místo Újezdec\, Uherský Brod\, Dobré Místo Újezdec\, Uherský Brod\, Česká republika
CATEGORIES:Koncert
ATTACH;FMTTYPE=image/jpeg:https://dnesnivylet.cz/wp-content/uploads/2026/04/320-a6e56ca34b7d4729a207275fcd62d127.jpg
END:VEVENT
BEGIN:VEVENT
DTSTART;TZID=Europe/Prague:20260518T190000
DTEND;TZID=Europe/Prague:20260518T220000
DTSTAMP:20260419T230934
CREATED:20251211T053024Z
LAST-MODIFIED:20251211T053059Z
UID:14592-1779130800-1779141600@dnesnivylet.cz
SUMMARY:Osmany Show
DESCRIPTION:Osmany Show se uskuteční dne 2026-05-18 v 19:00 v Uherský Brod\, Dům Kultury. \n🎟️ Koupit vstupenku \n\nOriginální zábavný pořad populárního módního návrháře kubánského původu Osmanyho Laffity se zbrusu novými historkami a příběhy. \nDevadesát minut nekorektního humoru a zábavy\, která Vás bezesporu pobaví. Osmany Vám dá nahlédnout do svého soukromí a ukáže\, že je také člověk z masa a kostí. I mnohdy smutnou historku dovede podat neodolatelným způsobem\, který pobaví. \nShow\, která polechtá Vaši bránici! \nModeruje: Eva DECASTELO \nÚčinkuje: Osmany LAFFITA \nDélka představení 90 až 120 minut (obvykle + přestávka) \nPředstavení nedoporučujeme divákům mladším 15 let. \n\nTento tip na kulturní akci v Uherský Brod najdete v přehledu na Dnesnivylet.cz spolu s dalšími koncerty\, festivaly a divadelními představeními.Každý si vybere co se mu líbí. Nezapomeňte koupit vstupenky včas\, stačí kliknout a budete přesměrování na oficiálního prodejce vstupenek.
URL:https://dnesnivylet.cz/event/osmany-show-16/
LOCATION:Dům Kultury\, Uherský Brod\, Dům Kultury\, Uherský Brod\, Česká republika
CATEGORIES:Zábava
ATTACH;FMTTYPE=image/jpeg:https://dnesnivylet.cz/wp-content/uploads/2025/12/320-4b059eb1161d4c1bbf421b7ada5e401a.jpg
END:VEVENT
END:VCALENDAR