BEGIN:VCALENDAR
VERSION:2.0
PRODID:-//www.dnesnivylet.cz                                                                                                                        Tip na výlet pro celou rodinu. - ECPv6.15.13.1//NONSGML v1.0//EN
CALSCALE:GREGORIAN
METHOD:PUBLISH
X-ORIGINAL-URL:https://dnesnivylet.cz
X-WR-CALDESC:Akce na www.dnesnivylet.cz                                                                                                                        Tip na výlet pro celou rodinu.
REFRESH-INTERVAL;VALUE=DURATION:PT1H
X-Robots-Tag:noindex
X-PUBLISHED-TTL:PT1H
BEGIN:VTIMEZONE
TZID:Europe/Prague
BEGIN:DAYLIGHT
TZOFFSETFROM:+0100
TZOFFSETTO:+0200
TZNAME:CEST
DTSTART:20250330T010000
END:DAYLIGHT
BEGIN:STANDARD
TZOFFSETFROM:+0200
TZOFFSETTO:+0100
TZNAME:CET
DTSTART:20251026T010000
END:STANDARD
BEGIN:DAYLIGHT
TZOFFSETFROM:+0100
TZOFFSETTO:+0200
TZNAME:CEST
DTSTART:20260329T010000
END:DAYLIGHT
BEGIN:STANDARD
TZOFFSETFROM:+0200
TZOFFSETTO:+0100
TZNAME:CET
DTSTART:20261025T010000
END:STANDARD
BEGIN:DAYLIGHT
TZOFFSETFROM:+0100
TZOFFSETTO:+0200
TZNAME:CEST
DTSTART:20270328T010000
END:DAYLIGHT
BEGIN:STANDARD
TZOFFSETFROM:+0200
TZOFFSETTO:+0100
TZNAME:CET
DTSTART:20271031T010000
END:STANDARD
END:VTIMEZONE
BEGIN:VEVENT
DTSTART;TZID=Europe/Prague:20260505T190000
DTEND;TZID=Europe/Prague:20260505T220000
DTSTAMP:20260419T161912
CREATED:20251027T092040Z
LAST-MODIFIED:20251027T092041Z
UID:10304-1778007600-1778018400@dnesnivylet.cz
SUMMARY:Muzikály Josefa Vojtka v Ústí nad Labem
DESCRIPTION:Muzikály Josefa Vojtka v Ústí nad Labem se uskuteční dne 2026-05-05 v 19:00 v Ústí nad Labem\, Dům kultury. \n🎟️ Koupit vstupenku \n\n  \n„MUZIKÁLY JOSEFA VOJTKA – Tak trochu rockově“ \nNenechte si ujít jedinečnou možnost zažít vystoupení jednoho z nejvýraznějších hlasů české rockové a muzikálové scény. Za doprovodu známé kapely Charlie Band zazní  písně z muzikálů ve kterých Josef Vojtek účinkoval. Tři Mušketýři\, Angelika\, Kleopatra\, Hamlet\, Dracula\, a mnoho dalších. Připravte se na velkolepý zážitek\, kde se srdce rockera potká s vášní pro muzikály.  \n\nTento tip na kulturní akci v Ústí nad Labem najdete v přehledu na Dnesnivylet.cz spolu s dalšími koncerty\, festivaly a divadelními představeními.Každý si vybere co se mu líbí. Nezapomeňte koupit vstupenky včas\, stačí kliknout a budete přesměrování na oficiálního prodejce vstupenek.
URL:https://dnesnivylet.cz/event/muzikaly-josefa-vojtka-v-usti-nad-labem/
LOCATION:Dům kultury\, Ústí nad Labem\, Dům kultury\, Ústí nad Labem\, Česká republika
CATEGORIES:Koncert
ATTACH;FMTTYPE=image/jpeg:https://dnesnivylet.cz/wp-content/uploads/2025/10/320-11a80badaefa47a98043ec2217f4fe96.jpg
END:VEVENT
BEGIN:VEVENT
DTSTART;TZID=Europe/Prague:20260519T190000
DTEND;TZID=Europe/Prague:20260519T220000
DTSTAMP:20260419T161912
CREATED:20260206T110422Z
LAST-MODIFIED:20260206T110422Z
UID:17409-1779217200-1779228000@dnesnivylet.cz
SUMMARY:TIKI TAKA na cestách - Ústí nad Labem
DESCRIPTION:TIKI TAKA na cestách – Ústí nad Labem se uskuteční dne 2026-05-19 v 19:00 v Ústí nad Labem\, Dům kultury. \n🎟️ Koupit vstupenku \n\nZábavná talkshow pro fanynky a fanoušky nejen fotbalu. Protagonisté populární televizní talkshow Tiki-Taka\, která má za sebou na stanici Oneplay Sport už 300 odvysílaných epizod\, vyrážejí s živou verzí pořadu do všech koutů Česka. Petr Svěcený\, Petr Švancara\, Luděk Zelenka a jejich hosté jsou připraveni servírovat fotbal prostě jinak. A hlavně vás pobavit. \n\nTento tip na kulturní akci v Ústí nad Labem najdete v přehledu na Dnesnivylet.cz spolu s dalšími koncerty\, festivaly a divadelními představeními.Každý si vybere co se mu líbí. Nezapomeňte koupit vstupenky včas\, stačí kliknout a budete přesměrování na oficiálního prodejce vstupenek.
URL:https://dnesnivylet.cz/event/tiki-taka-na-cestach-usti-nad-labem/
LOCATION:Dům kultury\, Ústí nad Labem\, Dům kultury\, Ústí nad Labem\, Česká republika
CATEGORIES:Zábava
ATTACH;FMTTYPE=image/jpeg:https://dnesnivylet.cz/wp-content/uploads/2026/02/320-c8f17a9b86734251a62fdd42a46f0eaa.jpg
END:VEVENT
BEGIN:VEVENT
DTSTART;TZID=Europe/Prague:20260521T190000
DTEND;TZID=Europe/Prague:20260521T220000
DTSTAMP:20260419T161912
CREATED:20251103T192147Z
LAST-MODIFIED:20251103T192148Z
UID:11808-1779390000-1779400800@dnesnivylet.cz
SUMMARY:ABBA a Beatles klasicky v Ústí nad Labem
DESCRIPTION:ABBA a Beatles klasicky v Ústí nad Labem se uskuteční dne 2026-05-21 v 19:00 v Ústí nad Labem\, Kostel apoštola Pavla. \n🎟️ Koupit vstupenku \n\nPojďte si užít zbrusu nový koncert plný aranží písníček skupin ABBA a Beatles v unikátních aranžích Klárova smyčcového kvarteta do Červeného kostela v Ústí. \n  \n. \nKLÁROVO KVARTETO \nPavel Hrda – I. housle\, Josef Vychytil – II. housle\, Libor Kaňka – viola\, Václav Fleissig – violoncello \n  \nPROGRAM: \nBEATLES:                                            ABBA:                        \nAll you need is Love                           Dancing Queen \nObladi – oblada                                   S.O.S. \nYesterday                                             Waterloo \nI want to hold your hand                    Super Trouper  \nHey\, Jude                                             Fernando \nFrom me to you                                   Mamma mia \nShe loves you                                      Money\, money\, money \nOh\, darling \nSomething \nDizzy miss Lizzy \nLady Madonna \nA hard day´s Night \ndélka programu cca 65 minut\, změna programu vyhrazena \n\nTento tip na kulturní akci v Ústí nad Labem najdete v přehledu na Dnesnivylet.cz spolu s dalšími koncerty\, festivaly a divadelními představeními.Každý si vybere co se mu líbí. Nezapomeňte koupit vstupenky včas\, stačí kliknout a budete přesměrování na oficiálního prodejce vstupenek.
URL:https://dnesnivylet.cz/event/abba-a-beatles-klasicky-v-usti-nad-labem/
LOCATION:Kostel apoštola Pavla\, Ústí nad Labem\, Kostel apoštola Pavla\, Ústí nad Labem\, Česká republika
CATEGORIES:Koncert
ATTACH;FMTTYPE=image/jpeg:https://dnesnivylet.cz/wp-content/uploads/2025/11/320-69cd756d45ab42518381a0890d3569e1.jpg
END:VEVENT
BEGIN:VEVENT
DTSTART;TZID=Europe/Prague:20260523T170000
DTEND;TZID=Europe/Prague:20260523T200000
DTSTAMP:20260419T161912
CREATED:20260321T200051Z
LAST-MODIFIED:20260321T200051Z
UID:19808-1779555600-1779566400@dnesnivylet.cz
SUMMARY:Neuroll! Party vol. 1
DESCRIPTION:Neuroll! Party vol. 1 se uskuteční dne 2026-05-23 v 17:00 v Ústí nad Labem\, DOMA – music pub. \n🎟️ Koupit vstupenku \n\nÚstecký punkrockový Neuroll! oslaví první aktivní rok na scéně a k tomu se rozhodl uspořádat párty\, kam si pozval kámoše a kapely\, které jsou mu blízké… Kromě oslavenců se tak můžete těšit na tyhle punkové party: \nŠvindl (Litoměřice) \nLouty (Roudnice nad Labem) \nŠtamgasti (Brno) \nBlank Out (Kolín) \nBez Šance (Police nad Metují) \nBragl (Ústí nad Labem) \nEmbrio (Litoměřice) \n\nTento tip na kulturní akci v Ústí nad Labem najdete v přehledu na Dnesnivylet.cz spolu s dalšími koncerty\, festivaly a divadelními představeními.Každý si vybere co se mu líbí. Nezapomeňte koupit vstupenky včas\, stačí kliknout a budete přesměrování na oficiálního prodejce vstupenek.
URL:https://dnesnivylet.cz/event/neuroll-party-vol-1/
LOCATION:DOMA – music pub\, Ústí nad Labem\, DOMA - music pub\, Ústí nad Labem\, Česká republika
CATEGORIES:Koncert
ATTACH;FMTTYPE=image/jpeg:https://dnesnivylet.cz/wp-content/uploads/2026/03/320-43d914fd201f437197cc253b35c1a112.jpg
END:VEVENT
END:VCALENDAR