BEGIN:VCALENDAR
VERSION:2.0
PRODID:-//www.dnesnivylet.cz                                                                                                                        Tip na výlet pro celou rodinu. - ECPv6.15.13.1//NONSGML v1.0//EN
CALSCALE:GREGORIAN
METHOD:PUBLISH
X-WR-CALNAME:www.dnesnivylet.cz                                                                                                                        Tip na výlet pro celou rodinu.
X-ORIGINAL-URL:https://dnesnivylet.cz
X-WR-CALDESC:Akce na www.dnesnivylet.cz                                                                                                                        Tip na výlet pro celou rodinu.
REFRESH-INTERVAL;VALUE=DURATION:PT1H
X-Robots-Tag:noindex
X-PUBLISHED-TTL:PT1H
BEGIN:VTIMEZONE
TZID:Europe/Prague
BEGIN:DAYLIGHT
TZOFFSETFROM:+0100
TZOFFSETTO:+0200
TZNAME:CEST
DTSTART:20250330T010000
END:DAYLIGHT
BEGIN:STANDARD
TZOFFSETFROM:+0200
TZOFFSETTO:+0100
TZNAME:CET
DTSTART:20251026T010000
END:STANDARD
BEGIN:DAYLIGHT
TZOFFSETFROM:+0100
TZOFFSETTO:+0200
TZNAME:CEST
DTSTART:20260329T010000
END:DAYLIGHT
BEGIN:STANDARD
TZOFFSETFROM:+0200
TZOFFSETTO:+0100
TZNAME:CET
DTSTART:20261025T010000
END:STANDARD
BEGIN:DAYLIGHT
TZOFFSETFROM:+0100
TZOFFSETTO:+0200
TZNAME:CEST
DTSTART:20270328T010000
END:DAYLIGHT
BEGIN:STANDARD
TZOFFSETFROM:+0200
TZOFFSETTO:+0100
TZNAME:CET
DTSTART:20271031T010000
END:STANDARD
BEGIN:DAYLIGHT
TZOFFSETFROM:+0100
TZOFFSETTO:+0200
TZNAME:CEST
DTSTART:20280326T010000
END:DAYLIGHT
BEGIN:STANDARD
TZOFFSETFROM:+0200
TZOFFSETTO:+0100
TZNAME:CET
DTSTART:20281029T010000
END:STANDARD
END:VTIMEZONE
BEGIN:VEVENT
DTSTART;TZID=Europe/Prague:20260605T160000
DTEND;TZID=Europe/Prague:20260605T190000
DTSTAMP:20260419T234356
CREATED:20260404T174834Z
LAST-MODIFIED:20260404T174836Z
UID:19999-1780675200-1780686000@dnesnivylet.cz
SUMMARY:Útulek Fest 2026
DESCRIPTION:Útulek Fest 2026 se uskuteční dne 2026-06-05 v 16:00 v Ústí nad Labem\, Cyklokemp Loděnice. \n🎟️ Koupit vstupenku \n\n25. ročník benefičního multižánrového open air na podporu útulků na Ústecku  \nZ výtěžku nakupujeme krmení pro čtyřnohý (Ústí nad Labem\, Litoměřice\, Teplice) \n  \n2 dny plný muziky na břehu řeky Labe v Cyklokempu Loděnice \n\n3 scény / 20 vystupujících / cca 26 hodin hudby\nstanování v areálu / parkování u hlavní silnice \ntermální koupaliště a hrad Střekov nedaleko \nvstupné na místě (PÁ + SO): 600 Kč\nděti do 15 let: vstup dobrovolný \n\n\nTento tip na kulturní akci v Ústí nad Labem najdete v přehledu na Dnesnivylet.cz spolu s dalšími koncerty\, festivaly a divadelními představeními.Každý si vybere co se mu líbí. Nezapomeňte koupit vstupenky včas\, stačí kliknout a budete přesměrování na oficiálního prodejce vstupenek.
URL:https://dnesnivylet.cz/event/utulek-fest-2026/
LOCATION:Cyklokemp Loděnice\, Ústí nad Labem\, Cyklokemp Loděnice\, Ústí nad Labem\, Česká republika
CATEGORIES:Festival
ATTACH;FMTTYPE=image/jpeg:https://dnesnivylet.cz/wp-content/uploads/2026/04/320-4929357493644edebc80ad5e6dd3aea8.jpg
END:VEVENT
BEGIN:VEVENT
DTSTART;TZID=Europe/Prague:20261208T190000
DTEND;TZID=Europe/Prague:20261208T220000
DTSTAMP:20260419T234356
CREATED:20260211T131418Z
LAST-MODIFIED:20260211T131419Z
UID:18155-1796756400-1796767200@dnesnivylet.cz
SUMMARY:ŠVANCI SHOW - JÁ SU JÁ - Ústí nad Labem
DESCRIPTION:ŠVANCI SHOW – JÁ SU JÁ – Ústí nad Labem se uskuteční dne 2026-12-08 v 19:00 v Ústí nad Labem\, Divadelní sál Domu kultury. \n🎟️ Koupit vstupenku \n\nNová zábavná show „JÁ SU JÁ“ vyráží na TOUR po celé České republice. \nČekají vás vtipné historky\, od kariéry fotbalisty\, velkolepé rozlučky za Lužánkami\, návštěv různých zábavních pořadů\, až po účast v reality show Survivor. Dále se těšte na prostor pro otázky na tělo\, autogramiádu\, focení a mnoho dalšího. \nJak moc dobře mě znáš? Jak vypadá můj život po kariéře fotbalisty? Chceš znát více informací o reality show Surviror? \nNejen to se dozvíš ve zbrusu nové zábavné show „JÁ SU JÁ“. \nPřijď se podívat a užít si legraci\, popovídat si s legendou fotbalu\, moderátorem\, bavičem a dát si třeba fotku\, nebo si nechat cokoliv podepsat. \nPořad není vhodný mladším 15 let! \n\nTento tip na kulturní akci v Ústí nad Labem najdete v přehledu na Dnesnivylet.cz spolu s dalšími koncerty\, festivaly a divadelními představeními.Každý si vybere co se mu líbí. Nezapomeňte koupit vstupenky včas\, stačí kliknout a budete přesměrování na oficiálního prodejce vstupenek.
URL:https://dnesnivylet.cz/event/svanci-show-ja-su-ja-usti-nad-labem/
LOCATION:Divadelní sál Domu kultury\, Ústí nad Labem\, Divadelní sál Domu kultury\, Ústí nad Labem\, Česká republika
CATEGORIES:Zábava
ATTACH;FMTTYPE=image/jpeg:https://dnesnivylet.cz/wp-content/uploads/2026/02/320-b4c955897702428581229b147ae7536f.jpg
END:VEVENT
BEGIN:VEVENT
DTSTART;TZID=Europe/Prague:20270122T190000
DTEND;TZID=Europe/Prague:20270122T220000
DTSTAMP:20260419T234356
CREATED:20260419T121720Z
LAST-MODIFIED:20260419T121720Z
UID:20837-1800644400-1800655200@dnesnivylet.cz
SUMMARY:Svět sám pro sebe '27
DESCRIPTION:Svět sám pro sebe ’27 se uskuteční dne 2027-01-22 v 19:00 v Ústí nad Labem\, Národní dům. \n🎟️ Koupit vstupenku \n\n4. ročník festivalu Svět sám pro sebe v Ústí pod Labem: \nPokračujeme opět v Národním domě a jako chill-out zónu využijeme klub Kladívko. Pátek hlavní akce\, sobota afterpárty v klubu Kladívko: \nHOUBAZNOUZECTNOSTPUNK FLOID \n…a další 4 kapely v pátek a sobotu – zveřejníme po vyprodání 1. vlny! \nKapacita Národního domu je omezená\, proto budeme rádi\, když ji opět vyprodáme předem a případně přidáme další akci. V prodeji jsou lístky ve třech vlnách\, 380\, 410 a 499 Kč. \nSoučástí akce bude i afterpárty\, informace a kapely upřesníme. \nPředprodej začíná 26. 1. 2026 v 10:00 a končí 22. 1. 2027 v 10:00. \n\nTento tip na kulturní akci v Ústí nad Labem najdete v přehledu na Dnesnivylet.cz spolu s dalšími koncerty\, festivaly a divadelními představeními.Každý si vybere co se mu líbí. Nezapomeňte koupit vstupenky včas\, stačí kliknout a budete přesměrování na oficiálního prodejce vstupenek.
URL:https://dnesnivylet.cz/event/svet-sam-pro-sebe-27/
LOCATION:Národní dům\, Ústí nad Labem\, Národní dům\, Ústí nad Labem\, Česká republika
CATEGORIES:Koncert
ATTACH;FMTTYPE=image/jpeg:https://dnesnivylet.cz/wp-content/uploads/2026/04/320-f179e4d4ff6d46049c35bf859e4d5e3a.jpg
END:VEVENT
END:VCALENDAR