BEGIN:VCALENDAR
VERSION:2.0
PRODID:-//www.dnesnivylet.cz                                                                                                                        Tip na výlet pro celou rodinu. - ECPv6.15.13.1//NONSGML v1.0//EN
CALSCALE:GREGORIAN
METHOD:PUBLISH
X-WR-CALNAME:www.dnesnivylet.cz                                                                                                                        Tip na výlet pro celou rodinu.
X-ORIGINAL-URL:https://dnesnivylet.cz
X-WR-CALDESC:Akce na www.dnesnivylet.cz                                                                                                                        Tip na výlet pro celou rodinu.
REFRESH-INTERVAL;VALUE=DURATION:PT1H
X-Robots-Tag:noindex
X-PUBLISHED-TTL:PT1H
BEGIN:VTIMEZONE
TZID:Europe/Prague
BEGIN:DAYLIGHT
TZOFFSETFROM:+0100
TZOFFSETTO:+0200
TZNAME:CEST
DTSTART:20240331T010000
END:DAYLIGHT
BEGIN:STANDARD
TZOFFSETFROM:+0200
TZOFFSETTO:+0100
TZNAME:CET
DTSTART:20241027T010000
END:STANDARD
BEGIN:DAYLIGHT
TZOFFSETFROM:+0100
TZOFFSETTO:+0200
TZNAME:CEST
DTSTART:20250330T010000
END:DAYLIGHT
BEGIN:STANDARD
TZOFFSETFROM:+0200
TZOFFSETTO:+0100
TZNAME:CET
DTSTART:20251026T010000
END:STANDARD
BEGIN:DAYLIGHT
TZOFFSETFROM:+0100
TZOFFSETTO:+0200
TZNAME:CEST
DTSTART:20260329T010000
END:DAYLIGHT
BEGIN:STANDARD
TZOFFSETFROM:+0200
TZOFFSETTO:+0100
TZNAME:CET
DTSTART:20261025T010000
END:STANDARD
END:VTIMEZONE
BEGIN:VEVENT
DTSTART;TZID=Europe/Prague:20251114T190000
DTEND;TZID=Europe/Prague:20251114T220000
DTSTAMP:20260420T004732
CREATED:20251020T094603Z
LAST-MODIFIED:20251020T094603Z
UID:9109-1763146800-1763157600@dnesnivylet.cz
SUMMARY:Josef Dvořák a Marie Formáčková "Šmátrání v paměti"
DESCRIPTION:Josef Dvořák a Marie Formáčková „Šmátrání v paměti“ se uskuteční dne 2025-11-14 v 19:00 v Velký Osek\, Dělnický dům. \n🎟️ Koupit vstupenku \n\nJosef Dvořák: Šmátrání v paměti \nVečer plný humoru a dobré zábavy \nZábavné povídání Josefa Dvořáka\, nejznámějšího českého vodníka\, skvělého divadelního a filmového herce. \nKdyž se řekne Josef Dvořák\, někdo si vzpomene na některého z jeho mnoha vodníků\, jiný na Dětský televizní kabaret či Maxipsa Fíka\, další na Svatopluka Kuřátka nebo jinou postavu z řady seriálů\, v nichž hrál. \nJosef Dvořák je legenda\, herec a také dlouholetý principál vlastního divadla\, s nímž mnohokrát projel republiku křížem krážem. \nPatří k těm\, s nímž se nikdo nikdy nenudil a platí to dodnes. \nHrají: Josef Dvořák\, Marie Formáčková \nŽánr: zábavný pořad \nDélka: 90 min. \n\nTento tip na kulturní akci v Velký Osek najdete v přehledu na Dnesnivylet.cz spolu s dalšími koncerty\, festivaly a divadelními představeními.Každý si vybere co se mu líbí. Nezapomeňte koupit vstupenky včas\, stačí kliknout a budete přesměrování na oficiálního prodejce vstupenek.
URL:https://dnesnivylet.cz/event/josef-dvorak-a-marie-formackova-smatrani-v-pameti/
LOCATION:Dělnický dům\, Velký Osek\, Dělnický dům\, Velký Osek\, Česká republika
CATEGORIES:Zábava
ATTACH;FMTTYPE=image/jpeg:https://dnesnivylet.cz/wp-content/uploads/2025/10/320-befd4317f3854a99be6bb24410e8f400.jpg
END:VEVENT
END:VCALENDAR