BEGIN:VCALENDAR
VERSION:2.0
PRODID:-//www.dnesnivylet.cz                                                                                                                        Tip na výlet pro celou rodinu. - ECPv6.15.13.1//NONSGML v1.0//EN
CALSCALE:GREGORIAN
METHOD:PUBLISH
X-WR-CALNAME:www.dnesnivylet.cz                                                                                                                        Tip na výlet pro celou rodinu.
X-ORIGINAL-URL:https://dnesnivylet.cz
X-WR-CALDESC:Akce na www.dnesnivylet.cz                                                                                                                        Tip na výlet pro celou rodinu.
REFRESH-INTERVAL;VALUE=DURATION:PT1H
X-Robots-Tag:noindex
X-PUBLISHED-TTL:PT1H
BEGIN:VTIMEZONE
TZID:Europe/Prague
BEGIN:DAYLIGHT
TZOFFSETFROM:+0100
TZOFFSETTO:+0200
TZNAME:CEST
DTSTART:20240331T010000
END:DAYLIGHT
BEGIN:STANDARD
TZOFFSETFROM:+0200
TZOFFSETTO:+0100
TZNAME:CET
DTSTART:20241027T010000
END:STANDARD
BEGIN:DAYLIGHT
TZOFFSETFROM:+0100
TZOFFSETTO:+0200
TZNAME:CEST
DTSTART:20250330T010000
END:DAYLIGHT
BEGIN:STANDARD
TZOFFSETFROM:+0200
TZOFFSETTO:+0100
TZNAME:CET
DTSTART:20251026T010000
END:STANDARD
BEGIN:DAYLIGHT
TZOFFSETFROM:+0100
TZOFFSETTO:+0200
TZNAME:CEST
DTSTART:20260329T010000
END:DAYLIGHT
BEGIN:STANDARD
TZOFFSETFROM:+0200
TZOFFSETTO:+0100
TZNAME:CET
DTSTART:20261025T010000
END:STANDARD
BEGIN:DAYLIGHT
TZOFFSETFROM:+0100
TZOFFSETTO:+0200
TZNAME:CEST
DTSTART:20270328T010000
END:DAYLIGHT
BEGIN:STANDARD
TZOFFSETFROM:+0200
TZOFFSETTO:+0100
TZNAME:CET
DTSTART:20271031T010000
END:STANDARD
END:VTIMEZONE
BEGIN:VEVENT
DTSTART;TZID=Europe/Prague:20260131T190000
DTEND;TZID=Europe/Prague:20260131T220000
DTSTAMP:20260420T023235
CREATED:20251129T075122Z
LAST-MODIFIED:20251129T075123Z
UID:14250-1769886000-1769896800@dnesnivylet.cz
SUMMARY:Pocta Zuzaně Navarové
DESCRIPTION:Pocta Zuzaně Navarové se uskuteční dne 2026-01-31 v 19:00 v Volanice\, Hospoda U Špejcharu. \n🎟️ Koupit vstupenku \n\nO akci \nKapela Pocta Zuzaně Navarové je jednou z nejautentičtějších revival kapel této hudby. Osobitost členů kapely jen podtrhává jedinečný zážitek\, který si odnesete z každého koncertu. Nádherné písničky kapel Nerez a Koa\, emoce\, živost\, tanec\, slzy\, smích a radost\, to všechno je kapela Pocta Zuzaně Navarové. Hrají s velkou energií a vášní a jejich koncerty jsou vzpomínkové\, ale i taneční a radostné. S pokorou vzpomínají na Zuzanu Navarovou a jejím písním dávají druhý dech. Skupina o projektu říká: „Zuzky tvorba je nesmrtelná a pro nás i publikum jsou to vždy velmi emotivní koncerty. Každý koncert hrajeme s velkou pokorou. Kapela působí na scéně již skoro deset let\, a má za sebou malé ale i velké koncerty\, festivaly a plno krásných spoluprací\, například společný koncert s Máriem Bihárim v roce 2024.Kapelu tvoří Barbora Červinková – zpěv\, perkuse\, Tomáš Pecka – zpěv\, kytara\, cello\, mandolína\, piano\, Antonín Jína – zpěv\, bicí\, perkuse\, Stanislav Šedivý – kytara\, perkuse\,Jan Neruda – baskytara\, zpěv\, Nicholas Roy Arthofer – trubka\, zpěv\, perkuse. \n\nTento tip na kulturní akci v Volanice najdete v přehledu na Dnesnivylet.cz spolu s dalšími koncerty\, festivaly a divadelními představeními.Každý si vybere co se mu líbí. Nezapomeňte koupit vstupenky včas\, stačí kliknout a budete přesměrování na oficiálního prodejce vstupenek.
URL:https://dnesnivylet.cz/event/pocta-zuzane-navarove-4/
LOCATION:Hospoda U Špejcharu\, Volanice\, Hospoda U Špejcharu\, Volanice\, Česká republika
CATEGORIES:Koncert
ATTACH;FMTTYPE=image/jpeg:https://dnesnivylet.cz/wp-content/uploads/2025/11/320-55f1181e458242838bb55b8d2d47f45c.jpg
END:VEVENT
BEGIN:VEVENT
DTSTART;TZID=Europe/Prague:20251129T200000
DTEND;TZID=Europe/Prague:20251129T230000
DTSTAMP:20260420T023235
CREATED:20251023T143426Z
LAST-MODIFIED:20251023T143426Z
UID:9855-1764446400-1764457200@dnesnivylet.cz
SUMMARY:Nerez & Lucia
DESCRIPTION:Nerez & Lucia se uskuteční dne 2025-11-29 v 20:00 v Volanice\, Hospoda U Špejcharu. \n🎟️ Koupit vstupenku \n\nZakládající členové legendárních Nerez Vít Sázavský a Zdeněk Vřešťál se v roce 2019 spojili se zpěvačkou Luciou Šoralovou a natočili desku\, která obsahuje 12 převážně autorských písní od Zdeňka Vřešťála a Lucie Šoralové\, a se zajímavými hostujícími autory (Ondřej Soukup nebo Silvia Kaščáková). V lednu 2021 nahrála skupina již druhé album\, které se jmenuje CELA a vyjde na CD i jako vinyl 25. května 2021. Album obsahuje 13 písní\, jejichž autory jsou především Lucia Šoralová a Zdeněk Vřešťál. Textově je doplňuje slovenská básnířka a textařka Silvia Kaščáková. Nahrávka je žánrově velice pestrá\, od folkové balady po kvalitní pop. Aranžmá jednotlivých songů jsou dílem Víta Sázavského (vokální party) a Roberta Fischmanna. Instrumentální výkony jednotlivých hudebníků potvrzují vývoj skupiny NEREZ & LUCIA. V písních uslyšíte názvuky mnoha evropských kultur i hudebních stylů. Kromě hlavního tria Šoralová – Sázavský – Vřešťál se na albu jako sóloví zpěváci představují i Robert Fischmann a Grégorian Brun. Čeština\, slovenština\, francouzština i španělština jsou jazyky\, ve kterých zpívá nový Nerez. Jedinečné čtyřhlasé sbory\, virtuozně interpretované instrumentální pasáže Davida Lomiče na akordeon a saxofony\, Roberta Fischmanna na flétny\, klavír a bicí nebo Grega Bruna na kontrabas a kytaru. Album se velikým obloukem vrací do dob vzniku LP Masopust původních Nerez. Dva autoři a jeden hlavní aranžér – to jsou stavební kameny\, na nichž stojí nový projekt skupiny NEREZ & LUCIA. \n\nTento tip na kulturní akci v Volanice najdete v přehledu na Dnesnivylet.cz spolu s dalšími koncerty\, festivaly a divadelními představeními.Každý si vybere co se mu líbí. Nezapomeňte koupit vstupenky včas\, stačí kliknout a budete přesměrování na oficiálního prodejce vstupenek.
URL:https://dnesnivylet.cz/event/nerez-lucia/
LOCATION:Hospoda U Špejcharu\, Volanice\, Hospoda U Špejcharu\, Volanice\, Česká republika
CATEGORIES:Koncert
ATTACH;FMTTYPE=image/jpeg:https://dnesnivylet.cz/wp-content/uploads/2025/10/320-dfdc39a8ea2c41aa84f936af7c4f233f.jpg
END:VEVENT
BEGIN:VEVENT
DTSTART;TZID=Europe/Prague:20251024T200000
DTEND;TZID=Europe/Prague:20251024T230000
DTSTAMP:20260420T023235
CREATED:20251023T143426Z
LAST-MODIFIED:20251023T143426Z
UID:9859-1761336000-1761346800@dnesnivylet.cz
SUMMARY:Luboš Pospíšil & 5P
DESCRIPTION:Luboš Pospíšil & 5P se uskuteční dne 2025-10-24 v 20:00 v Volanice\, Hospoda U Špejcharu. \n🎟️ Koupit vstupenku \n\nLuboš Pospíšil koncertuje s kapelou 5P\, kterou dále tvoří kytarista Mirek Linhart (též Yo Yo band\, Dr.Max) a o generaci mladší muzikanti: klávesista a kapelník Ondřej Fencl (též Schodiště\, Hromosvod\, V. Merta\, J.Hrubý\, V. Koubek\, Marsyas…)\, bubeník Jakub Nývlt (Sto zvířat\, Oskar Petr band)\, baskytarista Jan Neruda (Věra Martinová band\, Pocta Zuzaně Navarové…) a perkusista Michal Hnátek (Divadlo Elf\, Jan Hrubý a přátelé). \n\nTento tip na kulturní akci v Volanice najdete v přehledu na Dnesnivylet.cz spolu s dalšími koncerty\, festivaly a divadelními představeními.Každý si vybere co se mu líbí. Nezapomeňte koupit vstupenky včas\, stačí kliknout a budete přesměrování na oficiálního prodejce vstupenek.
URL:https://dnesnivylet.cz/event/lubos-pospisil-5p/
LOCATION:Hospoda U Špejcharu\, Volanice\, Hospoda U Špejcharu\, Volanice\, Česká republika
CATEGORIES:Koncert
ATTACH;FMTTYPE=image/jpeg:https://dnesnivylet.cz/wp-content/uploads/2025/10/320-05b192317935448492a2dfff82d10c6a.jpg
END:VEVENT
END:VCALENDAR