BEGIN:VCALENDAR
VERSION:2.0
PRODID:-//www.dnesnivylet.cz                                                                                                                        Tip na výlet pro celou rodinu. - ECPv6.15.13.1//NONSGML v1.0//EN
CALSCALE:GREGORIAN
METHOD:PUBLISH
X-WR-CALNAME:www.dnesnivylet.cz                                                                                                                        Tip na výlet pro celou rodinu.
X-ORIGINAL-URL:https://dnesnivylet.cz
X-WR-CALDESC:Akce na www.dnesnivylet.cz                                                                                                                        Tip na výlet pro celou rodinu.
REFRESH-INTERVAL;VALUE=DURATION:PT1H
X-Robots-Tag:noindex
X-PUBLISHED-TTL:PT1H
BEGIN:VTIMEZONE
TZID:Europe/Prague
BEGIN:DAYLIGHT
TZOFFSETFROM:+0100
TZOFFSETTO:+0200
TZNAME:CEST
DTSTART:20240331T010000
END:DAYLIGHT
BEGIN:STANDARD
TZOFFSETFROM:+0200
TZOFFSETTO:+0100
TZNAME:CET
DTSTART:20241027T010000
END:STANDARD
BEGIN:DAYLIGHT
TZOFFSETFROM:+0100
TZOFFSETTO:+0200
TZNAME:CEST
DTSTART:20250330T010000
END:DAYLIGHT
BEGIN:STANDARD
TZOFFSETFROM:+0200
TZOFFSETTO:+0100
TZNAME:CET
DTSTART:20251026T010000
END:STANDARD
BEGIN:DAYLIGHT
TZOFFSETFROM:+0100
TZOFFSETTO:+0200
TZNAME:CEST
DTSTART:20260329T010000
END:DAYLIGHT
BEGIN:STANDARD
TZOFFSETFROM:+0200
TZOFFSETTO:+0100
TZNAME:CET
DTSTART:20261025T010000
END:STANDARD
BEGIN:DAYLIGHT
TZOFFSETFROM:+0100
TZOFFSETTO:+0200
TZNAME:CEST
DTSTART:20270328T010000
END:DAYLIGHT
BEGIN:STANDARD
TZOFFSETFROM:+0200
TZOFFSETTO:+0100
TZNAME:CET
DTSTART:20271031T010000
END:STANDARD
END:VTIMEZONE
BEGIN:VEVENT
DTSTART;TZID=Europe/Prague:20260225T180000
DTEND;TZID=Europe/Prague:20260225T210000
DTSTAMP:20260420T022004
CREATED:20260206T105953Z
LAST-MODIFIED:20260206T105953Z
UID:17362-1772042400-1772053200@dnesnivylet.cz
SUMMARY:Doktor Vševěd ve Vysokém Mýtě
DESCRIPTION:Doktor Vševěd ve Vysokém Mýtě se uskuteční dne 2026-02-25 v 18:00 v Vysoké Mýto\, M-Klub. \n🎟️ Koupit vstupenku \n\n\nJiří Martínek alias Doktor Vševěd poprvé ve Vysokém Mýtě!\n\nZnámý český historik\, geograf ale také lovec z televizní show Na lovu\, umožní divákům nahlédnout do zákulisí jednoho z nejpopulárnějších pořadů v České republice.  \n  \n\nKdo je Doktor Vševěd? \n\n​Přiložené video vám ho velmi dobře představí. \n\nTento tip na kulturní akci v Vysoké Mýto najdete v přehledu na Dnesnivylet.cz spolu s dalšími koncerty\, festivaly a divadelními představeními.Každý si vybere co se mu líbí. Nezapomeňte koupit vstupenky včas\, stačí kliknout a budete přesměrování na oficiálního prodejce vstupenek.
URL:https://dnesnivylet.cz/event/doktor-vseved-ve-vysokem-myte/
LOCATION:M-Klub\, Vysoké Mýto\, M-Klub\, Vysoké Mýto\, Česká republika
CATEGORIES:Zábava
ATTACH;FMTTYPE=image/jpeg:https://dnesnivylet.cz/wp-content/uploads/2026/02/320-b0d647220eba45b9893dfdd55d2e3ef2.jpg
END:VEVENT
BEGIN:VEVENT
DTSTART;TZID=Europe/Prague:20260204T190000
DTEND;TZID=Europe/Prague:20260204T220000
DTSTAMP:20260420T022004
CREATED:20251021T054529Z
LAST-MODIFIED:20251021T054529Z
UID:9431-1770231600-1770242400@dnesnivylet.cz
SUMMARY:ŠVANCI SHOW - JÁ SU JÁ - Vysoké Mýto
DESCRIPTION:ŠVANCI SHOW – JÁ SU JÁ – Vysoké Mýto se uskuteční dne 2026-02-04 v 19:00 v Vysoké Mýto\, Šemberovo divadlo. \n🎟️ Koupit vstupenku \n\nNová zábavná show „JÁ SU JÁ“ vyráží na TOUR po celé České republice. \nČekají vás vtipné historky\, od kariéry fotbalisty\, velkolepé rozlučky za Lužánkami\, návštěv různých zábavních pořadů\, až po účast v reality show Survivor. Dále se těšte na prostor pro otázky na tělo\, autogramiádu\, focení a mnoho dalšího. \nJak moc dobře mě znáš? Jak vypadá můj život po kariéře fotbalisty? Chceš znát více informací o reality show Surviror? \nNejen to se dozvíš ve zbrusu nové zábavné show „JÁ SU JÁ“. \nPřijď se podívat a užít si legraci\, popovídat si s legendou fotbalu\, moderátorem\, bavičem a dát si třeba fotku\, nebo si nechat cokoliv podepsat. \nPořad není vhodný mladším 15 let! \n\nTento tip na kulturní akci v Vysoké Mýto najdete v přehledu na Dnesnivylet.cz spolu s dalšími koncerty\, festivaly a divadelními představeními.Každý si vybere co se mu líbí. Nezapomeňte koupit vstupenky včas\, stačí kliknout a budete přesměrování na oficiálního prodejce vstupenek.
URL:https://dnesnivylet.cz/event/svanci-show-ja-su-ja-vysoke-myto/
LOCATION:Šemberovo divadlo\, Vysoké Mýto\, Šemberovo divadlo\, Vysoké Mýto\, Česká republika
CATEGORIES:Zábava
ATTACH;FMTTYPE=image/jpeg:https://dnesnivylet.cz/wp-content/uploads/2025/10/320-b8fa154d8f1a41f28708961691b4881a.jpg
END:VEVENT
BEGIN:VEVENT
DTSTART;TZID=Europe/Prague:20260123T210000
DTEND;TZID=Europe/Prague:20260124T000000
DTSTAMP:20260420T022004
CREATED:20260103T095655Z
LAST-MODIFIED:20260103T095655Z
UID:16153-1769202000-1769212800@dnesnivylet.cz
SUMMARY:Ludovico Einaudi Music | Vysoké Mýto
DESCRIPTION:Ludovico Einaudi Music | Vysoké Mýto se uskuteční dne 2026-01-23 v 21:00 v Vysoké Mýto\, Šemberovo divadlo. \n🎟️ Koupit vstupenku \n\nNenechte si ujít nezapomenutelný večer krásné hudby\, kde zazní melodie jednoho z nejlepších pianistů a skladatelů na světe\, Ludovica Einaudiho v podání předního českého klavíristy Jakuba Uhlíka. \nEinaudi je známý svými jednoduchými\, ale strašidelně krásnými minimalistickými díly pro klavír a ohromující filmovou hudbou. Za téměř třicet let své činnosti vydal řadu alb\, která se dostala na přední příčky poslechovosti\, vyprodává nejprestižnější koncertní sály po celém světě a jeho hudba zazněla v mnoha slavných filmech (Nedotknutelní\, Doktor Živago\, To je Anglie\, Nomadland a další). \nTento jedinečný koncert nabídne více než jen hudbu. Symfonie třpytivých svíček rozsvítí celý prostor a přidá na mystičnu a kouzlu večera. Každá svíčka přispěje k vytvoření kouzelného prostředí\, které dokonale doplní hudební zážitek. \nV rámci Evropské tour alternují také: Alexandr Starý a Lucie Kubátová.  \nAkce je přístupná od 12 let. Každý účastník musí předložit platnou vstupenku  zakoupenou výhradně v síti smsticket. \n\nTento tip na kulturní akci v Vysoké Mýto najdete v přehledu na Dnesnivylet.cz spolu s dalšími koncerty\, festivaly a divadelními představeními.Každý si vybere co se mu líbí. Nezapomeňte koupit vstupenky včas\, stačí kliknout a budete přesměrování na oficiálního prodejce vstupenek.
URL:https://dnesnivylet.cz/event/ludovico-einaudi-music-vysoke-myto-2/
LOCATION:Šemberovo divadlo\, Vysoké Mýto\, Šemberovo divadlo\, Vysoké Mýto\, Česká republika
CATEGORIES:Koncert
ATTACH;FMTTYPE=image/jpeg:https://dnesnivylet.cz/wp-content/uploads/2026/01/320-ee7ec4f1167544b7a21476650de0b4c9.jpg
END:VEVENT
BEGIN:VEVENT
DTSTART;TZID=Europe/Prague:20260123T190000
DTEND;TZID=Europe/Prague:20260123T220000
DTSTAMP:20260420T022004
CREATED:20251129T072522Z
LAST-MODIFIED:20251129T072522Z
UID:14174-1769194800-1769205600@dnesnivylet.cz
SUMMARY:Ludovico Einaudi Music | Vysoké Mýto
DESCRIPTION:Ludovico Einaudi Music | Vysoké Mýto se uskuteční dne 2026-01-23 v 19:00 v Vysoké Mýto\, Šemberovo divadlo. \n🎟️ Koupit vstupenku \n\nNenechte si ujít nezapomenutelný večer krásné hudby\, kde zazní melodie jednoho z nejlepších pianistů a skladatelů na světe\, Ludovica Einaudiho v podání předního českého klavíristy Františka Panáčka. \nEinaudi je známý svými jednoduchými\, ale strašidelně krásnými minimalistickými díly pro klavír a ohromující filmovou hudbou. Za téměř třicet let své činnosti vydal řadu alb\, která se dostala na přední příčky poslechovosti\, vyprodává nejprestižnější koncertní sály po celém světě a jeho hudba zazněla v mnoha slavných filmech (Nedotknutelní\, Doktor Živago\, To je Anglie\, Nomadland a další). \nTento jedinečný koncert nabídne více než jen hudbu. Symfonie třpytivých svíček rozsvítí celý prostor a přidá na mystičnu a kouzlu večera. Každá svíčka přispěje k vytvoření kouzelného prostředí\, které dokonale doplní hudební zážitek. \nV rámci Evropské tour alternují také: Alexandr Starý a Lucie Kubátová.  \nAkce je přístupná od 12 let. Každý účastník musí předložit platnou vstupenku  zakoupenou výhradně v síti smsticket. \n\nTento tip na kulturní akci v Vysoké Mýto najdete v přehledu na Dnesnivylet.cz spolu s dalšími koncerty\, festivaly a divadelními představeními.Každý si vybere co se mu líbí. Nezapomeňte koupit vstupenky včas\, stačí kliknout a budete přesměrování na oficiálního prodejce vstupenek.
URL:https://dnesnivylet.cz/event/ludovico-einaudi-music-vysoke-myto/
LOCATION:Šemberovo divadlo\, Vysoké Mýto\, Šemberovo divadlo\, Vysoké Mýto\, Česká republika
CATEGORIES:Koncert
ATTACH;FMTTYPE=image/jpeg:https://dnesnivylet.cz/wp-content/uploads/2025/11/320-9d79d7a29b7343dc990c154ac48d0628.jpg
END:VEVENT
BEGIN:VEVENT
DTSTART;TZID=Europe/Prague:20251102T153000
DTEND;TZID=Europe/Prague:20251102T183000
DTSTAMP:20260420T022004
CREATED:20251102T184555Z
LAST-MODIFIED:20251102T184555Z
UID:11190-1762097400-1762108200@dnesnivylet.cz
SUMMARY:Dušičkový koncert
DESCRIPTION:Dušičkový koncert se uskuteční dne 2025-11-02 v 15:30 v Vysoké Mýto\, Kostel sv. Vavřince. \n🎟️ Koupit vstupenku \n\nSkvělý slovenský bas bude hostem Dušičkového koncertu ve Vysokém Mýtě.  \nV roce 2024 získal diváckou cenu a stal se nejoblíbenějším sólistou Státní opery v Banské Bystrici.  \nIVAN ZVARÍK – Divácka cena 2024 – Huaja \nOpera Viva! #73: Basista Ivan Zvarík: „Na javisku zabúdam na všetko\, dôležité je umenie.“ | stateopera \nSpolečně s oblíbenou sopranistkou Noemou Erba a skvělým klavíristou Martinem Peschíkem zazní krásné skladby k uctění památky zesnulých.  \nProgram: \nG.F. Händel -Xerxes – Ombra mai fu  \nA. Dvořák: Biblické písně\, op. 99 \nCh. Gounod – Ave Maria \nC. Franck – Panis Angelicus  \nV. Vavilov – G. Caccini – Ave Maria \nA. L. Webber – Cats – Memory \n G. Fauré –  Requiem –  Pie Jesu \nA. L. Webber:  Requiem –  Pie Jesu \nF. Sartori – Time To Say Goodbye \n  \n  \n  \n  \n\nTento tip na kulturní akci v Vysoké Mýto najdete v přehledu na Dnesnivylet.cz spolu s dalšími koncerty\, festivaly a divadelními představeními.Každý si vybere co se mu líbí. Nezapomeňte koupit vstupenky včas\, stačí kliknout a budete přesměrování na oficiálního prodejce vstupenek.
URL:https://dnesnivylet.cz/event/dusickovy-koncert/
LOCATION:Kostel sv. Vavřince\, Vysoké Mýto\, Kostel sv. Vavřince\, Vysoké Mýto\, Česká republika
CATEGORIES:Koncert
ATTACH;FMTTYPE=image/jpeg:https://dnesnivylet.cz/wp-content/uploads/2025/11/320-49797b39210944a89acf115b6eeeb457.jpg
END:VEVENT
END:VCALENDAR