BEGIN:VCALENDAR
VERSION:2.0
PRODID:-//www.dnesnivylet.cz                                                                                                                        Tip na výlet pro celou rodinu. - ECPv6.15.13.1//NONSGML v1.0//EN
CALSCALE:GREGORIAN
METHOD:PUBLISH
X-ORIGINAL-URL:https://dnesnivylet.cz
X-WR-CALDESC:Akce na www.dnesnivylet.cz                                                                                                                        Tip na výlet pro celou rodinu.
REFRESH-INTERVAL;VALUE=DURATION:PT1H
X-Robots-Tag:noindex
X-PUBLISHED-TTL:PT1H
BEGIN:VTIMEZONE
TZID:Europe/Prague
BEGIN:DAYLIGHT
TZOFFSETFROM:+0100
TZOFFSETTO:+0200
TZNAME:CEST
DTSTART:20250330T010000
END:DAYLIGHT
BEGIN:STANDARD
TZOFFSETFROM:+0200
TZOFFSETTO:+0100
TZNAME:CET
DTSTART:20251026T010000
END:STANDARD
BEGIN:DAYLIGHT
TZOFFSETFROM:+0100
TZOFFSETTO:+0200
TZNAME:CEST
DTSTART:20260329T010000
END:DAYLIGHT
BEGIN:STANDARD
TZOFFSETFROM:+0200
TZOFFSETTO:+0100
TZNAME:CET
DTSTART:20261025T010000
END:STANDARD
BEGIN:DAYLIGHT
TZOFFSETFROM:+0100
TZOFFSETTO:+0200
TZNAME:CEST
DTSTART:20270328T010000
END:DAYLIGHT
BEGIN:STANDARD
TZOFFSETFROM:+0200
TZOFFSETTO:+0100
TZNAME:CET
DTSTART:20271031T010000
END:STANDARD
END:VTIMEZONE
BEGIN:VEVENT
DTSTART;TZID=Europe/Prague:20260411T090000
DTEND;TZID=Europe/Prague:20260411T120000
DTSTAMP:20260419T133257
CREATED:20251024T185905Z
LAST-MODIFIED:20251024T185908Z
UID:9899-1775898000-1775908800@dnesnivylet.cz
SUMMARY:Oáza pro Královnu
DESCRIPTION:Oáza pro Královnu se uskuteční dne 2026-04-11 v 09:00 v Křtiny\, Zámek Křtiny. \n🎟️ Koupit vstupenku \n\nOÁZA PRO KRÁLOVNU rozvojový festival pro ženy \nTéma: Partnerské vztahy \nToužíte žít v harmonickém\, láskyplném partnerském vztahu? \nPojďte lépe pochopit\, jak ve vztazích fungují ženy a muži\, jaké mají základní potřeby a jak komunikovat\, abychom dosáhli porozumění a žili v naplněných vztazích. \nUžijte si skvělý festival v podporujícím kruhu žen\, který se uskuteční v nádherných prostorách Zámku Křtiny kousek od Brna. Naberete inspiraci\, získáte cenná uvědomění i odpovědi na vaše otázky\, zatančíte si\, uvolníte a rozzáříte se! \n\nTento tip na kulturní akci v Křtiny najdete v přehledu na Dnesnivylet.cz spolu s dalšími koncerty\, festivaly a divadelními představeními.Každý si vybere co se mu líbí. Nezapomeňte koupit vstupenky včas\, stačí kliknout a budete přesměrování na oficiálního prodejce vstupenek.
URL:https://dnesnivylet.cz/event/oaza-pro-kralovnu/
LOCATION:Zámek Křtiny\, Křtiny\, Zámek Křtiny\, Křtiny\, Česká republika
CATEGORIES:Festival
ATTACH;FMTTYPE=image/jpeg:https://dnesnivylet.cz/wp-content/uploads/2025/10/320-50e3bd7da4cc4012a6dfe11a97785a83.jpg
END:VEVENT
END:VCALENDAR