BEGIN:VCALENDAR
VERSION:2.0
PRODID:-//www.dnesnivylet.cz                                                                                                                        Tip na výlet pro celou rodinu. - ECPv6.15.13.1//NONSGML v1.0//EN
CALSCALE:GREGORIAN
METHOD:PUBLISH
X-ORIGINAL-URL:https://dnesnivylet.cz
X-WR-CALDESC:Akce na www.dnesnivylet.cz                                                                                                                        Tip na výlet pro celou rodinu.
REFRESH-INTERVAL;VALUE=DURATION:PT1H
X-Robots-Tag:noindex
X-PUBLISHED-TTL:PT1H
BEGIN:VTIMEZONE
TZID:Europe/Prague
BEGIN:DAYLIGHT
TZOFFSETFROM:+0100
TZOFFSETTO:+0200
TZNAME:CEST
DTSTART:20250330T010000
END:DAYLIGHT
BEGIN:STANDARD
TZOFFSETFROM:+0200
TZOFFSETTO:+0100
TZNAME:CET
DTSTART:20251026T010000
END:STANDARD
BEGIN:DAYLIGHT
TZOFFSETFROM:+0100
TZOFFSETTO:+0200
TZNAME:CEST
DTSTART:20260329T010000
END:DAYLIGHT
BEGIN:STANDARD
TZOFFSETFROM:+0200
TZOFFSETTO:+0100
TZNAME:CET
DTSTART:20261025T010000
END:STANDARD
BEGIN:DAYLIGHT
TZOFFSETFROM:+0100
TZOFFSETTO:+0200
TZNAME:CEST
DTSTART:20270328T010000
END:DAYLIGHT
BEGIN:STANDARD
TZOFFSETFROM:+0200
TZOFFSETTO:+0100
TZNAME:CET
DTSTART:20271031T010000
END:STANDARD
END:VTIMEZONE
BEGIN:VEVENT
DTSTART;TZID=Europe/Prague:20260422T170000
DTEND;TZID=Europe/Prague:20260422T200000
DTSTAMP:20260419T133340
CREATED:20251108T170124Z
LAST-MODIFIED:20251108T170124Z
UID:12911-1776877200-1776888000@dnesnivylet.cz
SUMMARY:Škola vaření s Romanem Paulusem - Maso a omáčky v kuchyni
DESCRIPTION:Škola vaření s Romanem Paulusem – Maso a omáčky v kuchyni se uskuteční dne 2026-04-22 v 17:00 v Olomouc\, Bistro Paulus. \n🎟️ Koupit vstupenku \n\nVítejte ve škole vaření s Romanem Paulusem! \nTentokrát se v kurzu vaření zaměříme na největší hity z našeho Bistra Paulus.  \nMůžete se těšit na kuřecí supreme se smržovou omáčkou\, vepřová pavučinka s pepřovou omáčkou\, hovězí medailonky s omáčkou Bearnaise\, chimichurri salsu a nakonec palačinky Suzette. \nRádi připravujete maso? Nebo prostě máte rádi dobré jídlo? Právě pro vás jme připravili kurz vaření\, kde vás naučíme jak připravit dobrou omáčku a jak správně zpracovat maso.  \nV kurzu se pod vedením michelinského šéfa Romana Pauluse a šéfkuchaře Petra Stokláska naučíte připravit výtečné 4-chodové menu. Kromě příjemně strávených chvil u plotny si odnesete i spoustu užitečných praktických znalostí\, krásných zážitků\, sadu receptů a podepsaný certifikát.  \nO alko a nealko režim bude po celou dobu postaráno. \nKurzy probíhají od 17 do 21 hodin v malých skupinkách a díky tomu budete mít plnou pozornost našich šéfů.  \nTěšíme se na vás ve stylových prostorách Bistro Paulus \nPartnerem školy vaření s Romanem Paulusem je Tescoma. \n—- \n  \nNa akci může být pořizován obrazový záznam pro marketingové účely. Pořízené záznamy můžou být použity zejména na našem webu a sociálních sítích. \n\nTento tip na kulturní akci v Olomouc najdete v přehledu na Dnesnivylet.cz spolu s dalšími koncerty\, festivaly a divadelními představeními.Každý si vybere co se mu líbí. Nezapomeňte koupit vstupenky včas\, stačí kliknout a budete přesměrování na oficiálního prodejce vstupenek.
URL:https://dnesnivylet.cz/event/skola-vareni-s-romanem-paulusem-maso-a-omacky-v-kuchyni/
LOCATION:Bistro Paulus\, Olomouc\, Bistro Paulus\, Olomouc\, Česká republika
CATEGORIES:Festival
ATTACH;FMTTYPE=image/jpeg:https://dnesnivylet.cz/wp-content/uploads/2025/11/320-1beba168d38f46bbaf2c895d206276e1.jpg
END:VEVENT
BEGIN:VEVENT
DTSTART;TZID=Europe/Prague:20260422T170000
DTEND;TZID=Europe/Prague:20260422T200000
DTSTAMP:20260419T133340
CREATED:20260419T121358Z
LAST-MODIFIED:20260419T121358Z
UID:20810-1776877200-1776888000@dnesnivylet.cz
SUMMARY:Modrotisk
DESCRIPTION:Modrotisk se uskuteční dne 2026-04-22 v 17:00 v Třebíč\, Šmeralův statek. \n🎟️ Koupit vstupenku \n\nZveme vás do Centra tradiční lidové kultury v Třebíči na modrotiskový workshop\, kde si s pomocí tzv. tiskařské reservy (popu) vytvoříte rozmanitými výtvarnými technikami vlastní modrotiskový vzor na připravené plátno. Vaše dílo bude následně obarveno v modrotiskové dílně v Olešnici a vám se za krátký čas vrátí váš hotový originální modrotisk. \nDélka workshopu: 2–3 hodiny\, lektor: Milan Noha. \n\nTento tip na kulturní akci v Třebíč najdete v přehledu na Dnesnivylet.cz spolu s dalšími koncerty\, festivaly a divadelními představeními.Každý si vybere co se mu líbí. Nezapomeňte koupit vstupenky včas\, stačí kliknout a budete přesměrování na oficiálního prodejce vstupenek.
URL:https://dnesnivylet.cz/event/modrotisk/
LOCATION:Šmeralův statek\, Třebíč\, Šmeralův statek\, Třebíč\, Česká republika
CATEGORIES:Zábava
ATTACH;FMTTYPE=image/jpeg:https://dnesnivylet.cz/wp-content/uploads/2026/04/320-81f5769f716444e59973e69da440dab8.jpg
END:VEVENT
END:VCALENDAR