BEGIN:VCALENDAR
VERSION:2.0
PRODID:-//www.dnesnivylet.cz                                                                                                                        Tip na výlet pro celou rodinu. - ECPv6.15.13.1//NONSGML v1.0//EN
CALSCALE:GREGORIAN
METHOD:PUBLISH
X-ORIGINAL-URL:https://dnesnivylet.cz
X-WR-CALDESC:Akce na www.dnesnivylet.cz                                                                                                                        Tip na výlet pro celou rodinu.
REFRESH-INTERVAL;VALUE=DURATION:PT1H
X-Robots-Tag:noindex
X-PUBLISHED-TTL:PT1H
BEGIN:VTIMEZONE
TZID:Europe/Prague
BEGIN:DAYLIGHT
TZOFFSETFROM:+0100
TZOFFSETTO:+0200
TZNAME:CEST
DTSTART:20250330T010000
END:DAYLIGHT
BEGIN:STANDARD
TZOFFSETFROM:+0200
TZOFFSETTO:+0100
TZNAME:CET
DTSTART:20251026T010000
END:STANDARD
BEGIN:DAYLIGHT
TZOFFSETFROM:+0100
TZOFFSETTO:+0200
TZNAME:CEST
DTSTART:20260329T010000
END:DAYLIGHT
BEGIN:STANDARD
TZOFFSETFROM:+0200
TZOFFSETTO:+0100
TZNAME:CET
DTSTART:20261025T010000
END:STANDARD
BEGIN:DAYLIGHT
TZOFFSETFROM:+0100
TZOFFSETTO:+0200
TZNAME:CEST
DTSTART:20270328T010000
END:DAYLIGHT
BEGIN:STANDARD
TZOFFSETFROM:+0200
TZOFFSETTO:+0100
TZNAME:CET
DTSTART:20271031T010000
END:STANDARD
END:VTIMEZONE
BEGIN:VEVENT
DTSTART;TZID=Europe/Prague:20260425T100000
DTEND;TZID=Europe/Prague:20260425T130000
DTSTAMP:20260419T133257
CREATED:20260321T195241Z
LAST-MODIFIED:20260321T195241Z
UID:19685-1777111200-1777122000@dnesnivylet.cz
SUMMARY:Mezinárodní výstava Kočky Praha 2026
DESCRIPTION:Mezinárodní výstava Kočky Praha 2026 se uskuteční dne 2026-04-25 v 10:00 v Praha\, Kongresové centrum TOP hotel Praha. \n🎟️ Koupit vstupenku \n\nPropagační výstava koček je určena pro všechny milovníky koček\, kteří si chtějí kočky nejen prohlédnout\, ale i pohladit. Pro děti bude tradičně připraveno mnoho zábavy\, soutěží a radosti s kočičí tématikou. \nPro širokou veřejnost pak samostatná útulková expozice\, vzdělávací přednášky\, ukázky felinoterapie a výcviku koček atd. \n\nTento tip na kulturní akci v Praha najdete v přehledu na Dnesnivylet.cz spolu s dalšími koncerty\, festivaly a divadelními představeními.Každý si vybere co se mu líbí. Nezapomeňte koupit vstupenky včas\, stačí kliknout a budete přesměrování na oficiálního prodejce vstupenek.
URL:https://dnesnivylet.cz/event/mezinarodni-vystava-kocky-praha-2026/
LOCATION:Kongresové centrum TOP hotel Praha\, Praha\, Kongresové centrum TOP hotel Praha\, Praha\, Česká republika
CATEGORIES:Zábava
ATTACH;FMTTYPE=image/jpeg:https://dnesnivylet.cz/wp-content/uploads/2026/03/320-b1c02955838545f1b42c53908f23ec03.jpg
END:VEVENT
END:VCALENDAR