BEGIN:VCALENDAR
VERSION:2.0
PRODID:-//www.dnesnivylet.cz                                                                                                                        Tip na výlet pro celou rodinu. - ECPv6.15.13.1//NONSGML v1.0//EN
CALSCALE:GREGORIAN
METHOD:PUBLISH
X-ORIGINAL-URL:https://dnesnivylet.cz
X-WR-CALDESC:Akce na www.dnesnivylet.cz                                                                                                                        Tip na výlet pro celou rodinu.
REFRESH-INTERVAL;VALUE=DURATION:PT1H
X-Robots-Tag:noindex
X-PUBLISHED-TTL:PT1H
BEGIN:VTIMEZONE
TZID:Europe/Prague
BEGIN:DAYLIGHT
TZOFFSETFROM:+0100
TZOFFSETTO:+0200
TZNAME:CEST
DTSTART:20250330T010000
END:DAYLIGHT
BEGIN:STANDARD
TZOFFSETFROM:+0200
TZOFFSETTO:+0100
TZNAME:CET
DTSTART:20251026T010000
END:STANDARD
BEGIN:DAYLIGHT
TZOFFSETFROM:+0100
TZOFFSETTO:+0200
TZNAME:CEST
DTSTART:20260329T010000
END:DAYLIGHT
BEGIN:STANDARD
TZOFFSETFROM:+0200
TZOFFSETTO:+0100
TZNAME:CET
DTSTART:20261025T010000
END:STANDARD
BEGIN:DAYLIGHT
TZOFFSETFROM:+0100
TZOFFSETTO:+0200
TZNAME:CEST
DTSTART:20270328T010000
END:DAYLIGHT
BEGIN:STANDARD
TZOFFSETFROM:+0200
TZOFFSETTO:+0100
TZNAME:CET
DTSTART:20271031T010000
END:STANDARD
END:VTIMEZONE
BEGIN:VEVENT
DTSTART;TZID=Europe/Prague:20260520T190000
DTEND;TZID=Europe/Prague:20260520T220000
DTSTAMP:20260419T144052
CREATED:20251214T071835Z
LAST-MODIFIED:20251214T071835Z
UID:15114-1779303600-1779314400@dnesnivylet.cz
SUMMARY:MAOK - Pokojná hladina
DESCRIPTION:MAOK – Pokojná hladina se uskuteční dne 2026-05-20 v 19:00 v Plzeň\, Kostel Mistra Jana Husi. \n🎟️ Koupit vstupenku \n\nZveme vás na mimořádný hudební večer\, který se odehraje v prostoru\, jenž sám o sobě nese ticho\, hloubku a duchovní rezonanci.Kostel Mistra Jana Husa v Plzni – architektonicky čistý\, akusticky citlivý\, atmosférou hluboce lidský – se poprvé stane dějištěm Maokova koncertu.Maok vystoupí v tomto kostele poprvé\, a právě jedinečnost místa dodá jeho hudbě nový rozměr. Tóny\, které hladí duši\, se rozlijí pod klenbou\, jež pamatuje ticho\, slovo i zpěv.Zvuk\, který se nedá popsat. Prostor\, který se nedá zapomenout. Přítomnost\, která se nedá naplánovat. \n\nTento tip na kulturní akci v Plzeň najdete v přehledu na Dnesnivylet.cz spolu s dalšími koncerty\, festivaly a divadelními představeními.Každý si vybere co se mu líbí. Nezapomeňte koupit vstupenky včas\, stačí kliknout a budete přesměrování na oficiálního prodejce vstupenek.
URL:https://dnesnivylet.cz/event/maok-pokojna-hladina/
LOCATION:Kostel Mistra Jana Husi\, Plzeň\, Kostel Mistra Jana Husi\, Plzeň\, Česká republika
CATEGORIES:Koncert
ATTACH;FMTTYPE=image/jpeg:https://dnesnivylet.cz/wp-content/uploads/2025/12/320-b554946c129b4cb8a1edaf3510076c66.jpg
END:VEVENT
END:VCALENDAR