BEGIN:VCALENDAR
VERSION:2.0
PRODID:-//www.dnesnivylet.cz                                                                                                                        Tip na výlet pro celou rodinu. - ECPv6.15.13.1//NONSGML v1.0//EN
CALSCALE:GREGORIAN
METHOD:PUBLISH
X-ORIGINAL-URL:https://dnesnivylet.cz
X-WR-CALDESC:Akce na www.dnesnivylet.cz                                                                                                                        Tip na výlet pro celou rodinu.
REFRESH-INTERVAL;VALUE=DURATION:PT1H
X-Robots-Tag:noindex
X-PUBLISHED-TTL:PT1H
BEGIN:VTIMEZONE
TZID:Europe/Prague
BEGIN:DAYLIGHT
TZOFFSETFROM:+0100
TZOFFSETTO:+0200
TZNAME:CEST
DTSTART:20250330T010000
END:DAYLIGHT
BEGIN:STANDARD
TZOFFSETFROM:+0200
TZOFFSETTO:+0100
TZNAME:CET
DTSTART:20251026T010000
END:STANDARD
BEGIN:DAYLIGHT
TZOFFSETFROM:+0100
TZOFFSETTO:+0200
TZNAME:CEST
DTSTART:20260329T010000
END:DAYLIGHT
BEGIN:STANDARD
TZOFFSETFROM:+0200
TZOFFSETTO:+0100
TZNAME:CET
DTSTART:20261025T010000
END:STANDARD
BEGIN:DAYLIGHT
TZOFFSETFROM:+0100
TZOFFSETTO:+0200
TZNAME:CEST
DTSTART:20270328T010000
END:DAYLIGHT
BEGIN:STANDARD
TZOFFSETFROM:+0200
TZOFFSETTO:+0100
TZNAME:CET
DTSTART:20271031T010000
END:STANDARD
END:VTIMEZONE
BEGIN:VEVENT
DTSTART;TZID=Europe/Prague:20260521T190000
DTEND;TZID=Europe/Prague:20260521T220000
DTSTAMP:20260419T160243
CREATED:20251222T145810Z
LAST-MODIFIED:20251222T145811Z
UID:15891-1779390000-1779400800@dnesnivylet.cz
SUMMARY:Lupínky růží - MAOK a Martina Viktorie Kopecká
DESCRIPTION:Lupínky růží – MAOK a Martina Viktorie Kopecká se uskuteční dne 2026-05-21 v 19:00 v Praha\, Kostel sv. Šimona a Judy. \n🎟️ Koupit vstupenku \n\nZveme vás na jeden z nejsladších zážitků jara. Koncert Maoka a čtení z Písně písní v podání Martiny Viktorie Kopecké v kostele sv. Šimona a Judy. \nDovolte starobylým veršům\, ať se dotknou vašeho srdce. Nechte hudbu\, ať zasáhne celé vaše bytí. \nPřijďte sami\, nebo se svou drahou polovičkou. Bude to nezapomenutelný večer. \nNěkteří z vás už podobný večer před pár lety zažili a vědí. Michal nám napsal: \n„Na tenhle večer…na tenhle koncert… Na to nejde zapomenout… Neboť se to nějakým….racionálně jen těžko uchopitelným způsobem…tak bytostně a niterně dotklo mého Srdce…skrz které ke mně promluvila má Duše…a jejím prostřednictví ke mně promlouval v té chvíli Život sám.  \nMožná i proto\, že jsem to prožil společně s ženou mého Srdce. Dotklo se nás to tehdy velmi podobně a společně jsme to i velmi hluboce prožili. Čas však běží dál…a ať už to dopadlo a je teď mezi námi jakkoliv… V mém Srdci už to zůstane navždy. A nejen za to… Děkuji…🙏🙏“ Michal \n\nTento tip na kulturní akci v Praha najdete v přehledu na Dnesnivylet.cz spolu s dalšími koncerty\, festivaly a divadelními představeními.Každý si vybere co se mu líbí. Nezapomeňte koupit vstupenky včas\, stačí kliknout a budete přesměrování na oficiálního prodejce vstupenek.
URL:https://dnesnivylet.cz/event/lupinky-ruzi-maok-a-martina-viktorie-kopecka/
LOCATION:Kostel sv. Šimona a Judy\, Praha\, Kostel sv. Šimona a Judy\, Praha\, Česká republika
CATEGORIES:Koncert
ATTACH;FMTTYPE=image/jpeg:https://dnesnivylet.cz/wp-content/uploads/2025/12/320-ea1391e7788d4ea1aabd1cf08fcab25e.jpg
END:VEVENT
END:VCALENDAR